﻿
BEGIN:VCALENDAR
VERSION:2.0
PRODID:-//Mérida - ECPv3.8.1//NONSGML v1.0//EN
CALSCALE:GREGORIAN
METHOD:PUBLISH
X-WR-CALNAME:Mérida
X-ORIGINAL-URL:http://merida.es
X-WR-CALDESC:Events for Mérida
X-WR-TIMEZONE:Europe/Madrid
BEGIN:VEVENT
DTSTART;VALUE=DATE:20161222
DTEND;VALUE=DATE:20180101
DTSTAMP:20170714T042142
CREATED:20161223T113719
LAST-MODIFIED:20170120T172049
UID:46692-1482364800-1514764800@http://merida.es
SUMMARY:Exposición 'Momentos y Monumentos'
DESCRIPTION:La exposición ‘Momentos y Monumentos’ repasa los veinte años de historia del Consorcio de la Ciudad Monumental de Mérida\, sus gentes y sus métodos de trabajo\, así como de dos décadas de dedicación al patrimonio histórico y arqueológico de Mérida. Se trata de una de las principales actividades del programa conmemorativo de este vigésimo aniversario\, junto al proyecto ‘20 años\, 20 monumentos’\, que ha ofrecido durante este año visitas guiadas a espacios normalmente menos accesibles para el público; y el congreso internacional que se celebrará el próximo marzo.  El Consorcio de la Ciudad Monumental Histórica Artística y Arqueológica de Mérida se creó en 1996\, sucesor del antiguo Patronato. Su puesta en marcha estuvo vinculada a la entonces reciente inclusión de Mérida en la lista de Patrimonio Mundial de la UNESCO o el interés de la Junta de Extremadura por impulsar la gestión arqueológica del yacimiento emeritense.  El organismo nació a partir del acuerdo entre las principales instituciones con competencias en materia de gestión del patrimonio histórico\, como son el Gobierno extremeño\, el Ayuntamiento de Mérida\, el Ministerio de Cultura y la Diputación de Badajoz. Posteriormente\, se unieron la Asamblea y la Diputación de Cáceres.  La exposición se podrá ver en la Sala Decumanus durante todo el año 2017. El horario es de 10 a 14 horas y de 18 a 20 horas los lunes\, jueves\, viernes\, sábados y domingos.
URL:http://merida.es/agenda/exposicion-momentos-y-monumentos/
LOCATION:Puerta de la Villa, Mérida
CATEGORIES:Exposición
ATTACH;FMTTYPE=image/jpeg:http://merida.es/wp-content/uploads/2016/12/momentos-monumentos-peq.jpg
END:VEVENT
BEGIN:VEVENT
DTSTART;VALUE=DATE:20170411
DTEND;VALUE=DATE:20180101
DTSTAMP:20170714T042142
CREATED:20170411T103515
LAST-MODIFIED:20170411T103928
UID:49351-1491868800-1514764800@http://merida.es
SUMMARY:Exposición 'Arrecifes del tiempo. Arqueología, fotografía y literatura en Mérida'
DESCRIPTION:[one_half]    [/one_half]  [one_half_last]    [/one_half_last]  Con esta Exposición\, que permanecerá abierta desde el 11 de abril hasta el 31 de diciembre de 2017\, se pretende mostrar a los visitantes la incidencia que el paso del tiempo ha tenido sobre los monumentos emeritenses y sobre la propia ciudad que los acogió y que aprendió a convivir con ellos.  La línea de tiempo del discurso expositivo comprende desde los testimonios literarios más antiguos de los que se tiene constancia (s. IV d.C.) hasta la contemporaneidad.  Fotografías a gran escala de monumentos emeritenses\, piezas arqueológicas de nuestra colección y documentos históricos entran en fluido diálogo para mostrar al visitante la incidencia que el paso del tiempo ha tenido en el conjunto monumental de Mérida\, modificando sustancialmente su fisonomía externa o\, en el peor de los casos\, haciéndolo desaparecer parcial o totalmente.
URL:http://merida.es/agenda/exposicion-arrecifes-del-tiempo-arqueologia-fotografia-y-literatura-en-merida/
LOCATION:Calle José Ramón Mélida, Mérida, Badajoz, 06800, España
CATEGORIES:Exposición
ATTACH;FMTTYPE=image/jpeg:http://merida.es/wp-content/uploads/2017/04/expo-arrecifes-museo.jpg
END:VEVENT
BEGIN:VEVENT
DTSTART;VALUE=DATE:20170612
DTEND;VALUE=DATE:20170716
DTSTAMP:20170714T042142
CREATED:20170612T084348
LAST-MODIFIED:20170612T084348
UID:51014-1497225600-1500163200@http://merida.es
SUMMARY:Exposición 'MACE - 10 años del Museu de Arte Contemporânea de Elvas'
DESCRIPTION:  Del 12 de junio al 15 de julio se exponen en el Centro Cultural de la Fundación Caja Badajoz obras pertenecientes al Museu de Arte Contemporânea de Elvas con motivo de su décimo aniversario. Se trata de obras de Luís Palma\, Joâo María Gusmâo\, Pedro Paiva y Augusto Alves da Silva.  Se podrá visitar de 10:00 a 13:30 y de 18:00 a 21:00 de lunes a sábados y de 10:00 a 13:30 los domingos.
URL:http://merida.es/agenda/exposicion-mace-10-anos-del-museu-de-arte-contemporanea-de-elvas/
LOCATION:Plaza de Santo Domingo, s/n, Mérida
CATEGORIES:Exposición
ATTACH;FMTTYPE=image/jpeg:http://merida.es/wp-content/uploads/2017/06/mace-merida-expo-peq.jpg
END:VEVENT
BEGIN:VEVENT
DTSTART;VALUE=DATE:20170701
DTEND;VALUE=DATE:20170901
DTSTAMP:20170714T042142
CREATED:20170710T102611
LAST-MODIFIED:20170710T102611
UID:51702-1498867200-1504224000@http://merida.es
SUMMARY:Exposición fotográfica Agusto en Mérida
DESCRIPTION:  TAPTC? Teatro cumple 30 años de actividad teatral y para conmemorarlo se recogen imágenes de su trabajo en las últimas ediciones del Festival de Teatro de Mérida a través de la programación 'Agusto en Mérida'.
URL:http://merida.es/agenda/exposicion-fotografica-agusto-en-merida/
LOCATION:Calle Santa Julia, 5, Mérida
CATEGORIES:Exposición
ATTACH;FMTTYPE=image/jpeg:http://merida.es/wp-content/uploads/2017/07/expo-agusto-merida-img.jpg
END:VEVENT
BEGIN:VEVENT
DTSTART;VALUE=DATE:20170701
DTEND;VALUE=DATE:20180101
DTSTAMP:20170714T042142
CREATED:20170710T103736
LAST-MODIFIED:20170710T104147
UID:51706-1498867200-1514764800@http://merida.es
SUMMARY:Exposición 'Mulieres. Mujeres en Augusta Emerita'
DESCRIPTION:  El Museo Nacional de Arte Romano presenta en esta exposición\, de manera visual y documentada\, una importante colección de piezas y textos que nos recuerdan el papel de las mujeres romanas en una capital provincial del occidente del Imperio\, Augusta Emerita. Las piezas nos permiten realizar una narración\, destinada a acompañar al espectador\, que le ilustre sobre las diversas facetas vitales de las mujeres romanas.  La vida pública\, roles y cargos institucionales desempeñados por mujeres asociadas al poder. La vida privada\, un universo donde la mujer cumplía su principal función de esposa y madre. La vida religiosa\, con cargos dedicados al mundo de los cultos como expresión de ascenso social. La via cultural\, un marco donde la mujer era tanto fuente de inspiración como elemento de creación. Y todo ello se articulará en las salas del MNAR para acercar el pasado al presente.  Se podrá visitar en el Museo hasta el mes de diciembre.
URL:http://merida.es/agenda/exposicion-mulieres-mujeres-en-augusta-emerita/
LOCATION:Calle José Ramón Mélida, Mérida, Badajoz, 06800, España
CATEGORIES:Exposición
ATTACH;FMTTYPE=image/jpeg:http://merida.es/wp-content/uploads/2017/07/mulieres-expo-peq.jpg
END:VEVENT
BEGIN:VEVENT
DTSTART;VALUE=DATE:20170712
DTEND;VALUE=DATE:20170717
DTSTAMP:20170714T042142
CREATED:20170609T122428
LAST-MODIFIED:20170609T122526
UID:50957-1499817600-1500249600@http://merida.es
SUMMARY:63 Festival de Teatro Clásico: "Calígula"
DESCRIPTION:Mario Gas dirige Calígula de Albert Camus\, un montaje protagonizado por Pablo Derqui y que trata temas recurrentes en la obra del autor como el absurdo existencial\, la enajenación metafísica\, el sufrimiento y la lógica del poder.     Calígula es una de las grandes piezas dramáticas de Albert Camus. Basada en el Emperador Romano descrito por Suetonius\, Calígula es en realidad una serie de obras dentro de una única pieza. El protagonista de la obra\, interpretado por Derqui\, se encuentra cara a cara con lo absurdo tras la muerte de su hermana/amante y somete a sus súbditos a una aterradora serie de demostraciones de lo que él considera ser la verdad absurda: que los hombres mueren y son infelices.    Calígula quiere sostener la luna en sus manos. Hacerlo es imposible. Enviar a su amigo Helicon para encontrarla\, verla flotando en la superficie de un lago y dragarlo fuera del agua\, es absurdo. Sabe que está pidiendo lo imposible. Sería igualmente imposible\, en su mente\, enviar a Helicon a buscar significado en el universo\, una justificación para vivir la propia vida de una manera o de otra.     Si no puede conseguir la luna en sus manos y sabe que no puede\, entonces se conformará con que todos entiendan la verdad del mundo: “Haré de ellos un regalo real\, el regalo de la igualdad. Y cuando todo está nivelado\, cuando el imposible ha venido a la tierra y la luna está en mis manos -entonces\, tal vez\, seré transfigurado y el mundo renovado; Entonces los hombres no morirán más y por fin serán felices”.    REPARTO: Pablo Derqui\, Borja Espinosa\, Pep Ferrer\, Mónica López\, Pep Molina\, Anabel Moreno\, Ricardo Moya\, Bernat Quintana\, Xavier Ripoll  AUTOR: Albert Camus  DRAMATURGIA Y DIRECCIÓN: Mario Gas    Más información y venta de entradas: Web Festival Teatro Clásico
URL:http://merida.es/agenda/63-festival-de-teatro-clasico-caligula/
LOCATION:Plaza de Margarita Xirgú, Mérida
CATEGORIES:Teatro
ATTACH;FMTTYPE=image/jpeg:http://merida.es/wp-content/uploads/2017/06/caligula-peq.jpg
END:VEVENT
BEGIN:VEVENT
DTSTART;VALUE=DATE:20170712
DTEND;VALUE=DATE:20170723
DTSTAMP:20170714T042142
CREATED:20170711T141536
LAST-MODIFIED:20170711T142055
UID:51793-1499817600-1500768000@http://merida.es
SUMMARY:Ciclo de conferencias:  ‘VI Encuentro con los Clásicos’
DESCRIPTION:  Todas las conferencias\, seguidas de debate\, serán a las 19:00 horas en el Museo nacional de Arte romano con asistencia libre.  Miércoles 12 de Julio  CALÍGULA  de Albert Camus.  Del Calígula de Suetonio al Calígula de Camus. Dura crítica a la libertad existencialista. Conferenciante: Eustaquio Sánchez Salor (Universidad de Extremadura)  Jueves 13 de Julio  SÉNECA  de Antonio Gala  Conferenciante: Joaquín Villalba Álvarez (Universidad de Extremadura)  Viernes 14 de Julio  LA BELLA HELENA  Conferenciante: Cláudia do Amparo Afonso Teixeira (Universidad de Évora)  Miércoles 19 de Julio  LA COMEDIA DE LAS MENTIRAS  basada en textos de Plauto  Conferenciante: Matías López López (catedrático de latín de la Universidad de Lérida)  Viernes 21 de Julio  LAS TROYANAS  versión de Alberto Conejero.  Las Troyanas como tragedia de conflicto entre derechos.  Conferenciante: Santiago López Moreda (Universidad de Extremadura)  Sábado 22 de Julio  VIRIATO  versión de Florián Recio.  “Viriato: entre el mito y realidad en Lusitania”.  Conferenciante: Trinidad Nogales Basarrate (Conservadora del MNAR\, Mérida)
URL:http://merida.es/agenda/ciclo-de-conferencias-vi-encuentro-con-los-clasicos/
LOCATION:Calle José Ramón Mélida, Mérida, Badajoz, 06800, España
CATEGORIES:Charla-Conferencia
ATTACH;FMTTYPE=image/jpeg:http://merida.es/wp-content/uploads/2017/07/conferencias-museo.jpg
END:VEVENT
BEGIN:VEVENT
DTSTART;VALUE=DATE:20170713
DTEND;VALUE=DATE:20170715
DTSTAMP:20170714T042142
CREATED:20170710T101803
LAST-MODIFIED:20170713T112345
UID:51698-1499904000-1500076800@http://merida.es
SUMMARY:Teatro (Agusto en Mérida): "Edipo y los Labdácidas: ¡qué familia!"
DESCRIPTION:Original de Raquel Bazo y Javier Llanos sobre el ciclo tebano (Edipo Rey\, Edipo en Colono\, Los siete contra Tebas y Antígona).  Sinopsis: Recorrido en clave de humor por el ciclo Tebano\, que se inicia con el Rapto de Europa\, continua con la fundación de Tebas\, la saga de los Labdácidas\, el Oráculo\, la llegada de Edipo a la ciudad... hasta la muerte de Antígona. Se narran los acontecimientos principales de las tragedias mencionadas y se relacionan con las teorías que en torno a ellas se han escrito a lo largo de los años. Los intérpretes presentan los distintos personajes al tiempo que ejemplifican las acciones a un ritmo vertiginoso\, incorporando gags cómicos en momentos trascendentes como refuerzo de la trama.  Argumentación: Este espectáculo fue el primer montaje profesional de teatro grecolatino que realizó TAPTC? TEATRO. Se estrenó en Gijón en el año 2002 y estuvo en gira hasta 2008. Se recuperó en 2010 para ser la primera intervención profesional de TAPTC? TEATRO dentro del Festival Internacional de Teatro Clásico de Mérida. En 2017 sirve para celebrar el 30 aniversario de la compañía.  Género: Cómico Contemporáneo.  Los días 13 y 14 de julio en el Pórtico del Foro a partir de las 21:30 horas.
URL:http://merida.es/agenda/teatro-agusto-en-merida-edipo-y-los-labdacidas-que-familia/
CATEGORIES:Teatro
ATTACH;FMTTYPE=image/jpeg:http://merida.es/wp-content/uploads/2017/07/agusto-en-merida-teatro-peq.jpg
END:VEVENT
BEGIN:VEVENT
DTSTART;VALUE=DATE-TIME:20170714T180000
DTEND;VALUE=DATE-TIME:20170714T180000
DTSTAMP:20170714T042142
CREATED:20170208T181118
LAST-MODIFIED:20170208T181637
UID:47664-1500055200-1500055200@http://merida.es
SUMMARY:Stone & Music Festival: Scorpions
DESCRIPTION:  Tras la espectacular gira del año pasado por nuestro país\, la banda de Klaus Meine\, Rudolf Schenker\, Mathias Jabs acompañados de Pawel Maciwoda y Mikkey Dee llegan a Mérida continuando la presentación de su último y exitoso trabajo “Return to Forever”.  Con más de 50 años sobre los escenarios y más de 100 millones de discos vendidos en todo el mundo e innumerables giras mundiales hasta la actualidad\, SCORPIONS se han convertido en una garantía de éxito y lo van a demostrar una vez más en el escenario de Mérida el próximo mes de julio.  Serán sólo dos conciertos en España en este 2017\, uno en Torrelavega y el otro en la capital extremeña.  Con nuevos temas y sobre todo interpretando su inacabable repertorio de hits como “Blackout”\, “Rock You Like a Hurricane”\, “Wind of Change” y la celebérrima “Still Loving You”\, SCORPIONS nos llevarán a todos en un viaje por lo mejor de su carrera musical.  El grupo alemán no llegará solo el viernes 14 de julio al Albergue Juvenil “El Prado”. Le acompañarán los cordobeses MEDINA AZAHARA y los extremeños BUCÉFALO.  Venta de entradas: http://stoneandmusicfestival.com/
URL:http://merida.es/agenda/stone-music-festival-scorpions/
LOCATION:Calle Zaragoza s/n, Mérida
CATEGORIES:Música
ATTACH;FMTTYPE=image/jpeg:http://merida.es/wp-content/uploads/2017/02/scorpions-img.jpg
END:VEVENT
BEGIN:VEVENT
DTSTART;VALUE=DATE-TIME:20170714T223000
DTEND;VALUE=DATE-TIME:20170714T223000
DTSTAMP:20170714T042142
CREATED:20170712T175208
LAST-MODIFIED:20170712T175208
UID:51935-1500071400-1500071400@http://merida.es
SUMMARY:Cine al Aire Libre: "Operación cacahuete"
DESCRIPTION:Durante los viernes de julio y agosto tendrá lugar el undécimo ciclo de Cine al aire libre en el Parque de las Siete Sillas en una actividad incluida entre las medidas en materia de prevención y alternativas de ocio saludable de la Ley de Convivencia y del ocio de Extremadura.  Todas las películas se proyectan a las 22:30 h. con entrada libre.  Viernes 14 de julio  OPERACIÓN CACAHUETE  2014. Canadá. Animación\, Comedia  Dirección: Peter Lepeniotis  Guión: Peter Lepeniotis\, Lorne Cameron\, Daniel Woo  Sinopsis: La ardilla Surly y su amigo Buddy planean dar el gran golpe de su vida a una tienda de frutos secos. Prácticamente sin darse cuenta\, se ven envueltos en el atraco a un banco que planean a su vez unos gángsters. Operación Cacahuete es una divertida comedia de aventuras para toda la familia.
URL:http://merida.es/agenda/cine-al-aire-libre-operacion-cacahuete/
LOCATION:Mérida
CATEGORIES:Cine
ATTACH;FMTTYPE=image/jpeg:http://merida.es/wp-content/uploads/2017/07/operacion-cacahuete-peq.jpg
END:VEVENT
END:VCALENDAR