﻿BEGIN:VCALENDAR
VERSION:2.0
PRODID:-//Ayuntamiento de Mérida - ECPv6.15.17.1//NONSGML v1.0//EN
CALSCALE:GREGORIAN
METHOD:PUBLISH
X-ORIGINAL-URL:https://merida.es
X-WR-CALDESC:Eventos para Ayuntamiento de Mérida
REFRESH-INTERVAL;VALUE=DURATION:PT1H
X-Robots-Tag:noindex
X-PUBLISHED-TTL:PT1H
BEGIN:VTIMEZONE
TZID:Europe/Madrid
BEGIN:DAYLIGHT
TZOFFSETFROM:+0100
TZOFFSETTO:+0200
TZNAME:CEST
DTSTART:20150329T010000
END:DAYLIGHT
BEGIN:STANDARD
TZOFFSETFROM:+0200
TZOFFSETTO:+0100
TZNAME:CET
DTSTART:20151025T010000
END:STANDARD
BEGIN:DAYLIGHT
TZOFFSETFROM:+0100
TZOFFSETTO:+0200
TZNAME:CEST
DTSTART:20160327T010000
END:DAYLIGHT
BEGIN:STANDARD
TZOFFSETFROM:+0200
TZOFFSETTO:+0100
TZNAME:CET
DTSTART:20161030T010000
END:STANDARD
BEGIN:DAYLIGHT
TZOFFSETFROM:+0100
TZOFFSETTO:+0200
TZNAME:CEST
DTSTART:20170326T010000
END:DAYLIGHT
BEGIN:STANDARD
TZOFFSETFROM:+0200
TZOFFSETTO:+0100
TZNAME:CET
DTSTART:20171029T010000
END:STANDARD
END:VTIMEZONE
BEGIN:VEVENT
DTSTART;VALUE=DATE:20160303
DTEND;VALUE=DATE:20160401
DTSTAMP:20260420T063653
CREATED:20160301T182409Z
LAST-MODIFIED:20160301T182409Z
UID:37721-1456963200-1459468799@merida.es
SUMMARY:Exposición de pintura: 'Rumor de Besos\, Batir de Alas'
DESCRIPTION:Presentamos una muestra formada por 32 obras que poseen un carácter intimista acentuado por la composición; un entorno figurativo con la presencia de las figuras donde se hace presente también la abstracción. Las autoras\, Esther García y Carmina Santos\, la han titulado “Rumor de besos\, batir de alas” buscando la belleza cromática y emotiva y poniendo alas a los besos. Se trata de obras que provienen de dos géneros contrapuestos que se encuentran.\nCada obra es obra de dos y cada una es símbolo de mesura y de respeto a la otra en un acto de confianza. Además estas dos artistas proponen al espectador una mirada especial\, una forma de ver que obliga a contemplar la obra a través de una mirilla. Las técnicas utilizadas han sido óleos y acrílicos sobre lienzos\, imprimiendo su propio carácter personal. Cada una de las obras va acompañada\, en el caso de Carmina Santos\, de poemas realizados expresamente para cada obra y por diferentes autores. Por su parte Esther G. acompaña una sinopsis de las distintas películas\, protagonista de su obra y escritos por ella misma.\nEsther García\, nacida en Plasencia y residente en Cáceres\, construye una interacción monocromática\, llena de luz\, de sus dos pasiones\, la pintura y el cine. El protagonista absoluto es el BESO\, esos besos tan acostumbrados a ver desde bien pequeña en la gran pantalla\, imágenes de besos que cobran vida desde lo fugaz del cine hasta la eternidad de los trazos en sus lienzos.\nPor su lado Carmina Santos concibe una Exposición con fondo y fundamento\, con un eje conceptual y muy razonada\, muy suya\, muy desde dentro. Rompe el formato quedándolo en un planteamiento\, en unos trazos más\, para que el espectador intuya.\nLa exposición podrá visitarse en el Centro Cultural de Caja Badajoz\, de lunes a viernes\, de 19 a 21 horas\, durante todo el mes de marzo.
URL:https://merida.es/agenda/exposicion-de-pintura-rumor-de-besos-batir-de-alas/
LOCATION:Centro Cultural Santo Domingo Fundación CB\, Plaza de Santo Domingo\, s/n\, Mérida
CATEGORIES:Exposición
ATTACH;FMTTYPE=image/jpeg:https://merida.es/wp-content/uploads/2016/03/Batir-alas-img.jpg
END:VEVENT
BEGIN:VEVENT
DTSTART;VALUE=DATE:20160307
DTEND;VALUE=DATE:20160401
DTSTAMP:20260420T063653
CREATED:20160309T100101Z
LAST-MODIFIED:20160309T100101Z
UID:38044-1457308800-1459468799@merida.es
SUMMARY:Exposición "Duende y silencio" de Carmen Palop
DESCRIPTION:Hasta finales de marzo estará expuesta en el Patio Noble de la Asamblea de Extremadura «Duende y Silencio» de Carmen Palop.\nSe trata de una exposición compuesta por 28 obras protagonizadas por mujeres y que tiene como hilos conductores el dolor y el olvido. La autora de las obras\, Carmen Palop\, pretende dar visibilidad a las mujeres que hacen posible el flamenco y que juegan un papel importante en la cultura. Lo hace de dos formas. Una a través del quejío de cantaoras como fuerza que arrebata al artista\, y por otro lado\, recordando a mujeres del pasado vinculadas al flamenco.\nSon obras en diferentes soportes donde ha utilizado técnicas mixtas mezclando impresiones fotográficas con pintura\, acrílico\, óleo\, y muchas más. Carmen Palop ha evolucionado en el proceso creativo y se ha dejado conquistar por las mujeres antiguas de principio de siglo.
URL:https://merida.es/agenda/exposicion-duende-y-silencio-de-carmen-palop/
LOCATION:Asamblea de Extremadura\, Plaza San Juan de Dios s/n\, Mérida
CATEGORIES:Exposición
ATTACH;FMTTYPE=image/jpeg:https://merida.es/wp-content/uploads/2016/03/duende-silencio-expo-peq.jpg
END:VEVENT
BEGIN:VEVENT
DTSTART;VALUE=DATE:20160309
DTEND;VALUE=DATE:20160328
DTSTAMP:20260420T063653
CREATED:20160316T073346Z
LAST-MODIFIED:20160316T073346Z
UID:38317-1457481600-1459123199@merida.es
SUMMARY:Exposición de Semana Santa del Colegio de las Josefinas
DESCRIPTION:Hasta el 28 de marzo se puede visitar en el centro cultural Alcazaba la III Exposición de la Semana Santa de Mérida que\, como todos los años montan los alumnos y profesores del colegio de las Josefinas.\nTodas y cada una de las cofradías de Mérida están representadas en esta colección de Nazarenos y pasos de la Semana Santa emeritense\, que a modo de maqueta\, representa no solo la imaginería de la Semana Santa sino también algunos de los monumentos más representativos de la ciudad.
URL:https://merida.es/agenda/exposicion-de-semana-santa-del-colegio-de-las-josefinas/
LOCATION:Centro Cultural Alcazaba\, Calle John Lennon\, 5\, Mérida
CATEGORIES:Exposición,Semana Santa
ATTACH;FMTTYPE=image/jpeg:https://merida.es/wp-content/uploads/2016/03/expo-semanasanta-josefinas.jpg
END:VEVENT
BEGIN:VEVENT
DTSTART;VALUE=DATE:20160315
DTEND;VALUE=DATE:20160319
DTSTAMP:20260420T063653
CREATED:20160314T075723Z
LAST-MODIFIED:20160314T075723Z
UID:38235-1458000000-1458345599@merida.es
SUMMARY:Actividades Día Mundial del Teatro
DESCRIPTION:Con motivo del Día Internacional del Teatro\, TAPTC?\, con la colaboración del Ayuntamiento de Mérida\, organiza una serie de actividades en la semana del 15 al 18 de marzo:\nEl martes 15 de marzo será la primera acción\, ‘Juegos por la igualdad’\, una conferencia dramatiza sobre la desigualdad de la mujer en la sociedad\, “algo lúdico y divertido”\, según Llanos\, que tendrá dos pases a las 19 y 19.45 horas\, en el Centro Cultural de Nueva Ciudad. La entrada será gratuita hasta completar aforo y se aceptará un máximo de 30 personas por sesión. Juan Carlos Tirado y Nuria Cuadrado interpretarán esta obra de Raquel Bazo.\nEl miércoles 16 el teatro llega a la sala Barocco con una comedia de Miguel Mihura\, ‘El seductor’\, en lo que será una experiencia de microteatro\, en tres sesiones\, a las 20.30\, 21 y 21\,30 horas y un máximo de 20 personas por sesión. Pepe None\, Concha Ayora y Manu Brea son los protagonistas de una obra que dirige Javier Llanos. Donativo de 2 euros y 1 para alumnos de la Escuela Taptc?\nEl jueves 17 teatro al uso con la comedia ‘Encuentros casuales’\, de Francis Lucas\, y al que acompaña Paca Velardiez. Será en el salón de actos del Centro Cultural de Nueva Ciudad\, a las 20.30 horas y con entrada gratuita hasta completar su aforo de 250 personas.\nSe cierran las actividades el viernes 18 en el mismo lugar de Nueva Ciudad\, con un espectáculo de celebración del Día Mundial del Teatro\, desde las 20.30 horas\, y que será una jornada de encuentro y convivencia\, con un pequeño espectáculo de variedades antes de la lectura del Manifiesto\, que correrá a cargo de tres alumnas de la Escuela de Teatro\, que decidieron compatibilizar su embarazo con la actividad teatral de Agusto en Mérida en los años 2013 y 2014. Se trata de Carmen Silva\, Patricia Zama y Raquel Nodar
URL:https://merida.es/agenda/dia-mundial-del-teatro/
LOCATION:Centro Cultural de Nueva Ciudad\, Calle Antonio Rodríguez Moñino s/n\, Mérida\, 06800\, Spain
CATEGORIES:Teatro
ATTACH;FMTTYPE=image/jpeg:https://merida.es/wp-content/uploads/2016/03/dia-teatro-peq.jpg
END:VEVENT
BEGIN:VEVENT
DTSTART;TZID=Europe/Madrid:20160317T183000
DTEND;TZID=Europe/Madrid:20160317T183000
DTSTAMP:20260420T063653
CREATED:20160218T074718Z
LAST-MODIFIED:20230312T115242Z
UID:37248-1458239400-1458239400@merida.es
SUMMARY:Cuentos después de la merienda
DESCRIPTION:El jueves 18 de febrero\, a las 18\,30 horas\, se inicia en la Biblioteca Municipal Juan Pablo Forner un nueva experiencia de fomento a la lectura que va dirigida a escolares de 5 a 8 años y que se llama ‘Cuentos después de la merienda‘.\nLa Biblioteca cuenta con la especial colaboración de cinco mujeres que son las que van a departir su tiempo y su experiencia tanto con los chavales\, narrando una historia divertida cargada de valores\, como con la propia Biblioteca\, colaborando con ella para transmitir su verdadera misión\, referentes a la educación y a la cultura de los más jóvenes. A través del conocimiento de personajes inolvidables\, en el taller se hablará de la amistad\, la familia\, el compañerismo y la importancia de ser más feliz.\nEl taller se imparte en la Biblioteca Infantil y habrá un número determinado de participantes hasta completar el aforo.\nJueves\, 18 de febrero\n«El león que no sabía escribir». Amparo García Borona\nJueves\, 25 de febrero\n«¿Por qué no quieren jugar conmigo?». Esmeralda Corado Benítez\nJueves\, 3 de marzo\n«El gallo kiriko». Josefina Morcillo Rodríguez\nJueves\, 10 de marzo\n«El pollito pelado». Pachu de Teresa Pertusa\nJueves\, 17 de marzo\n«Un cuento para mi papá». Esmeralda Corado Benítez
URL:https://merida.es/agenda/cuentos-despues-de-la-merienda/
LOCATION:Centro Cultural Alcazaba\, Calle John Lennon\, 5\, Mérida
CATEGORIES:Infantil,Literatura
ATTACH;FMTTYPE=image/jpeg:https://merida.es/wp-content/uploads/2016/02/hora-cuento-peq.jpg
END:VEVENT
BEGIN:VEVENT
DTSTART;TZID=Europe/Madrid:20160317T193000
DTEND;TZID=Europe/Madrid:20160317T193000
DTSTAMP:20260420T063653
CREATED:20160316T172210Z
LAST-MODIFIED:20160316T172210Z
UID:38394-1458243000-1458243000@merida.es
SUMMARY:Presentación del libro 'La memoria encendida' de Eladio Méndez
DESCRIPTION:La Biblioteca Municipal Juan Pablo Forner celebra el Día Internacional de la Poesía con la presentación del último libro de poesía de Eladio Méndez titulado ‘La memoria encendida’ publicado por la editorial nacional Amargord\, editorial referente en publicaciones poéticas.\nEladio Méndez\, poeta residente en Mérida es un hombre incansable en su búsqueda por una igualdad social y cultural.\nEsta actividad poética se complementa con la actuación del cantautor extremeño\, Miguel Ángel Naharro; que ha puesto música a poetas extremeños y portugueses y ha publicado ocho obras poetico-musicales.\nSerá el jueves 17 de marzo\, a las 19:30 horas\, en la Biblioteca Municipal\, en la tercera planta del Centro Cultural Alcazaba.
URL:https://merida.es/agenda/presentacion-del-libro-la-memoria-encendida-de-eladio-mendez/
LOCATION:Centro Cultural Alcazaba\, Calle John Lennon\, 5\, Mérida
CATEGORIES:Literatura
ATTACH;FMTTYPE=image/jpeg:https://merida.es/wp-content/uploads/2016/03/dia-poesia-peq.jpg
END:VEVENT
BEGIN:VEVENT
DTSTART;TZID=Europe/Madrid:20160317T200000
DTEND;TZID=Europe/Madrid:20160317T200000
DTSTAMP:20260420T063653
CREATED:20160311T075129Z
LAST-MODIFIED:20160311T075129Z
UID:38157-1458244800-1458244800@merida.es
SUMMARY:Concierto-recital de la Escuela de Idiomas y el Conservatorio en el Día de la EOI
DESCRIPTION:El jueves 17 de marzo\, a las 20 horas\, tendrá lugar en el Centro Cultural “Alcazaba” un concierto-recital organizado por la Escuela Oficial de Idiomas y el Conservatorio Profesional “Esteban Sánchez” de Mérida.\nEl evento consistirá en la lectura de una selección de textos en los distintos idiomas que se imparten en la Escuela Oficial de Idiomas (alemán\, francés\, inglés\, italiano y portugués) junto con la interpretación de obras musicales de autores de estas nacionalidades o relacionadas con el país y la cultura del mismo\, todo ello a cargo de alumnos de ambos centros.\nEnmarcado dentro de las actividades del Día del Centro de la E.O.I.\, este concierto-recital supone la primera colaboración entre ambos centros educativos\, una iniciativa que nace con vocación de continuidad. La entrada es libre hasta completar aforo.
URL:https://merida.es/agenda/concierto-recital-de-la-escuela-de-idiomas-y-el-conservatorio-en-el-dia-de-la-eoi/
LOCATION:Centro Cultural Alcazaba\, Calle John Lennon\, 5\, Mérida
CATEGORIES:Literatura,Música
ATTACH;FMTTYPE=image/jpeg:https://merida.es/wp-content/uploads/2016/03/cartel-conservatorio-eoi-peq.jpg
END:VEVENT
BEGIN:VEVENT
DTSTART;TZID=Europe/Madrid:20160317T203000
DTEND;TZID=Europe/Madrid:20160317T203000
DTSTAMP:20260420T063653
CREATED:20160301T174247Z
LAST-MODIFIED:20160301T174247Z
UID:37715-1458246600-1458246600@merida.es
SUMMARY:Cine Filmoteca: "A Esmorga"
DESCRIPTION:A ESMORGA\nEspaña · 2014 · 111 minutos · Drama\nDirección: Ignacio Vilar\nGuión: Ignacio Vilar\, Carlos Asorey\nReparto: Karra Elejalde\, Ledicia Sola\, Miguel de Lira\, Antonio Durán ‘Morris’\, Sabela Arán\, Monti Castiñeiras\, Mela Casal\nSinopsis: Crónica tensa e intensa de 24 horas en la vida de tres compañeros de juerga que van dejando un reguero de destrucción\, de sexo equívoco y reprimido\, y también cerrando puertas tras tirar las llaves\, como si de manera deliberada buscaran la perdición.\n2014: Premios Goya: Nominada a Mejor guión adaptado\nPase: 20:30 h. Se emite en versión original con subtítulos. El precio de la entrada es de 1 euro. Abono 10 sesiones: 6 euros.\nOrganiza la Filmoteca de Extremadura con la colaboración del Cine Club Forum.
URL:https://merida.es/agenda/cine-filmoteca-a-esmorga/
LOCATION:Centro Cultural Santo Domingo Fundación CB\, Plaza de Santo Domingo\, s/n\, Mérida
CATEGORIES:Cine
ATTACH;FMTTYPE=image/jpeg:https://merida.es/wp-content/uploads/2016/03/a-esmorga-img.jpg
END:VEVENT
END:VCALENDAR