﻿BEGIN:VCALENDAR
VERSION:2.0
PRODID:-//Ayuntamiento de Mérida - ECPv6.15.17.1//NONSGML v1.0//EN
CALSCALE:GREGORIAN
METHOD:PUBLISH
X-WR-CALNAME:Ayuntamiento de Mérida
X-ORIGINAL-URL:https://merida.es
X-WR-CALDESC:Eventos para Ayuntamiento de Mérida
REFRESH-INTERVAL;VALUE=DURATION:PT1H
X-Robots-Tag:noindex
X-PUBLISHED-TTL:PT1H
BEGIN:VTIMEZONE
TZID:Europe/Madrid
BEGIN:DAYLIGHT
TZOFFSETFROM:+0100
TZOFFSETTO:+0200
TZNAME:CEST
DTSTART:20210328T010000
END:DAYLIGHT
BEGIN:STANDARD
TZOFFSETFROM:+0200
TZOFFSETTO:+0100
TZNAME:CET
DTSTART:20211031T010000
END:STANDARD
BEGIN:DAYLIGHT
TZOFFSETFROM:+0100
TZOFFSETTO:+0200
TZNAME:CEST
DTSTART:20220327T010000
END:DAYLIGHT
BEGIN:STANDARD
TZOFFSETFROM:+0200
TZOFFSETTO:+0100
TZNAME:CET
DTSTART:20221030T010000
END:STANDARD
BEGIN:DAYLIGHT
TZOFFSETFROM:+0100
TZOFFSETTO:+0200
TZNAME:CEST
DTSTART:20230326T010000
END:DAYLIGHT
BEGIN:STANDARD
TZOFFSETFROM:+0200
TZOFFSETTO:+0100
TZNAME:CET
DTSTART:20231029T010000
END:STANDARD
END:VTIMEZONE
BEGIN:VEVENT
DTSTART;VALUE=DATE:20220304
DTEND;VALUE=DATE:20220331
DTSTAMP:20260422T032111
CREATED:20220228T081509Z
LAST-MODIFIED:20220228T081509Z
UID:109457-1646352000-1648684799@merida.es
SUMMARY:Exposición 'Miradas con luz de Extremadura' de Miguel Ángel Gragera Peña y Bartolomé Gragera Sierra
DESCRIPTION:Del 4 al 30 de marzo\, la sala de exposiciones del Centro Cultural Santo Domingo de Fundación CB acoge la exposición de pinturas ‘Miradas con luz de Extremadura’ de Miguel Ángel Gragera Peña y Bartolomé Gragera Sierra
URL:https://merida.es/agenda/exposicion-miradas-con-luz-de-extremadura-de-miguel-angel-gragera-pena-y-bartolome-gragera-sierra/
LOCATION:Centro Cultural Santo Domingo Fundación CB\, Plaza de Santo Domingo\, s/n\, Mérida
CATEGORIES:Exposición
ATTACH;FMTTYPE=image/jpeg:https://merida.es/wp-content/uploads/2022/02/expo-miradas-peq.jpg
END:VEVENT
BEGIN:VEVENT
DTSTART;TZID=Europe/Madrid:20220306T100000
DTEND;TZID=Europe/Madrid:20220306T140000
DTSTAMP:20260422T032111
CREATED:20220302T190051Z
LAST-MODIFIED:20220302T190118Z
UID:109599-1646560800-1646575200@merida.es
SUMMARY:Gymkhana Cultural y Gastronómica
DESCRIPTION:La oficina de promoción turística de la Diputación de Badajoz organiza\, el domingo 6 de marzo\, dentro de su Plan de Dinamización Turística\, una novedosa Gymkhana Cultural y Gastronómica que invita a recorrer los principales rincones de Mérida en donde un personaje de época ofrecerá un producto gastronómico necesario para la prueba final. \nMás información e inscripciones: https://www.dip-badajoz.es/actividadesturismo
URL:https://merida.es/agenda/gymkhana-cultural-y-gastronomica/
LOCATION:Recorrido Urbano\, Mérida
CATEGORIES:Visita Guiada
ATTACH;FMTTYPE=image/jpeg:https://merida.es/wp-content/uploads/2022/03/plan-turismo-badajoz-peq.jpg
END:VEVENT
BEGIN:VEVENT
DTSTART;TZID=Europe/Madrid:20220306T110000
DTEND;TZID=Europe/Madrid:20220307T071756
DTSTAMP:20260422T032111
CREATED:20220307T071731Z
LAST-MODIFIED:20220307T071754Z
UID:109701-1646564400-1646637476@merida.es
SUMMARY:XXXIII Campeonato de Extremadura de Invierno - Memorial Rafael Soriano
DESCRIPTION:El domingo 6 de marzo se celebra\, en el Lago de Proserpina\, el XXXIII Campeonato de Extremadura de Invierno – Memorial Rafael Soriano. Las pruebas comenzarán a las 11:00 horas. Organiza Federación Extremeña de Piragüismo
URL:https://merida.es/agenda/xxxiii-campeonato-de-extremadura-de-invierno-memorial-rafael-soriano/
LOCATION:Embalse de Proserpina\, Mérida
CATEGORIES:Deporte
ATTACH;FMTTYPE=image/jpeg:https://merida.es/wp-content/uploads/2022/03/2022-piraguismo-peq.jpg
END:VEVENT
BEGIN:VEVENT
DTSTART;TZID=Europe/Madrid:20220306T180000
DTEND;TZID=Europe/Madrid:20220306T180000
DTSTAMP:20260422T032111
CREATED:20220302T071902Z
LAST-MODIFIED:20220302T072057Z
UID:109538-1646589600-1646589600@merida.es
SUMMARY:Teatro infantil: "El Desván"
DESCRIPTION:DOMINGO. Día 6 de marzo de 2022. 18:00 horas\nEspectáculo: El Desván\nCompañía: Cachivache \nSinopsis: Nina\, aburrida\, sube al desván. Aquí reencontrará un montón de olvidados amigos: Maletín\, Momo\, Bestia\, Doña Tecla\, Felicia\, Hugo y Rodolfo que\, a su manera\, le irán dando consejos\, hasta el Hada\, verdadera alma del cuartito donde se encuentran todas las ilusiones perdidas y que quizás la niña descubra sin darse cuenta\, jugando\, como en la vida misma. \nEn el escenario\, por tanto\, aparecerá una selección de estos bellos títeres\, ya que todos era imposible. La perfecta manipulación de los títeres a cargo de su creador\, Francisco Garcia del Águila\, dotará a estos de alma y voz; junto a la interpretación de Guillermina Calicchio — con su dominio del cuerpo y de la voz — asistimos a un bello espectáculo lleno de música\, magia e ilusión. \nDirección: Colectiva\nIntérpretes: Alberto F. Cavero\, Guillermina Calicchio\nAutor: Isabel H. Dimas\, Francisco García Del Águila\, Eladio Sánchez\nDiseño y realización de títeres: Francisco García del Águila\nDuración: 55 min. \nTaquilla: Entrada única 3€ (*Descuentos del 50% aplicable a: carnet estudiante\, carnet joven europeo\, personas jubiladas-pensionistas\, familia numerosa y personas en desempleo)\nPúblico recomendado: A partir de 4 años\nHorario de taquilla: sábado 5 de marzo\, de 11:00 a 13:00 y de 18:00 a 20:30h; y domingo\, de 11:00 a 13:00 y de 16:00 a 18:00 horas.\nReservas en el email: salatrajanomerida@gmail.com
URL:https://merida.es/agenda/teatro-infantil-el-desvan/
LOCATION:Sala Trajano\, Calle Muza\, 50\, Mérida
CATEGORIES:Infantil,Teatro
ATTACH;FMTTYPE=image/jpeg:https://merida.es/wp-content/uploads/2022/03/el-desvan-peq.jpg
END:VEVENT
END:VCALENDAR