﻿BEGIN:VCALENDAR
VERSION:2.0
PRODID:-//Ayuntamiento de Mérida - ECPv6.15.17.1//NONSGML v1.0//EN
CALSCALE:GREGORIAN
METHOD:PUBLISH
X-ORIGINAL-URL:https://merida.es
X-WR-CALDESC:Eventos para Ayuntamiento de Mérida
REFRESH-INTERVAL;VALUE=DURATION:PT1H
X-Robots-Tag:noindex
X-PUBLISHED-TTL:PT1H
BEGIN:VTIMEZONE
TZID:Europe/Madrid
BEGIN:DAYLIGHT
TZOFFSETFROM:+0100
TZOFFSETTO:+0200
TZNAME:CEST
DTSTART:20210328T010000
END:DAYLIGHT
BEGIN:STANDARD
TZOFFSETFROM:+0200
TZOFFSETTO:+0100
TZNAME:CET
DTSTART:20211031T010000
END:STANDARD
BEGIN:DAYLIGHT
TZOFFSETFROM:+0100
TZOFFSETTO:+0200
TZNAME:CEST
DTSTART:20220327T010000
END:DAYLIGHT
BEGIN:STANDARD
TZOFFSETFROM:+0200
TZOFFSETTO:+0100
TZNAME:CET
DTSTART:20221030T010000
END:STANDARD
BEGIN:DAYLIGHT
TZOFFSETFROM:+0100
TZOFFSETTO:+0200
TZNAME:CEST
DTSTART:20230326T010000
END:DAYLIGHT
BEGIN:STANDARD
TZOFFSETFROM:+0200
TZOFFSETTO:+0100
TZNAME:CET
DTSTART:20231029T010000
END:STANDARD
END:VTIMEZONE
BEGIN:VEVENT
DTSTART;VALUE=DATE:20220304
DTEND;VALUE=DATE:20220331
DTSTAMP:20260422T073731
CREATED:20220228T081509Z
LAST-MODIFIED:20220228T081509Z
UID:109457-1646352000-1648684799@merida.es
SUMMARY:Exposición 'Miradas con luz de Extremadura' de Miguel Ángel Gragera Peña y Bartolomé Gragera Sierra
DESCRIPTION:Del 4 al 30 de marzo\, la sala de exposiciones del Centro Cultural Santo Domingo de Fundación CB acoge la exposición de pinturas ‘Miradas con luz de Extremadura’ de Miguel Ángel Gragera Peña y Bartolomé Gragera Sierra
URL:https://merida.es/agenda/exposicion-miradas-con-luz-de-extremadura-de-miguel-angel-gragera-pena-y-bartolome-gragera-sierra/
LOCATION:Centro Cultural Santo Domingo Fundación CB\, Plaza de Santo Domingo\, s/n\, Mérida
CATEGORIES:Exposición
ATTACH;FMTTYPE=image/jpeg:https://merida.es/wp-content/uploads/2022/02/expo-miradas-peq.jpg
END:VEVENT
BEGIN:VEVENT
DTSTART;VALUE=DATE:20220309
DTEND;VALUE=DATE:20220401
DTSTAMP:20260422T073731
CREATED:20220315T181233Z
LAST-MODIFIED:20220315T181233Z
UID:109809-1646784000-1648771199@merida.es
SUMMARY:Exposición “Referentes del cooperativismo. Mujeres transformando realidades”
DESCRIPTION:Del 9 al 31 de marzo\, el Convento de Santa Clara (Sede del Consorcio) acoge la exposición “Referentes del cooperativismo. Mujeres transformando realidades”\, organizada por Cooperativas Agro-alimentarias Extremadura con la colaboración de Fundación “la Caixa” y CaixaBank\, que muestra a las primeras mujeres extremeñas que lideraron proyectos cooperativos o explotaciones agrarias con éxito\, que innovaron y que se convirtieron en referentes.
URL:https://merida.es/agenda/exposicion-referentes-del-cooperativismo-mujeres-transformando-realidades/
LOCATION:Convento de Santa Clara (Sede del Consorcio y Festival de Mérida)\, Calle Santa Julia\, 5\, Mérida
CATEGORIES:Exposición
ATTACH;FMTTYPE=image/jpeg:https://merida.es/wp-content/uploads/2022/03/expo-mujeres-rurales-peq.jpg
END:VEVENT
BEGIN:VEVENT
DTSTART;VALUE=DATE:20220315
DTEND;VALUE=DATE:20220401
DTSTAMP:20260422T073731
CREATED:20220318T081349Z
LAST-MODIFIED:20220404T070457Z
UID:110147-1647302400-1648771199@merida.es
SUMMARY:Exposición 'Recuerdos frente al olvido y una vida' de Nani Sánchez Santano
DESCRIPTION:La fotógrafa amateur\, Nani Sánchez Santano\, expondrá sus obras en la sala Vía de la Plata del Centro Cultural Santo Domingo de Fundación CB\, en Mérida\, del 15 al 31 de marzo. La muestra\, titulada “Recuerdos frente al olvido y una vida”\, está compuesta por fotografías realizadas en Extremadura\, hiladas por textos que hacen referencia a la enfermedad de Alzheimer. Se trata de un recorrido visual que incita a tomar conciencia de cómo viven y qué sienten los enfermos y familiares. \nExposición a beneficio de la Asociación de Familiares de Enfermos de Alzheimer de Mérida (AFAM Mérida).
URL:https://merida.es/agenda/exposicion-frente-al-olvido-y-una-vida-nani-sanchez-santano/
LOCATION:Centro Cultural Santo Domingo Fundación CB\, Plaza de Santo Domingo\, s/n\, Mérida
CATEGORIES:Benéfico,Exposición
ATTACH;FMTTYPE=image/jpeg:https://merida.es/wp-content/uploads/2022/03/expo-nani-sanchez-santano-peq.jpg
END:VEVENT
BEGIN:VEVENT
DTSTART;VALUE=DATE:20220323
DTEND;VALUE=DATE:20220326
DTSTAMP:20260422T073731
CREATED:20220322T153436Z
LAST-MODIFIED:20230312T111633Z
UID:110285-1647993600-1648252799@merida.es
SUMMARY:Semana Blanca del Conservatorio Esteban Sánchez
DESCRIPTION:Tocar en público\, abrir la mente a nuevas experiencias musicales\, al uso de la música en otras facetas\, a aprender jugando\, y que todo ello revierta en el entorno donde el Conservatorio desarrolla su actividad es el principal objetivo de la Semana Blanca. La actividad lectiva por unos días es sustituida por un programa de actividades\, conferencias\, y conciertos donde se pretende enriquecer la experiencia y formación musical al tiempo que pone en valor el trabajo del alumnado\, convirtiendo la Semana Blanca en un hecho cultural\, para el Centro y la Ciudad. \nTras estos años de pausa necesaria regresa uno de los proyectos estrella del conservatorio con un sugerente programa de actividades que nos llevarán de la improvisación\, pasando por exposiciones y ponencias sobre los proyectos NeuroRedes y el novedoso Orientarte\, a la música sinfónica con la OSCAM así como una divertida y estimulante Gymkana musical. \nEste año vendrá cargado de novedades\, pues una parte importante de las actividades requerirán de inscripción previa a causa de las todavía imperantes restricciones de aforo. \nMás información: https://conservatoriomerida.es/semana-blanca/
URL:https://merida.es/agenda/semana-blanca-del-conservatorio-esteban-sanchez-3/
LOCATION:Varios puntos de la ciudad\, Mérida
CATEGORIES:Educación
ATTACH;FMTTYPE=image/jpeg:https://merida.es/wp-content/uploads/2022/03/2022-semana-blanca-conservatorio-peq.jpg
END:VEVENT
BEGIN:VEVENT
DTSTART;VALUE=DATE:20220325
DTEND;VALUE=DATE:20220328
DTSTAMP:20260422T073731
CREATED:20220127T185548Z
LAST-MODIFIED:20220127T185548Z
UID:108256-1648166400-1648425599@merida.es
SUMMARY:XI Mérida Master de Pesca
DESCRIPTION:Romera Pesca y Milo organizan la XI edición de Mérida Máster de Pesca entre el 25 y 27 de marzo de 2022 en el paso del Río Guadiana cerca del polígono industrial El Prado.
URL:https://merida.es/agenda/xi-merida-master-de-pesca/
LOCATION:Río Guadiana
CATEGORIES:Deporte
ATTACH;FMTTYPE=image/jpeg:https://merida.es/wp-content/uploads/2022/01/2022-merida-master-pesca-peq.jpg
END:VEVENT
BEGIN:VEVENT
DTSTART;VALUE=DATE:20220325
DTEND;VALUE=DATE:20220328
DTSTAMP:20260422T073731
CREATED:20220325T084503Z
LAST-MODIFIED:20220325T084654Z
UID:110393-1648166400-1648425599@merida.es
SUMMARY:Fase Final Cadete del Campeonato de Extremadura de Balonmano
DESCRIPTION:Del 25 al 27 de marzo\, se disputa\, en el Pabellón Diocles\, la Fase Final Cadete del Campeonato de Extremadura de Balonmano con la participación de los equipos emeritenses Club Deportivo Josefinas Mérida y CP Bosco Mérida\, además de la AD Balonmano Miajadas y Balonmano Plasencia. Organiza Federación Extremeña de Balonmano con la colaboración del Ayuntamiento
URL:https://merida.es/agenda/fase-final-cadete-del-campeonato-de-extremadura-de-balonmano/
LOCATION:Complejo Polideportivo Diocles\, Calle Luis Buñuel\, s/n\, Mérida\, 06800
CATEGORIES:Deporte
ATTACH;FMTTYPE=image/jpeg:https://merida.es/wp-content/uploads/2022/03/2022-balonmano-cadete-peq.jpg
END:VEVENT
BEGIN:VEVENT
DTSTART;TZID=Europe/Madrid:20220325T200000
DTEND;TZID=Europe/Madrid:20220325T200000
DTSTAMP:20260422T073731
CREATED:20220110T155236Z
LAST-MODIFIED:20220110T155354Z
UID:107461-1648238400-1648238400@merida.es
SUMMARY:Concierto Orquesta de Extremadura: "Lo amargo tras la belleza"
DESCRIPTION:El hoy celebérrimo ‘Concierto de violín’ de Sibelius no pudo salir peor parado de su estreno. El compositor\, violinista tardío y frustrado\, escribió su único concierto para su instrumento soñado. La ‘Sinfonía nº 2’ de Brahms brotó de un solo impulso creativo veraniego inspirado por la naturaleza circundante. Contrariamente a su belleza y carácter bucólico\, el propio compositor afirmaba íntimamente que era una música sumida en la melancolía y la pena. \nBajo la dirección de Andrés Salado\, la Orquesta de Extremadura estará acompañada por la solista Maria Dueñas al violín. \nEntradas: https://taquilla.orquestadeextremadura.com
URL:https://merida.es/agenda/concierto-orquesta-de-extremadura-lo-amargo-tras-la-belleza/
LOCATION:Palacio de Congresos\, Avda. del Rio s/n\, Mérida
CATEGORIES:Música
ATTACH;FMTTYPE=image/jpeg:https://merida.es/wp-content/uploads/2022/01/2022-orquesta-extremadura-amargo-belleza-peq2.jpg
END:VEVENT
BEGIN:VEVENT
DTSTART;TZID=Europe/Madrid:20220325T203000
DTEND;TZID=Europe/Madrid:20220325T203000
DTSTAMP:20260422T073731
CREATED:20220320T113340Z
LAST-MODIFIED:20220320T113340Z
UID:110194-1648240200-1648240200@merida.es
SUMMARY:Concierto Sacro Coral Avgvsta Emerita
DESCRIPTION:La Coral Avgvsta Emerita ofrecerá un Concierto Sacro\, el viernes 25 de marzo\, a las 20:30 horas\, en la Basílica de Santa Eulalia. Presenta Jesús Sánchez Adalid. Al órgano estará José Manuel Bernáldez Ramírez. Dirige F. Javier Gómez Hurtado.
URL:https://merida.es/agenda/concierto-sacro-coral-avgvsta-emerita/
LOCATION:Basílica de Santa Eulalia
CATEGORIES:Música
ATTACH;FMTTYPE=image/jpeg:https://merida.es/wp-content/uploads/2022/03/2022-concierto-sacro-peq.jpg
END:VEVENT
BEGIN:VEVENT
DTSTART;TZID=Europe/Madrid:20220325T203000
DTEND;TZID=Europe/Madrid:20220325T203000
DTSTAMP:20260422T073731
CREATED:20220321T073759Z
LAST-MODIFIED:20220321T073759Z
UID:110202-1648240200-1648240200@merida.es
SUMMARY:Teatro: "Arde ya la yedra"
DESCRIPTION:Viernes. Día 25 de marzo de 2022. 20.30 horas.\nEspectáculo: ARDE YA LA YEDRA\nCompañía: TERRITORIO VIOLETA \nSinopsis:\nTres jóvenes se reencuentran pasados los años. Su etapa universitaria ya queda lejos y sus vidas no parecen estar ajustándose a aquello que planificaron: un trabajo estable\, un futuro sin miedo… Una de ellas\, Vita\, quiere vengarse del sistema atacando lo que ella considera que representa el juego más sucio del capitalismo hermanado con el arte contemporáneo: una escultura\, valorada en millones de euros\, que el artista Jeff Koons expone en un museo de la ciudad. Mientras\, en la otra punta del mundo\, una adinerada mecenas está a punto de subirse a un avión para llegar a la ciudad y pagar lo que sea necesario por adquirir esa escultura. Lo que los tres jóvenes no saben es que a la vida le gusta jugar a los palíndromos\, trazar sus propios laberintos. \nPREMIO BORN DE TREATRO 2017\nPREMIO TEATRO EN CONFLUENCIA 2019 \nReparto: ROSA MERÁS\, ADRIÁN NAVAS\, DANI JAÉN y MARÍA JOSÉ PALAZÓN\nPropuesta escénica: ROSA BRIONES\nDramaturgia: FRANCISCO JAVIER SUÁREZ \nDuración: 90 min.\nTodos los públicos. \nEntrada única: 5 €.\nHorario de taquilla: días 24 y 25 de marzo de 11:00 a 13:00 y de 18:30 a 20:30h\nConsulte descuentos y reservas: salatrajanomerida@gmail.com
URL:https://merida.es/agenda/teatro-arde-ya-la-yedra/
LOCATION:Sala Trajano\, Calle Muza\, 50\, Mérida
CATEGORIES:Teatro
ATTACH;FMTTYPE=image/jpeg:https://merida.es/wp-content/uploads/2022/03/arde-ya-la-yedra-peq.jpg
END:VEVENT
BEGIN:VEVENT
DTSTART;TZID=Europe/Madrid:20220325T204500
DTEND;TZID=Europe/Madrid:20220325T204500
DTSTAMP:20260422T073731
CREATED:20220324T222048Z
LAST-MODIFIED:20220324T222048Z
UID:110387-1648241100-1648241100@merida.es
SUMMARY:Pregón del Costalero Semana Santa 2022
DESCRIPTION:Juan Antonio Domínguez Muriano\, capataz del paso del Santísimo Cristo de la Vera Cruz\, ofrecerá el Pregón del Costalero\, el viernes 25 de marzo\, en la Parroquia de Cristo Rey\, en un acto que comenzará a las 20.45 horas y contará con la actuación de la Banda de Música de Mérida
URL:https://merida.es/agenda/pregon-del-costalero-semana-santa-2022/
LOCATION:Parroquia de Cristo Rey
CATEGORIES:Semana Santa
ATTACH;FMTTYPE=image/jpeg:https://merida.es/wp-content/uploads/2022/03/2022-pregon-costalero-peq.jpg
END:VEVENT
END:VCALENDAR