﻿BEGIN:VCALENDAR
VERSION:2.0
PRODID:-//Ayuntamiento de Mérida - ECPv6.15.17.1//NONSGML v1.0//EN
CALSCALE:GREGORIAN
METHOD:PUBLISH
X-WR-CALNAME:Ayuntamiento de Mérida
X-ORIGINAL-URL:https://merida.es
X-WR-CALDESC:Eventos para Ayuntamiento de Mérida
REFRESH-INTERVAL;VALUE=DURATION:PT1H
X-Robots-Tag:noindex
X-PUBLISHED-TTL:PT1H
BEGIN:VTIMEZONE
TZID:Europe/Madrid
BEGIN:DAYLIGHT
TZOFFSETFROM:+0100
TZOFFSETTO:+0200
TZNAME:CEST
DTSTART:20210328T010000
END:DAYLIGHT
BEGIN:STANDARD
TZOFFSETFROM:+0200
TZOFFSETTO:+0100
TZNAME:CET
DTSTART:20211031T010000
END:STANDARD
BEGIN:DAYLIGHT
TZOFFSETFROM:+0100
TZOFFSETTO:+0200
TZNAME:CEST
DTSTART:20220327T010000
END:DAYLIGHT
BEGIN:STANDARD
TZOFFSETFROM:+0200
TZOFFSETTO:+0100
TZNAME:CET
DTSTART:20221030T010000
END:STANDARD
BEGIN:DAYLIGHT
TZOFFSETFROM:+0100
TZOFFSETTO:+0200
TZNAME:CEST
DTSTART:20230326T010000
END:DAYLIGHT
BEGIN:STANDARD
TZOFFSETFROM:+0200
TZOFFSETTO:+0100
TZNAME:CET
DTSTART:20231029T010000
END:STANDARD
END:VTIMEZONE
BEGIN:VEVENT
DTSTART;VALUE=DATE:20220402
DTEND;VALUE=DATE:20220423
DTSTAMP:20260422T025801
CREATED:20220404T071024Z
LAST-MODIFIED:20220404T071024Z
UID:110722-1648857600-1650671999@merida.es
SUMMARY:Exposición: "EmBiciArte" de Cayetano Cruz
DESCRIPTION:Cayetano Cruz expondrá la muestra «EmbiciArte» del 2 al 22 de abril en la sala Emérita Augusta del Centro Cultural Santo Domingo. Esta exposición recoge una serie de dibujos del paisaje en torno a Mérida. Según el artista\, «surge en los momentos de intimidad que nos han acompañado durante la pandemia. Así comienzan una serie de salidas en bicicleta\, urbanas y extraurbanas en torno a Mérida\, su paisaje y su patrimonio».
URL:https://merida.es/agenda/exposicion-embiciarte-de-cayetano-cruz/
LOCATION:Centro Cultural Santo Domingo Fundación CB\, Plaza de Santo Domingo\, s/n\, Mérida
CATEGORIES:Exposición
ATTACH;FMTTYPE=image/jpeg:https://merida.es/wp-content/uploads/2022/04/expo-embiciarte-peq.jpg
END:VEVENT
BEGIN:VEVENT
DTSTART;VALUE=DATE:20220404
DTEND;VALUE=DATE:20220501
DTSTAMP:20260422T025801
CREATED:20220404T160128Z
LAST-MODIFIED:20220404T160415Z
UID:110779-1649030400-1651363199@merida.es
SUMMARY:Exposición "Carteles para un camino\, 100 años de ilustración jacobea"
DESCRIPTION:Exposición itinerante organizada por el Ministerio de Cultura y Deporte en colaboración con distintas comunidades autónomas\, repasa a través del dibujo y el cartel la iconografía y la representación religiosa\, artística\, literaria e ideológica del Camino de Santiago\, como protagonista de la historia de España y de Europa. \nLa Vía de la Plata (o Camino de la Plata) es el Camino más importante desde el sur peninsular. Mérida es una de sus paradas más relevantes\, y el itinerario que lo compone tiene su origen en distintas calzadas romanas que los peregrinos llevan aprovechando desde la Edad Media para llegar a Santiago. \nLa muestra estará situada entre el Paseo de Roma y el Puente Lusitania durante el mes de abril.
URL:https://merida.es/agenda/exposicion-carteles-para-un-camino/
LOCATION:Paseo de Roma\, Mérida
CATEGORIES:Exposición
ATTACH;FMTTYPE=image/jpeg:https://merida.es/wp-content/uploads/2022/04/expo-xacobeo-peq.jpg
END:VEVENT
BEGIN:VEVENT
DTSTART;TZID=Europe/Madrid:20220409T183000
DTEND;TZID=Europe/Madrid:20220409T183000
DTSTAMP:20260422T025801
CREATED:20220404T063052Z
LAST-MODIFIED:20220404T063849Z
UID:110700-1649529000-1649529000@merida.es
SUMMARY:Teatro Musical: "Bell y la batuta mágica"
DESCRIPTION:SÁBADO. Día 9 de abril de 2022. 18.30 horas.\nEspectáculo: Bell y la batuta mágica\nCompañía: SIE Producciones y Rosario Abelaria \nSinopsis: Tri\, una niña que quiere ser directora de orquesta desde el momento en que ve por primera vez a Bell frente a su orquesta haciendo sonar el grupo de instrumento de una manera increíble al compás del palito que llevaba en la mano\, que para Tri no puede ser otra cosa que: una varita mágica (Batuta). La niña se queda absorta con la magia que hace aquella mujer\, hada maravillosa. Desde ese momento\, la Batuta y Bell se ponen manos a la obra para que Tri cumpla su sueño\, ser directora de orquesta. Interpretarán un repertorio maravilloso que encandilará a grandes y pequeños\, Hits de las películas infantiles como Rey león\, La Sirenita\, Peter Pan\, Jorobado de notre Damme\, Pocahontas\, Libro de la selva\, Sonrisas y lágrimas… \nDirección y texto: Rosario Abelaira\nDirección musical: María Isabel López \nReparto: Cantantes: Rosario Abelaira\, Verónica Rivera y Belén Montero. Banda: Belén Durán\, Maricarmen García\, Verónica Rivera\, Alicia Asuar\, Laura Alfaro\, Pilar Perera y Judith Lorenzana. Actrices/Bailarinas: Triana\, Ana Morales y Belén Monter. \nDuración: 85 min.\nPúblico: Familiar\, todos los públicos \nTaquilla: Entrada única 3€\nPuntos de venta: Centro Cultural Alcazaba (Lunes a viernes\, de 10 a 14 y de 17 a 20 horas) y Centro Cultural Nueva Ciudad (Lunes a viernes\, de 10 a 14 horas y mismo día del evento desde una hora antes)
URL:https://merida.es/agenda/teatro-bell-y-la-batuta-magica/
LOCATION:Centro Cultural de Nueva Ciudad\, Calle Antonio Rodríguez Moñino s/n\, Mérida\, 06800\, Spain
CATEGORIES:Infantil,Teatro
ATTACH;FMTTYPE=image/jpeg:https://merida.es/wp-content/uploads/2022/04/bell-batuta-magica-peq.jpg
END:VEVENT
BEGIN:VEVENT
DTSTART;TZID=Europe/Madrid:20220409T203000
DTEND;TZID=Europe/Madrid:20220409T203000
DTSTAMP:20260422T025801
CREATED:20220404T064742Z
LAST-MODIFIED:20220404T064742Z
UID:110711-1649536200-1649536200@merida.es
SUMMARY:Teatro: "Cortejo"
DESCRIPTION:SÁBADO 9 de abril. 20:30 horas\nEspectáculo: CORTEJO\nCompañía: Baldo Ruiz & Paloma Calderón \nSinopsis:\nÉL y ELLA\, vestidos para el día de su boda\, se encuentran en un lugar donde solo hay una\nmesa y dos bancos propios de un salón de celebraciones. Es el momento de cortejarse\, ¿para\ntoda la vida? \nCortejo versa acerca de la relación entre un hombre y una mujer\, del anhelo primordial en un mundo poblado sólo por parejas estandarizadas\, con cortejos estipulados según el sexo y la condición social. La realidad es que ni uno es quien corteja\, ni la otra persona es la idealización que uno tenía de ella. El cuerpo nos chilla\, ¡que empiece el baile! \nReparto: Baldo Ruiz y Paloma Calderón\nDirección: Baldo Ruiz\nDuración: 50 min. \nPremio Escenarios 2019 interpretación por Cortejo.\nPremio Lorca 2019 bailarín por Cortejo.\nPremio Lorca 2019 espectáculo de danza Cortejo.\nFinalistas Premios Max 2020. Mejor Bailarina y Mejor Espectáculo Revelación \nPúblico: a partir de 12 años\nEntrada única: 5 €.\nConsulte descuentos y reservas: salatrajanomerida@gmail.com\nHorario de taquilla: 8 y 9 de abril de 11:00 a 13:00 y de 18:30 a 20:30h
URL:https://merida.es/agenda/teatro-cortejo/
LOCATION:Sala Trajano\, Calle Muza\, 50\, Mérida
CATEGORIES:Teatro
ATTACH;FMTTYPE=image/jpeg:https://merida.es/wp-content/uploads/2022/04/cortejo-peq.jpg
END:VEVENT
BEGIN:VEVENT
DTSTART;TZID=Europe/Madrid:20220409T210000
DTEND;TZID=Europe/Madrid:20220409T210000
DTSTAMP:20260422T025801
CREATED:20220301T223743Z
LAST-MODIFIED:20220406T150233Z
UID:109534-1649538000-1649538000@merida.es
SUMMARY:Bustamante en concierto: "Veinte años y un destino" (CANCELADO)
DESCRIPTION:Bustamante anuncia su ansiada vuelta a los escenarios\, su gira Veinte años y un destino\, con una serie de conciertos por toda España en 2022 durante los que presentará en directo todos los grandes éxitos de su carrera incluidos en el álbum del mismo nombre\, con una versión mucho más actualizada y una producción revisada y mucho más actual. \nNOTA: El concierto ha sido cancelado por motivos ajenos al cantante. Se hará reembolso del dinero de las entradas en el mismo medio donde se adquirieron.
URL:https://merida.es/agenda/bustamante-en-concierto-veinte-anos-y-un-destino/
LOCATION:Palacio de Congresos\, Avda. del Rio s/n\, Mérida
CATEGORIES:Música
ATTACH;FMTTYPE=image/jpeg:https://merida.es/wp-content/uploads/2022/03/2022-bustamante-merida-peq.jpg
END:VEVENT
END:VCALENDAR