﻿BEGIN:VCALENDAR
VERSION:2.0
PRODID:-//Ayuntamiento de Mérida - ECPv6.15.17.1//NONSGML v1.0//EN
CALSCALE:GREGORIAN
METHOD:PUBLISH
X-WR-CALNAME:Ayuntamiento de Mérida
X-ORIGINAL-URL:https://merida.es
X-WR-CALDESC:Eventos para Ayuntamiento de Mérida
REFRESH-INTERVAL;VALUE=DURATION:PT1H
X-Robots-Tag:noindex
X-PUBLISHED-TTL:PT1H
BEGIN:VTIMEZONE
TZID:Europe/Madrid
BEGIN:DAYLIGHT
TZOFFSETFROM:+0100
TZOFFSETTO:+0200
TZNAME:CEST
DTSTART:20210328T010000
END:DAYLIGHT
BEGIN:STANDARD
TZOFFSETFROM:+0200
TZOFFSETTO:+0100
TZNAME:CET
DTSTART:20211031T010000
END:STANDARD
BEGIN:DAYLIGHT
TZOFFSETFROM:+0100
TZOFFSETTO:+0200
TZNAME:CEST
DTSTART:20220327T010000
END:DAYLIGHT
BEGIN:STANDARD
TZOFFSETFROM:+0200
TZOFFSETTO:+0100
TZNAME:CET
DTSTART:20221030T010000
END:STANDARD
BEGIN:DAYLIGHT
TZOFFSETFROM:+0100
TZOFFSETTO:+0200
TZNAME:CEST
DTSTART:20230326T010000
END:DAYLIGHT
BEGIN:STANDARD
TZOFFSETFROM:+0200
TZOFFSETTO:+0100
TZNAME:CET
DTSTART:20231029T010000
END:STANDARD
END:VTIMEZONE
BEGIN:VEVENT
DTSTART;VALUE=DATE:20220402
DTEND;VALUE=DATE:20220423
DTSTAMP:20260422T025807
CREATED:20220404T071024Z
LAST-MODIFIED:20220404T071024Z
UID:110722-1648857600-1650671999@merida.es
SUMMARY:Exposición: "EmBiciArte" de Cayetano Cruz
DESCRIPTION:Cayetano Cruz expondrá la muestra «EmbiciArte» del 2 al 22 de abril en la sala Emérita Augusta del Centro Cultural Santo Domingo. Esta exposición recoge una serie de dibujos del paisaje en torno a Mérida. Según el artista\, «surge en los momentos de intimidad que nos han acompañado durante la pandemia. Así comienzan una serie de salidas en bicicleta\, urbanas y extraurbanas en torno a Mérida\, su paisaje y su patrimonio».
URL:https://merida.es/agenda/exposicion-embiciarte-de-cayetano-cruz/
LOCATION:Centro Cultural Santo Domingo Fundación CB\, Plaza de Santo Domingo\, s/n\, Mérida
CATEGORIES:Exposición
ATTACH;FMTTYPE=image/jpeg:https://merida.es/wp-content/uploads/2022/04/expo-embiciarte-peq.jpg
END:VEVENT
BEGIN:VEVENT
DTSTART;VALUE=DATE:20220404
DTEND;VALUE=DATE:20220501
DTSTAMP:20260422T025807
CREATED:20220404T160128Z
LAST-MODIFIED:20220404T160415Z
UID:110779-1649030400-1651363199@merida.es
SUMMARY:Exposición "Carteles para un camino\, 100 años de ilustración jacobea"
DESCRIPTION:Exposición itinerante organizada por el Ministerio de Cultura y Deporte en colaboración con distintas comunidades autónomas\, repasa a través del dibujo y el cartel la iconografía y la representación religiosa\, artística\, literaria e ideológica del Camino de Santiago\, como protagonista de la historia de España y de Europa. \nLa Vía de la Plata (o Camino de la Plata) es el Camino más importante desde el sur peninsular. Mérida es una de sus paradas más relevantes\, y el itinerario que lo compone tiene su origen en distintas calzadas romanas que los peregrinos llevan aprovechando desde la Edad Media para llegar a Santiago. \nLa muestra estará situada entre el Paseo de Roma y el Puente Lusitania durante el mes de abril.
URL:https://merida.es/agenda/exposicion-carteles-para-un-camino/
LOCATION:Paseo de Roma\, Mérida
CATEGORIES:Exposición
ATTACH;FMTTYPE=image/jpeg:https://merida.es/wp-content/uploads/2022/04/expo-xacobeo-peq.jpg
END:VEVENT
BEGIN:VEVENT
DTSTART;VALUE=DATE:20220419
DTEND;VALUE=DATE:20220430
DTSTAMP:20260422T025807
CREATED:20220418T194237Z
LAST-MODIFIED:20220418T194237Z
UID:111094-1650326400-1651276799@merida.es
SUMMARY:Exposición “Parar el momento” de Fernando Fernández
DESCRIPTION:Del 19 al 29 de abril estará abierta la exposición fotográfica “Parar el momento” de Fernando Fernández\, en el Centro Cultural Santo Domingo\, de lunes a viernes de 17:30 a 21:00 horas. Sábados de 10:30 a 14:00 horas. Se trata de una muestra de paisajes\, animales y puntos de vista diferentes
URL:https://merida.es/agenda/exposicion-parar-el-momento-de-fernando-fernandez/
LOCATION:Centro Cultural Santo Domingo Fundación CB\, Plaza de Santo Domingo\, s/n\, Mérida
CATEGORIES:Exposición
ATTACH;FMTTYPE=image/jpeg:https://merida.es/wp-content/uploads/2022/04/exposicion-fernando-fernandez-peq.jpg
END:VEVENT
BEGIN:VEVENT
DTSTART;VALUE=DATE:20220420
DTEND;VALUE=DATE:20220427
DTSTAMP:20260422T025807
CREATED:20220419T070407Z
LAST-MODIFIED:20220419T070407Z
UID:111118-1650412800-1651017599@merida.es
SUMMARY:Día Internacional del Libro
DESCRIPTION:La Biblioteca Municipal Juan Pablo Forner celebra el 23 de abril\, Día Internacional del Libro\, con una serie de actividades: \nMiércoles 20 DE ABRIL:\n20:30 horas. Lectura dramatizada de la obra Medea de Lucio Anneo Séneca traducida por Miguel de Unamuno.\nServicio de Emergencias Teatrales [S.E.T.) y Escuela de Teatro TAPTC?\nSalón de Actos del Centro Cultural Santo Domingo de Fundación CB \nSábado 23 DE ABRIL:\nViaje literario a Madrid.\n12:00 horas. Paseo por el Barrio de las letras y Lectura de textos de Cervantes \, Lope de Vega\, Tirso de Malina\, Góngora. Pérez Galdós y la especial atención al Libro de Vanessa Monfort ‘Mujeres que compran flores’ \n19:45 horas. Teatros del Canal: El síndrome del copiloto. Adaptación teatral de Mujeres que compran flores. Texto y dirección de Vanessa Monfort\, protagonizada por Miguel Ángel Muñoz y Cuca Escribano. \nLunes 25 DE ABRIL:\n18:30 horas. Paseo literario por Mérida (Salida desde el puente Romano)\, según el libro de Magdalena  Ortiz Macías con la participación  del club de lectura fácil de la Residencia Plena inclusión  de Mérida. \nMartes 26 DE ABRIL:\n20:00 horas. Encuentro con la escritora Vanessa Monfort\, autora de ‘Mujeres Que compran flores’\, ‘El sueño de la crisálida’\, ‘La mujer sin nombre’…\nRotonda central del Centro Cultural Alcazaba.
URL:https://merida.es/agenda/dia-internacional-del-libro-2/
LOCATION:Varios puntos de la ciudad\, Mérida
CATEGORIES:Literatura,Teatro,Visita Guiada
ATTACH;FMTTYPE=image/jpeg:https://merida.es/wp-content/uploads/2022/04/2022-dia-internacional-libro-peq.jpg
END:VEVENT
BEGIN:VEVENT
DTSTART;VALUE=DATE:20220421
DTEND;VALUE=DATE:20220424
DTSTAMP:20260422T025807
CREATED:20220111T200228Z
LAST-MODIFIED:20220315T130015Z
UID:107521-1650499200-1650758399@merida.es
SUMMARY:VI Jornadas Profesionales de la Música en Extremadura
DESCRIPTION:Las Jornadas Profesionales de la Música en Extremadura (MUM2022) se desarrollarán durante los días 21\, 22\, 23 de abril de 2022 en Mérida. La programación de las Jornadas contará actuaciones promocionales (showcases)\, mesas de debate\, conferencias\, encuentros profesionales\, pitchings\, encuentro comerciales\, etc \nMás información: https://extremum.agcex.org/
URL:https://merida.es/agenda/vi-jornadas-profesionales-de-la-musica-en-extremadura/
LOCATION:Varios puntos de la ciudad\, Mérida
CATEGORIES:Música
ATTACH;FMTTYPE=image/jpeg:https://merida.es/wp-content/uploads/2022/01/2022-jornadas-profesionales-musica-peq.jpg
END:VEVENT
BEGIN:VEVENT
DTSTART;TZID=Europe/Madrid:20220421T183000
DTEND;TZID=Europe/Madrid:20220421T183000
DTSTAMP:20260422T025807
CREATED:20220419T145803Z
LAST-MODIFIED:20220419T145803Z
UID:111166-1650565800-1650565800@merida.es
SUMMARY:Día de la Romanidad en el MNAR
DESCRIPTION:El jueves 21 de abril\, a las 18:30 horas\, el Museo Nacional de Arte Romano celebra el Día de la Romanidad en el que personajes como Eneas\, Ascanio y Anquises guiarán a los asistentes a través de la fundación mítica de Roma en las salas del Museo. Se necesita inscripción previa en programadifusion.museomerida@gmail.com
URL:https://merida.es/agenda/dia-de-la-romanidad-en-el-mnar/
LOCATION:Museo Nacional de Arte Romano\, Calle José Ramón Mélida\, Mérida\, Badajoz\, 06800\, España
CATEGORIES:Recreación
ATTACH;FMTTYPE=image/jpeg:https://merida.es/wp-content/uploads/2022/04/2022-dia-romanidad-peq.jpg
END:VEVENT
BEGIN:VEVENT
DTSTART;TZID=Europe/Madrid:20220421T203000
DTEND;TZID=Europe/Madrid:20220421T203000
DTSTAMP:20260422T025807
CREATED:20220418T195219Z
LAST-MODIFIED:20220418T195533Z
UID:111098-1650573000-1650573000@merida.es
SUMMARY:Cine Filmoteca: "Mediterráneo"
DESCRIPTION:País: España\nAño: 2021\nDuración: 112’\nGénero: Drama \nDirección: Marcel Barrena\nGuión: Danielle Schleif. Historia: Marcel Barrena\, Óscar Camps \nReparto: Eduard Fernández\, Dani Rovira\, Anna Castillo\, Sergi López\, Àlex Monner \nSinopsis: Otoño de 2015. Dos socorristas\, Óscar y Gerard\, viajan hasta la isla de Lesbos\, en Grecia\, impactados por la fotografía de un niño ahogado en las aguas del Mediterráneo. Al llegar descubren una realidad sobrecogedora: miles de personas arriesgan sus vidas cada día cruzando el mar en precarias embarcaciones y huyendo de conflictos armados. Sin embargo\, nadie ejerce labores de rescate. \n2021: 3 Premios Goya: Mejor fotografía\, mejor dirección de producción y mejor canción \nEntrada: 1€.\nLa película se emite en versión original con subtítulos.\nProgramación de la Filmoteca: http://filmotecaextremadura.juntaex.es
URL:https://merida.es/agenda/cine-filmoteca-mediterraneo/
LOCATION:Centro Cultural Santo Domingo Fundación CB\, Plaza de Santo Domingo\, s/n\, Mérida
CATEGORIES:Cine
ATTACH;FMTTYPE=image/jpeg:https://merida.es/wp-content/uploads/2022/04/Mediterraneo-peq2.jpg
END:VEVENT
END:VCALENDAR