﻿BEGIN:VCALENDAR
VERSION:2.0
PRODID:-//Ayuntamiento de Mérida - ECPv6.15.17.1//NONSGML v1.0//EN
CALSCALE:GREGORIAN
METHOD:PUBLISH
X-WR-CALNAME:Ayuntamiento de Mérida
X-ORIGINAL-URL:https://merida.es
X-WR-CALDESC:Eventos para Ayuntamiento de Mérida
REFRESH-INTERVAL;VALUE=DURATION:PT1H
X-Robots-Tag:noindex
X-PUBLISHED-TTL:PT1H
BEGIN:VTIMEZONE
TZID:Europe/Madrid
BEGIN:DAYLIGHT
TZOFFSETFROM:+0100
TZOFFSETTO:+0200
TZNAME:CEST
DTSTART:20210328T010000
END:DAYLIGHT
BEGIN:STANDARD
TZOFFSETFROM:+0200
TZOFFSETTO:+0100
TZNAME:CET
DTSTART:20211031T010000
END:STANDARD
BEGIN:DAYLIGHT
TZOFFSETFROM:+0100
TZOFFSETTO:+0200
TZNAME:CEST
DTSTART:20220327T010000
END:DAYLIGHT
BEGIN:STANDARD
TZOFFSETFROM:+0200
TZOFFSETTO:+0100
TZNAME:CET
DTSTART:20221030T010000
END:STANDARD
BEGIN:DAYLIGHT
TZOFFSETFROM:+0100
TZOFFSETTO:+0200
TZNAME:CEST
DTSTART:20230326T010000
END:DAYLIGHT
BEGIN:STANDARD
TZOFFSETFROM:+0200
TZOFFSETTO:+0100
TZNAME:CET
DTSTART:20231029T010000
END:STANDARD
END:VTIMEZONE
BEGIN:VEVENT
DTSTART;VALUE=DATE:20220530
DTEND;VALUE=DATE:20220609
DTSTAMP:20260422T015528
CREATED:20220601T094025Z
LAST-MODIFIED:20220601T094025Z
UID:112348-1653868800-1654732799@merida.es
SUMMARY:Exposición Colectiva Taller de Pintura Centro de Mayores 'Reyes Huertas'
DESCRIPTION:Del 30 de mayo al 8 de junio se puede visitar\, en el Centro Cultural Alcazaba\, la exposición de los trabajos realizados por los alumnos del taller de pintura que se imparte en el Centro de Mayores «Reyes Huertas» gracias a la labor voluntaria de la monitora y socia del Centro\, Ana María de Bernardi Santos\, pintora amateur que lleva varios años impartiendo con gran éxito este taller en dicho centro
URL:https://merida.es/agenda/exposicion-colectiva-taller-de-pintura-centro-de-mayores-reyes-huertas/
LOCATION:Centro Cultural Alcazaba\, Calle John Lennon\, 5\, Mérida
CATEGORIES:Exposición
ATTACH;FMTTYPE=image/jpeg:https://merida.es/wp-content/uploads/2022/06/2022-exposicion-colectiva-mayores-peq.jpg
END:VEVENT
BEGIN:VEVENT
DTSTART;VALUE=DATE:20220603
DTEND;VALUE=DATE:20220605
DTSTAMP:20260422T015528
CREATED:20220530T075933Z
LAST-MODIFIED:20220530T080119Z
UID:112257-1654214400-1654387199@merida.es
SUMMARY:III Jornadas Nacionales de Sexología
DESCRIPTION:Los días 3 y 4 de junio tendrán lugar\, en el Centro Cultural Alcazaba\, las III JORNADAS NACIONALES DE SEXOLOGÍA\, un evento organizado por el Instituto Clínico Extremeño de Sexología\, cada vez con mayor reconocimiento\, que sirve de encuentro a profesionales\, estudiantes y población general\, donde poder acercar y compartir el multidisciplinar conocimiento de la sexología. \nEn esta ocasión\, coincidiendo con la celebración del XXV Aniversario de la Declaración Universal de los Derechos Sexuales (‘97-‘22)\, nuestro lema es Salud Sexual y Placer: una cuestión de Derecho. \nSe hará especial mención a todos aquellos asuntos que nos recuerdan la necesidad de conocer y respetar nuestros Derechos Sexuales\, reconocidos por la OMS como parte de los Derechos Humanos\, para poder gozar de Salud Sexual e integridad en nuestros cuerpos y crecer libres\, lejos de toda violencia\, coacción o explotación. En este aspecto\, el bienestar de las personas no será posible sin una mejor formación de nuestros profesionales y el respeto de todos los Derechos Sexuales. \nWeb oficial: https://icexs.com/jornadas
URL:https://merida.es/agenda/iii-jornadas-nacionales-de-sexologia/
LOCATION:Centro Cultural Alcazaba\, Calle John Lennon\, 5\, Mérida
CATEGORIES:Charla-Conferencia,Jornadas
ATTACH;FMTTYPE=image/jpeg:https://merida.es/wp-content/uploads/2022/05/2022-jornadas-sexologia-peq.jpg
END:VEVENT
BEGIN:VEVENT
DTSTART;VALUE=DATE:20220603
DTEND;VALUE=DATE:20220701
DTSTAMP:20260422T015528
CREATED:20220606T124443Z
LAST-MODIFIED:20220606T124443Z
UID:112514-1654214400-1656633599@merida.es
SUMMARY:Exposición fotográfica "Tánger\, la vida en la playa" de Joaquín García
DESCRIPTION:Del 3 al 30 de junio el fotógrafo Joaquín García expondrá\, en el Centro Cultural Santo Domingo de Fundación CB\, la muestra «Tánger\, la vida en la playa»\, una serie de fotografías en las que el autor pretende reflejar los contrastes y escenarios que puedes encontrar en la playa de Tánger\, mezclando escenas universales con otras propias de la tradición marroquí\, ropa a la moda europea y chilabas\, trajes de baño\, bikinis y “sebnías” (pañuelos)… Pero en todas estas escenas se percibe siempre una actitud de sereno hedonismo propia de la alegría de vivir
URL:https://merida.es/agenda/exposicion-fotografica-tanger-la-vida-en-la-playa-de-joaquin-garcia/
LOCATION:Centro Cultural Santo Domingo Fundación CB\, Plaza de Santo Domingo\, s/n\, Mérida
CATEGORIES:Exposición
ATTACH;FMTTYPE=image/jpeg:https://merida.es/wp-content/uploads/2022/06/eposicion-tanger-peq.jpg
END:VEVENT
BEGIN:VEVENT
DTSTART;TZID=Europe/Madrid:20220604T103000
DTEND;TZID=Europe/Madrid:20220604T103000
DTSTAMP:20260422T015528
CREATED:20220531T095340Z
LAST-MODIFIED:20220531T095340Z
UID:112300-1654338600-1654338600@merida.es
SUMMARY:IV Zumbatón Solidario Ciudad de Mérida
DESCRIPTION:El IV Zumbatón Solidario «Ciudad de Mérida» se celebrará el sábado 4 de junio de 2022\, en IFEME\, a partir de las 10:30 horas horas y contará con numerosas masterclass de zumba\, talleres\, shows y exhibiciones. Se contará con regalos y sorteos durante todo el día\, barra con comida y refrescos\, dulces\, paellada y cortadores de jamón. \nEl precio-donativo de la inscripción es de 5 € y todo lo recaudado irá destinado para la Asociación Oncológica de Extremadura (AOEX). Se trata de una iniciativa de Víctor Manuel Acosta con la colaboración de la Escuela de Baile Fran Montero del Alba y Ayuntamiento de Mérida\, entre otras entidades y empresas.
URL:https://merida.es/agenda/iv-zumbaton-solidario-ciudad-de-merida/
LOCATION:Instituto Ferial de Mérida IFEME\, C/ Manuel Nuñez (Urbanización El Prado)\, Mérida\, 06800\, España
CATEGORIES:Benéfico,Curso-Taller,Danza
ATTACH;FMTTYPE=image/jpeg:https://merida.es/wp-content/uploads/2022/05/2022-zumbatron-peq.jpg
END:VEVENT
BEGIN:VEVENT
DTSTART;TZID=Europe/Madrid:20220604T220000
DTEND;TZID=Europe/Madrid:20220604T220000
DTSTAMP:20260422T015528
CREATED:20220601T113340Z
LAST-MODIFIED:20220601T113639Z
UID:112375-1654380000-1654380000@merida.es
SUMMARY:Flamenco Inclusivo 'Gozo y Llanto'
DESCRIPTION:El Templo de Diana acoge\, el sábado 4 de junio\, a partir de las 22:00 horas\, el espectáculo de flamenco inclusivo ‘Gozo y Llanto’\, de la Compañía José Galán. \nEl espectáculo cuenta con las dos emociones primarias del ser humano: gozo o el placer de la felicidad y llanto o el dolor del sufrimiento. Es una reflexión interpretada en voz alta\, a corazón abierto y con el alma desnuda\, para transmitir estos dos conceptos opuestos o complementarios que marcan la vida. Los intérpretes narran sus propias historias personales mediante la danza y sus capacidades artísticas diversas y el lenguaje de sus cuerpos únicos en escena. Carmen Caro\, Rocío Cuadrado\, José Galán\, Concha García\, Lola García-Baquero y Manuel Pérez son los protagonistas. \nLa Compañía José Galán de Flamenco Inclusivo nace en 2010 con el propósito de acercar\, promover y difundir el flamenco y las artes escénicas entre los colectivos más desfavorecidos\, los cuales no tendrían acceso a esta formación por ningún otro medio debido a su diversidad. Es pues pionera e innovadora en la creación de un flamenco accesible (inclusivo) a cualquier artista sin importar edad\, etnia\, género o capacidades físicas y/o intelectuales.
URL:https://merida.es/agenda/flamenco-inclusivo-gozo-y-llanto/
LOCATION:Templo de Diana\, Calle Romero Leal\, s/n\, Mérida
CATEGORIES:Danza
ATTACH;FMTTYPE=image/jpeg:https://merida.es/wp-content/uploads/2022/06/2022-flamenco-gozo-y-llanto-peq2.jpg
END:VEVENT
END:VCALENDAR