﻿BEGIN:VCALENDAR
VERSION:2.0
PRODID:-//Ayuntamiento de Mérida - ECPv6.15.17.1//NONSGML v1.0//EN
CALSCALE:GREGORIAN
METHOD:PUBLISH
X-ORIGINAL-URL:https://merida.es
X-WR-CALDESC:Eventos para Ayuntamiento de Mérida
REFRESH-INTERVAL;VALUE=DURATION:PT1H
X-Robots-Tag:noindex
X-PUBLISHED-TTL:PT1H
BEGIN:VTIMEZONE
TZID:Europe/Madrid
BEGIN:DAYLIGHT
TZOFFSETFROM:+0100
TZOFFSETTO:+0200
TZNAME:CEST
DTSTART:20210328T010000
END:DAYLIGHT
BEGIN:STANDARD
TZOFFSETFROM:+0200
TZOFFSETTO:+0100
TZNAME:CET
DTSTART:20211031T010000
END:STANDARD
BEGIN:DAYLIGHT
TZOFFSETFROM:+0100
TZOFFSETTO:+0200
TZNAME:CEST
DTSTART:20220327T010000
END:DAYLIGHT
BEGIN:STANDARD
TZOFFSETFROM:+0200
TZOFFSETTO:+0100
TZNAME:CET
DTSTART:20221030T010000
END:STANDARD
BEGIN:DAYLIGHT
TZOFFSETFROM:+0100
TZOFFSETTO:+0200
TZNAME:CEST
DTSTART:20230326T010000
END:DAYLIGHT
BEGIN:STANDARD
TZOFFSETFROM:+0200
TZOFFSETTO:+0100
TZNAME:CET
DTSTART:20231029T010000
END:STANDARD
END:VTIMEZONE
BEGIN:VEVENT
DTSTART;VALUE=DATE:20220701
DTEND;VALUE=DATE:20220822
DTSTAMP:20260421T192152
CREATED:20220323T124623Z
LAST-MODIFIED:20220715T113407Z
UID:110309-1656633600-1661126399@merida.es
SUMMARY:68 Festival Internacional de Teatro Clásico 2022
DESCRIPTION:El Teatro Romano de Mérida acogerá\, entre los días 1 de julio y 21 de agosto\, la 68 edición del Festival Internacional de Teatro Clásico de Mérida con un total de 9 grandes espectáculos\, seis obras de teatro y 2 espectáculos de ballet. \nLos montajes que tendrán lugar en la arena del Teatro Romano de Mérida son: ‘Julio César’\, de William Shakespeare en versión libre de José María Muscari; ‘Safo Fragmento 36’\, de Christina Rosenvinge\, Marta Pazos y Maria Folguera; ‘El misántropo’\, de Menandro\, con adaptación de Carol López y Xus de la Cruz; ‘Minerva’\, de Assumpta Serna y Scott Cleverdon; dos ballets: ‘Ariadna\, al hilo del mito’\, del ballet de Rafaela Carrasco\, con dramaturgia y letras de Álvaro Tato\, y ‘De Scheherazade’\, del ballet de María Pagés\, dirigido por María Pagés y El Arbi El Harti; ‘Miles Gloriosus’\, de Plauto\, dirigido por Pep Anton Gómez; ‘El aroma de Roma’\, un musical de Woody Aragón\, Fernando Lancha y Santiago Lancha y ‘La tumba de Antígona’\, de María Zambrano. \nUna de las mayores novedades de la 68 edición será el nuevo Teatro María Luisa que se incorpora como escenario del Festival y que se inaugurará con 5 espectáculos: ‘¡Qué salga Aristófanes!’ de la compañía Els Joglars; ‘Penélope’\, del Ballet de Murcia; ‘Antígona’ de Sófocles\, en versión de la compañía portuguesa Chapitô; ‘Numancia’ de Cervantes\, una coproducción de Nao d’Amores y la Compañía Nacional de Teatro Clásico (CNTC) y ‘Las Bingueras de Eurípides’ de Las Niñas de Cádiz. \nLa ciudad de Mérida verá ampliada\, además\, la programación por sus calles y rincones monumentales gracias a la Programación OFF que seguirá con la divulgación de la cultura clásica a través de acciones lúdicas y artísticas con las representaciones teatrales de pequeño formato de ‘Agusto en Mérida’\, exposiciones\, proyecciones cinematográficas en el ‘Cinama Aestas’\, conferencias\, exposiciones\, campo de voluntarios\, cuentacuentos para los niños\, lecciones magistrales y talleres formativos\, y una novedosa actividad por las calles de Mérida: Escape City Box ‘La Tumba de Alejandro Magno’. \nMás información y venta de entradas: https://www.festivaldemerida.es/
URL:https://merida.es/agenda/68-festival-internacional-de-teatro-clasico-2022/
LOCATION:Teatro Romano\, Plaza de Margarita Xirgú\, Mérida
CATEGORIES:Teatro
ATTACH;FMTTYPE=image/jpeg:https://merida.es/wp-content/uploads/2022/03/2022-festival-teatro-peq.jpg
END:VEVENT
BEGIN:VEVENT
DTSTART;VALUE=DATE:20220704
DTEND;VALUE=DATE:20220901
DTSTAMP:20260421T192152
CREATED:20220711T132152Z
LAST-MODIFIED:20220711T132415Z
UID:113494-1656892800-1661990399@merida.es
SUMMARY:Exposición «Puro Teatro»
DESCRIPTION:Más de dos mil años después\, el Teatro Romano de Mérida guarda secretos esperando a ser descubiertos por aquel que los mira. Integrados en la potencia estética de su frente escénico\, marcados en sus muros\, en su grada\, constituyen la evidencia de un pasado que llega intacto hasta nuestros días. \nDetalles que nos acercan a quienes lo imaginaron y lo reformaron\, sus motivos\, su personalidad. Augusto\, Agripa\, Trajano… Nombres históricos vinculados a Mérida desde sus inicios. \nCuriosidades sobre las manos anónimas que lo construyeron\, o aquellas más conocidas que lo excavaron y restauraron; sobre aquellos que lo usaron como escenario en los primeros años\, tras su puesta de largo con la Medea de Margarita Xirgu. \nEl teatro hoy también tiene manos que lo miman\, lo cuidan y lo acicalan. Arqueólogos\, restauradores\, museógrafos\, escenógrafos\, actores… El Consorcio de la Ciudad de Mérida y el Festival de Teatro Clásico\, continente y contenido que dan voz a las piedras milenarias\, compañeros de camino en su uso sostenible\, presentan la exposición “Puro Teatro”. Acompáñenos y descúbralo de nuevo.
URL:https://merida.es/agenda/exposicion-puro-teatro/
LOCATION:Convento de Santa Clara (Sede del Consorcio y Festival de Mérida)\, Calle Santa Julia\, 5\, Mérida
CATEGORIES:Exposición
ATTACH;FMTTYPE=image/jpeg:https://merida.es/wp-content/uploads/2022/07/2022-expo-puro-teatro-peq.jpg
END:VEVENT
BEGIN:VEVENT
DTSTART;VALUE=DATE:20220715
DTEND;VALUE=DATE:20220820
DTSTAMP:20260421T192152
CREATED:20220711T113008Z
LAST-MODIFIED:20230508T210600Z
UID:113483-1657843200-1660953599@merida.es
SUMMARY:XVI Ciclo de Cine de Verano
DESCRIPTION:La XVI edición del Ciclo de Cine de Verano al Aire Libre vuelve al Parque de las Siete Sillas en la noche de los viernes de los meses de julio y agosto\, a partir de las 22:30 horas. \nLa oferta de este verano incluye un total de seis proyecciones de títulos emblemáticos del cine de las últimas décadas\, y dirigidas fundamentalmente a todos los públicos\, manteniendo el objetivo de promover el ocio familiar y pensando\, sobre todo\, en la población menor de edad. \nEl ciclo comenzará el 15 de julio con la comedia “Solo en casa”\, continua el viernes 22 de julio con “Casper”\, el 29 de julio con “La patrulla canina”\, el 5 de agosto con “Un padre en apuros”\, el 12 de agosto “Shrek” y finalizará el 19 de agosto con “La canción del mar”. \nEste ciclo de cine está enmarcado dentro del programa Jovenocio.13\, financiado por la Delegación del Gobierno para el Plan Nacional sobre Drogas del Ministerio de Sanidad y el Ayuntamiento de Mérida.
URL:https://merida.es/agenda/xv-ciclo-de-cine-verano/
LOCATION:Parque de las VII Sillas\, Mérida
CATEGORIES:Cine
ATTACH;FMTTYPE=image/jpeg:https://merida.es/wp-content/uploads/2022/07/2022-cine-aire-libre-peq.jpg
END:VEVENT
BEGIN:VEVENT
DTSTART;VALUE=DATE:20220802
DTEND;VALUE=DATE:20220901
DTSTAMP:20260421T192152
CREATED:20220803T104049Z
LAST-MODIFIED:20220803T104049Z
UID:113948-1659398400-1661990399@merida.es
SUMMARY:Exposición “ADMO\, 25 años latiendo”
DESCRIPTION:La exposición “ADMO\, 25 años latiendo” recoge 25 carteles agrupados en cuatro bloques unidos por el denominador común que es transmitir los valores de esta asociación extremeña. “Fomento de la donación”\, “Acciones de atención a pacientes”\, “Jornadas” y “Comunicación y sensibilización” agrupan los carteles que se podrán ver en el Centro Cultural Alcazaba de Mérida entre el 2 y el 31 de agosto. \nSensibilizar a la población sobre la donación de médula ósea y sangre de cordón umbilical y aumentar el número de donantes de la región es uno de los objetivos principales de ADMO. En torno a él giran los carteles recogidos en el bloque “Fomento de la donación”. \nEl programa anual de ocio terapéutico de ADMO\, que se complementa con actividades dentro de los hospitales\, está presente en esta exposición bajo el epígrafe “Acciones  de  atención  a  pacientes”. Esta línea de actuación busca atender diferentes demandas lúdicas\, culturales y recreativas visitando diferentes localidades. \nReconocida en el Plan Nacional de Donación de Médula Ósea por la Organización Nacional de Trasplantes (ONT) como entidad responsable de la información de posibles donantes que soliciten información en Extremadura\, ADMO es una entidad de ámbito regional que participa en encuentros nacionales e internacionales en los que se fomenta la donación de médula ósea\, cordón umbilical y leche materna. \nEl ya mencionado objetivo de sensibilización va estrechamente unido en ADMO con la promoción de valores como la solidaridad o la inclusión\, entre otros\, y así se puede ver en los carteles que conforman el bloque “Comunicación y sensibilización”.
URL:https://merida.es/agenda/exposicion-admo-25-anos-latiendo/
LOCATION:Centro Cultural Alcazaba\, Calle John Lennon\, 5\, Mérida
ATTACH;FMTTYPE=image/png:https://merida.es/wp-content/uploads/2022/08/2022-expo-admo-peq.png
END:VEVENT
BEGIN:VEVENT
DTSTART;VALUE=DATE:20220815
DTEND;VALUE=DATE:20220820
DTSTAMP:20260421T192152
CREATED:20220712T080136Z
LAST-MODIFIED:20220815T093622Z
UID:113537-1660521600-1660953599@merida.es
SUMMARY:Agusto en Mérida: «Castigadas»
DESCRIPTION:CASTIGADAS\, adaptación de “Las Termosforias” de Aristófanes\n15 al 19 de agosto\, en la Plaza de Pontezuelas. 21:15 horas. \nVersión y Dirección: Juan Carlos T. Aguilar\nAyudante de dirección: Miguelito Marin\nDramaturgia: Raquel Bazo\nPúblico dirigido: Público familiar\nDuración: 70 minutos\nProducción: Escuela de Teatro TAPTC ? \nIntérpretes: Miguelito Marín\, Alba Gómez\, Miguel Llanos\, Héctor Llanos\, Libertad Carballo\, Lucía Rodríguez\, Belen Hernández\, Luna Macías\, Guadalupe Betti\, Paula Calvo\, Luna Blazquez\, Paula Perez\, Adrian Gonzalez\, María Saavedra\, Sara Wens\, Candela Tenés\, Alvaro Trenado\, Miriam Nevado\, Alma Gómez\, Marina Manzano\, Alejandra Gutiérrez\, Nuria Fernández\, Nora Sadornil\, Marta Bazaga y Sofía Bazaga \nSinopsis: A un grupo de alumnos y alumnas de instituto\, para poder aprobar el curso\, le han encargado la tarea de representar «Las Tesmoforias»\, una obra clásica del año 411 a.C. Ya en el 2022\, el público se enfrentará\, desde la risa y la reflexión\, a la visión que tienen estos jóvenes sobre la realidad de aquel tiempo y de éste. \nEntrada: 4€.\nVenta online: https://taptcteatro.com/entradas/
URL:https://merida.es/agenda/agusto-en-merida-las-eumenides-2-2-2/
LOCATION:Plaza de Pontezuelas\, Mérida
CATEGORIES:Teatro
ATTACH;FMTTYPE=image/jpeg:https://merida.es/wp-content/uploads/2022/07/2022-agusto-castigadas-peq.jpeg
END:VEVENT
BEGIN:VEVENT
DTSTART;VALUE=DATE:20220817
DTEND;VALUE=DATE:20220822
DTSTAMP:20260421T192152
CREATED:20220620T092539Z
LAST-MODIFIED:20220620T092539Z
UID:112880-1660694400-1661126399@merida.es
SUMMARY:68 Festival de Teatro Clásico: "La tumba de Antígona"
DESCRIPTION:Del 17 al 21 de agosto de 2022 · 22:45h. \nLa tumba de Antígona\nDe María Zambrano \n“Antígona\, en verdad\, no se suicidó en su tumba\, según Sófocles\, incurriendo en un inevitable error\, nos cuenta.” Con estas palabras inicia María Zambrano su obra La tumba de Antígona (1967)\, una pieza teatral que aúna filosofía y literatura. En esas palabras iniciales se despliega el sentir zambraniano en todo su esplendor: esperanza\, tiempo\, delirio\, amor. \nEsperanza como el último sustento de la vida que permite germinar en conocimiento; tiempo para que la conciencia despierte; delirio para encontrar vínculos con la realidad cuando la realidad impide enraizar en ella la existencia; amor como sueño y sacrificio y promesa. \nEstos ingredientes cuestionan el canon de manera radical\, pues que Antígona no solo no se quita la vida\, sino que encuentra espacios de tiempo en su delirio con los que poder renacer. ¿No estamos acaso ávidos de nacer del todo? ¿De encontrar razones del corazón a la sinrazón de los tiranos? ¿No tendremos enterrada viva una Antígona cada una de nosotras? \nReparto: Ana García\, Cristina Pérez Bermejo\, Elena Rocha\, Lara Martorán\, Camilo Maqueda\, Mamen Godoy\, Tania Garrido\, Jorge Barrantes\nAutora: María Zambrano\nVersión: Nieves Rodríguez Rodríguez y Cristina D. Silveira\nDirección: Cristina D. Silveira \nMás información y venta de entradas: https://www.festivaldemerida.es
URL:https://merida.es/agenda/68-festival-de-teatro-clasico-la-tumba-de-antigona/
LOCATION:Teatro Romano\, Plaza de Margarita Xirgú\, Mérida
CATEGORIES:Teatro
ATTACH;FMTTYPE=image/jpeg:https://merida.es/wp-content/uploads/2022/06/2022-festival-teatro-antigona-peq.jpg
END:VEVENT
BEGIN:VEVENT
DTSTART;TZID=Europe/Madrid:20220818T220000
DTEND;TZID=Europe/Madrid:20220818T220000
DTSTAMP:20260421T192152
CREATED:20220810T082815Z
LAST-MODIFIED:20220818T071138Z
UID:114066-1660860000-1660860000@merida.es
SUMMARY:El Festival va por Barrios: "Tiresias"
DESCRIPTION:Dentro de las actividades del Festival de Teatro Clásico de Mérida\, se representará la obra ‘TIRESIAS’\, producida por TAPTC Teatro\, en diferentes barriadas de la ciudad durante julio y agosto con el patrocinio del Ayuntamiento de Mérida con la denominación ‘El Festival va por Barrios’. \nLa obra podrá verse en los siguientes emplazamientos\, a las 22:00 horas: \nSábado 16 de julio: Zona Sur (Plaza de José Zorrilla)\nViernes 29 de julio: La Antigua (Detrás de la Ermita)\nSábado 30 de julio: Nueva Ciudad (Parque de la Iglesia de Los Milagros)\nViernes 12 de agosto: Plantonal de Vera\nJueves 18 de agosto: La Calzada (NUEVA FECHA)\nSábado 20 de agosto: Proserpina \nNuria Cuadrado protagoniza ‘Tiresias’ un meta humano dotado del poder y maldición de la clarividencia. Es un ser fluido\, hijo de la ninfa acuática Liríope y el dios río Céfiso que ha tenido en sus diferentes vidas el conocimiento y la experiencia de lo masculino y lo femenino. En su última reencarnación\, dedica su tiempo al esparcimiento y el entretenimiento\, narrando a quién le visita\, el origen de su ceguera\, la maldición de su poder\, su participación en diferentes mitos. \nDirección\, texto y diseños: Javier Llanos
URL:https://merida.es/agenda/el-festival-va-por-barrios-tiresias-5/
LOCATION:Barriada de La Calzada\, Mérida
CATEGORIES:Teatro
ATTACH;FMTTYPE=image/jpeg:https://merida.es/wp-content/uploads/2022/07/2022-tiresias-agusto-peq.jpg
END:VEVENT
END:VCALENDAR