﻿BEGIN:VCALENDAR
VERSION:2.0
PRODID:-//Ayuntamiento de Mérida - ECPv6.15.17.1//NONSGML v1.0//EN
CALSCALE:GREGORIAN
METHOD:PUBLISH
X-ORIGINAL-URL:https://merida.es
X-WR-CALDESC:Eventos para Ayuntamiento de Mérida
REFRESH-INTERVAL;VALUE=DURATION:PT1H
X-Robots-Tag:noindex
X-PUBLISHED-TTL:PT1H
BEGIN:VTIMEZONE
TZID:Europe/Madrid
BEGIN:DAYLIGHT
TZOFFSETFROM:+0100
TZOFFSETTO:+0200
TZNAME:CEST
DTSTART:20210328T010000
END:DAYLIGHT
BEGIN:STANDARD
TZOFFSETFROM:+0200
TZOFFSETTO:+0100
TZNAME:CET
DTSTART:20211031T010000
END:STANDARD
BEGIN:DAYLIGHT
TZOFFSETFROM:+0100
TZOFFSETTO:+0200
TZNAME:CEST
DTSTART:20220327T010000
END:DAYLIGHT
BEGIN:STANDARD
TZOFFSETFROM:+0200
TZOFFSETTO:+0100
TZNAME:CET
DTSTART:20221030T010000
END:STANDARD
BEGIN:DAYLIGHT
TZOFFSETFROM:+0100
TZOFFSETTO:+0200
TZNAME:CEST
DTSTART:20230326T010000
END:DAYLIGHT
BEGIN:STANDARD
TZOFFSETFROM:+0200
TZOFFSETTO:+0100
TZNAME:CET
DTSTART:20231029T010000
END:STANDARD
END:VTIMEZONE
BEGIN:VEVENT
DTSTART;VALUE=DATE:20220704
DTEND;VALUE=DATE:20220901
DTSTAMP:20260421T210431
CREATED:20220711T132152Z
LAST-MODIFIED:20220711T132415Z
UID:113494-1656892800-1661990399@merida.es
SUMMARY:Exposición «Puro Teatro»
DESCRIPTION:Más de dos mil años después\, el Teatro Romano de Mérida guarda secretos esperando a ser descubiertos por aquel que los mira. Integrados en la potencia estética de su frente escénico\, marcados en sus muros\, en su grada\, constituyen la evidencia de un pasado que llega intacto hasta nuestros días. \nDetalles que nos acercan a quienes lo imaginaron y lo reformaron\, sus motivos\, su personalidad. Augusto\, Agripa\, Trajano… Nombres históricos vinculados a Mérida desde sus inicios. \nCuriosidades sobre las manos anónimas que lo construyeron\, o aquellas más conocidas que lo excavaron y restauraron; sobre aquellos que lo usaron como escenario en los primeros años\, tras su puesta de largo con la Medea de Margarita Xirgu. \nEl teatro hoy también tiene manos que lo miman\, lo cuidan y lo acicalan. Arqueólogos\, restauradores\, museógrafos\, escenógrafos\, actores… El Consorcio de la Ciudad de Mérida y el Festival de Teatro Clásico\, continente y contenido que dan voz a las piedras milenarias\, compañeros de camino en su uso sostenible\, presentan la exposición “Puro Teatro”. Acompáñenos y descúbralo de nuevo.
URL:https://merida.es/agenda/exposicion-puro-teatro/
LOCATION:Convento de Santa Clara (Sede del Consorcio y Festival de Mérida)\, Calle Santa Julia\, 5\, Mérida
CATEGORIES:Exposición
ATTACH;FMTTYPE=image/jpeg:https://merida.es/wp-content/uploads/2022/07/2022-expo-puro-teatro-peq.jpg
END:VEVENT
BEGIN:VEVENT
DTSTART;VALUE=DATE:20220802
DTEND;VALUE=DATE:20220901
DTSTAMP:20260421T210431
CREATED:20220803T104049Z
LAST-MODIFIED:20220803T104049Z
UID:113948-1659398400-1661990399@merida.es
SUMMARY:Exposición “ADMO\, 25 años latiendo”
DESCRIPTION:La exposición “ADMO\, 25 años latiendo” recoge 25 carteles agrupados en cuatro bloques unidos por el denominador común que es transmitir los valores de esta asociación extremeña. “Fomento de la donación”\, “Acciones de atención a pacientes”\, “Jornadas” y “Comunicación y sensibilización” agrupan los carteles que se podrán ver en el Centro Cultural Alcazaba de Mérida entre el 2 y el 31 de agosto. \nSensibilizar a la población sobre la donación de médula ósea y sangre de cordón umbilical y aumentar el número de donantes de la región es uno de los objetivos principales de ADMO. En torno a él giran los carteles recogidos en el bloque “Fomento de la donación”. \nEl programa anual de ocio terapéutico de ADMO\, que se complementa con actividades dentro de los hospitales\, está presente en esta exposición bajo el epígrafe “Acciones  de  atención  a  pacientes”. Esta línea de actuación busca atender diferentes demandas lúdicas\, culturales y recreativas visitando diferentes localidades. \nReconocida en el Plan Nacional de Donación de Médula Ósea por la Organización Nacional de Trasplantes (ONT) como entidad responsable de la información de posibles donantes que soliciten información en Extremadura\, ADMO es una entidad de ámbito regional que participa en encuentros nacionales e internacionales en los que se fomenta la donación de médula ósea\, cordón umbilical y leche materna. \nEl ya mencionado objetivo de sensibilización va estrechamente unido en ADMO con la promoción de valores como la solidaridad o la inclusión\, entre otros\, y así se puede ver en los carteles que conforman el bloque “Comunicación y sensibilización”.
URL:https://merida.es/agenda/exposicion-admo-25-anos-latiendo/
LOCATION:Centro Cultural Alcazaba\, Calle John Lennon\, 5\, Mérida
ATTACH;FMTTYPE=image/png:https://merida.es/wp-content/uploads/2022/08/2022-expo-admo-peq.png
END:VEVENT
BEGIN:VEVENT
DTSTART;VALUE=DATE:20220826
DTEND;VALUE=DATE:20220926
DTSTAMP:20260421T210431
CREATED:20211223T155135Z
LAST-MODIFIED:20220730T085456Z
UID:107093-1661472000-1664150399@merida.es
SUMMARY:Stone & Music Festival 2022
DESCRIPTION:En el año 2022\, el Stone Music Festival celebrará su séptima edición para el que volverá a contar con artistas nacionales e internacionales de primer nivel. \nTodos los espectáculos presentados se llevarán a cabo en el marco del Teatro Romano de Mérida volviendo a unir patrimonio\, cultura y ocio en este monumento señero de Extremadura. \n• MIGUEL RÍOS – 26 de agosto\n• ANTONIO OROZCO – 28 de agosto\n• IZAL – 3 de septiembre\n• MALÚ – 9 de septiembre\n• PABLO ALBORÁN – 10 de septiembre\n• SERRAT – 11 y 12 de septiembre\n• MIGUEL POVEDA – 16 de septiembre\n• ZAZ – 17 de septiembre\n• DEEP PURPLE – 23 de septiembre\n• LUDOVICO – 24 de septiembre\n• MANOLO GARCÍA – 25 de septiembre \nLas entradas para todos los espectáculos se pueden adquirir a través de la web oficial: stoneandmusicfestival.com.
URL:https://merida.es/agenda/stone-music-festival-2022/
LOCATION:Teatro Romano\, Plaza de Margarita Xirgú\, Mérida
CATEGORIES:Música
ATTACH;FMTTYPE=image/jpeg:https://merida.es/wp-content/uploads/2021/12/2022-stone-peq.jpg
END:VEVENT
END:VCALENDAR