﻿BEGIN:VCALENDAR
VERSION:2.0
PRODID:-//Ayuntamiento de Mérida - ECPv6.15.17.1//NONSGML v1.0//EN
CALSCALE:GREGORIAN
METHOD:PUBLISH
X-WR-CALNAME:Ayuntamiento de Mérida
X-ORIGINAL-URL:https://merida.es
X-WR-CALDESC:Eventos para Ayuntamiento de Mérida
REFRESH-INTERVAL;VALUE=DURATION:PT1H
X-Robots-Tag:noindex
X-PUBLISHED-TTL:PT1H
BEGIN:VTIMEZONE
TZID:Europe/Madrid
BEGIN:DAYLIGHT
TZOFFSETFROM:+0100
TZOFFSETTO:+0200
TZNAME:CEST
DTSTART:20220327T010000
END:DAYLIGHT
BEGIN:STANDARD
TZOFFSETFROM:+0200
TZOFFSETTO:+0100
TZNAME:CET
DTSTART:20221030T010000
END:STANDARD
BEGIN:DAYLIGHT
TZOFFSETFROM:+0100
TZOFFSETTO:+0200
TZNAME:CEST
DTSTART:20230326T010000
END:DAYLIGHT
BEGIN:STANDARD
TZOFFSETFROM:+0200
TZOFFSETTO:+0100
TZNAME:CET
DTSTART:20231029T010000
END:STANDARD
BEGIN:DAYLIGHT
TZOFFSETFROM:+0100
TZOFFSETTO:+0200
TZNAME:CEST
DTSTART:20240331T010000
END:DAYLIGHT
BEGIN:STANDARD
TZOFFSETFROM:+0200
TZOFFSETTO:+0100
TZNAME:CET
DTSTART:20241027T010000
END:STANDARD
END:VTIMEZONE
BEGIN:VEVENT
DTSTART;VALUE=DATE:20230102
DTEND;VALUE=DATE:20230129
DTSTAMP:20260419T190848
CREATED:20230110T232206Z
LAST-MODIFIED:20230110T232206Z
UID:117865-1672617600-1674950399@merida.es
SUMMARY:Exposición “Pinceladas artísticas” de Eugenio Fernández
DESCRIPTION:Del 2 al 28 de enero\, el artista Eugenio Fernández prolonga su exposición «Pinceladas artísticas» en el Centro Cultural «Santo Domingo». Se trata de obras realistas de figuras y bodegones de sus últimas creaciones.
URL:https://merida.es/agenda/exposicion-pinceladas-artisticas-de-eugenio-fernandez-2/
LOCATION:Centro Cultural Santo Domingo Fundación CB\, Plaza de Santo Domingo\, s/n\, Mérida
CATEGORIES:Exposición
ATTACH;FMTTYPE=image/jpeg:https://merida.es/wp-content/uploads/2023/01/expo-pinceladas-artisticas-peq.jpg
END:VEVENT
BEGIN:VEVENT
DTSTART;VALUE=DATE:20230105
DTEND;VALUE=DATE:20230129
DTSTAMP:20260419T190848
CREATED:20230110T231440Z
LAST-MODIFIED:20230110T231440Z
UID:117862-1672876800-1674950399@merida.es
SUMMARY:Exposición “Gesto\, color y materia” de Juan José Gómez de la Torre
DESCRIPTION:Del 5 al 28 de enero se podrá visitar\, en el Centro Cultural Santo Domingo\, la exposición “Gesto\, color y materia” de Juan José Gómez de la Torre. Se trata de una treintena de obras de carácter paisajístico\, vivido y sentido\, en los que este galardonado artista elabora e interpreta sus obras a partir de un gran conocimiento y observación de la naturaleza.
URL:https://merida.es/agenda/exposicion-gesto-color-y-materia-de-juan-jose-gomez-de-la-torre/
LOCATION:Centro Cultural Santo Domingo Fundación CB\, Plaza de Santo Domingo\, s/n\, Mérida
CATEGORIES:Exposición
ATTACH;FMTTYPE=image/jpeg:https://merida.es/wp-content/uploads/2023/01/expo-gomez-de-la-torre-cartel.jpg
END:VEVENT
BEGIN:VEVENT
DTSTART;VALUE=DATE:20230109
DTEND;VALUE=DATE:20230126
DTSTAMP:20260419T190848
CREATED:20230110T135703Z
LAST-MODIFIED:20230110T135703Z
UID:117854-1673222400-1674691199@merida.es
SUMMARY:Exposición 'Erizos del desierto'
DESCRIPTION:Del 9 al 25 de enero\, se podrá visitar en la Biblioteca Jesús Delgado Valhondo la exposición ‘Erizos del desierto’ compuesta por 40 fotografías que muestran las condiciones en las que sobrevive el pueblo Saharaui refugiado desde hace más de 45 años. Organiza Asociación Sáhara Mérida
URL:https://merida.es/agenda/exposicion-erizos-del-desierto/
LOCATION:Biblioteca Jesús Delgado Valhondo\, Av. de la Libertad\, s/n\, Mérida
CATEGORIES:Exposición
ATTACH;FMTTYPE=image/jpeg:https://merida.es/wp-content/uploads/2023/01/2023-exposicion-erizos-del-desierto-peq.jpg
END:VEVENT
BEGIN:VEVENT
DTSTART;VALUE=DATE:20230118
DTEND;VALUE=DATE:20230123
DTSTAMP:20260419T190848
CREATED:20221221T153053Z
LAST-MODIFIED:20230115T150242Z
UID:117624-1674000000-1674431999@merida.es
SUMMARY:Supercopa de España Femenina
DESCRIPTION:Del 18 al 22 de enero de 2023 se disputará\, en el Estadio Romano José Fouto de Mérida\, la Supercopa de España Femenina: \n– Real Sociedad – Sporting de Huelva: 18 de enero a las 18:30 h. \n– FC Barcelona – Real Madrid: 19 de enero a las 18:30 h. \n𝗙𝗜𝗡𝗔𝗟: 22 de enero a las 12:00 h. \nVenta de entradas: https://tickets.rfef.es
URL:https://merida.es/agenda/supercopa-de-espana-femenina/
LOCATION:Estadio Romano José Fouto\, Mérida
CATEGORIES:Deporte
ATTACH;FMTTYPE=image/jpeg:https://merida.es/wp-content/uploads/2022/12/2023-supercopa-femenina-peq-1.jpg
END:VEVENT
BEGIN:VEVENT
DTSTART;VALUE=DATE:20230119
DTEND;VALUE=DATE:20230121
DTSTAMP:20260419T190848
CREATED:20230117T110447Z
LAST-MODIFIED:20230117T112053Z
UID:118029-1674086400-1674259199@merida.es
SUMMARY:5º Congreso Sociedad del Aprendizaje de Extremadura
DESCRIPTION:Los días 19 y 20 de enero de 2022 tendrá lugar el V Congreso de la Sociedad del Aprendizaje. Un nuevo encuentro después de 7 años en los que hemos aprendido a desaprender para poder crecer y hacer frente a los retos y desafíos del día a día. 7 años donde hemos desarrollado herramientas\, manuales\, guías\, metodologías…incluso talleres y formaciones experienciales \nDurante 2 días\, se desarrollarán diferentes ponencias inspiradoras en un encuentro donde se darán valores y aprendizajes colectivos y compartidos. \nMás información e inscripciones gratuitas: https://aprenderesunaactitud.es/v-congreso/
URL:https://merida.es/agenda/congreso-sociedad-del-aprendizaje-de-extremadura-2023/
LOCATION:Palacio de Congresos\, Avda. del Rio s/n\, Mérida
CATEGORIES:Charla-Conferencia
ATTACH;FMTTYPE=image/jpeg:https://merida.es/wp-content/uploads/2023/01/2023-congreso-sociedad-aprendizaje-peq.jpg
END:VEVENT
BEGIN:VEVENT
DTSTART;TZID=Europe/Madrid:20230120T183000
DTEND;TZID=Europe/Madrid:20230120T183000
DTSTAMP:20260419T190848
CREATED:20230119T221825Z
LAST-MODIFIED:20230119T221825Z
UID:118133-1674239400-1674239400@merida.es
SUMMARY:Presentación de la novela 'Préstame una vida sin ti' de June G. Icedo
DESCRIPTION:El viernes 20 de enero\, a las 18:30 horas\, la autora June G. Icedo presentará su novela «Préstame una vida sin ti» en el Centro Cultural Santo Domingo. La entrada es libre\, hasta completar aforo.
URL:https://merida.es/agenda/presentacion-de-la-novela-prestame-una-vida-sin-ti-de-june-g-icedo/
LOCATION:Centro Cultural Santo Domingo Fundación CB\, Plaza de Santo Domingo\, s/n\, Mérida
CATEGORIES:Literatura
ATTACH;FMTTYPE=image/jpeg:https://merida.es/wp-content/uploads/2023/01/2023-presentacion-libro-june-g-igedo-peq.jpg
END:VEVENT
BEGIN:VEVENT
DTSTART;TZID=Europe/Madrid:20230120T190000
DTEND;TZID=Europe/Madrid:20230120T190000
DTSTAMP:20260419T190848
CREATED:20230118T161821Z
LAST-MODIFIED:20230118T161821Z
UID:118094-1674241200-1674241200@merida.es
SUMMARY:Presentación del libro "Rebeldía (inteligente) contra la panicofilia" de Santiago Cambero
DESCRIPTION:Santiago Cambero presenta su libro «Rebeldía (inteligente) contra la panicofilia» el viernes 20 de enero de 2023\, a las 19.00 horas\, en la Asamblea de Extremadura. Prólogo de Blanca Martín Delgado\, presidenta de la Asamblea.
URL:https://merida.es/agenda/presentacion-del-libro-rebeldia-inteligente-contra-la-panicofilia-de-santiago-cambero/
LOCATION:Asamblea de Extremadura\, Plaza San Juan de Dios s/n\, Mérida
CATEGORIES:Literatura
ATTACH;FMTTYPE=image/jpeg:https://merida.es/wp-content/uploads/2023/01/santiago-cambero.jpg
END:VEVENT
END:VCALENDAR