﻿BEGIN:VCALENDAR
VERSION:2.0
PRODID:-//Ayuntamiento de Mérida - ECPv6.15.17.1//NONSGML v1.0//EN
CALSCALE:GREGORIAN
METHOD:PUBLISH
X-ORIGINAL-URL:https://merida.es
X-WR-CALDESC:Eventos para Ayuntamiento de Mérida
REFRESH-INTERVAL;VALUE=DURATION:PT1H
X-Robots-Tag:noindex
X-PUBLISHED-TTL:PT1H
BEGIN:VTIMEZONE
TZID:Europe/Madrid
BEGIN:DAYLIGHT
TZOFFSETFROM:+0100
TZOFFSETTO:+0200
TZNAME:CEST
DTSTART:20220327T010000
END:DAYLIGHT
BEGIN:STANDARD
TZOFFSETFROM:+0200
TZOFFSETTO:+0100
TZNAME:CET
DTSTART:20221030T010000
END:STANDARD
BEGIN:DAYLIGHT
TZOFFSETFROM:+0100
TZOFFSETTO:+0200
TZNAME:CEST
DTSTART:20230326T010000
END:DAYLIGHT
BEGIN:STANDARD
TZOFFSETFROM:+0200
TZOFFSETTO:+0100
TZNAME:CET
DTSTART:20231029T010000
END:STANDARD
BEGIN:DAYLIGHT
TZOFFSETFROM:+0100
TZOFFSETTO:+0200
TZNAME:CEST
DTSTART:20240331T010000
END:DAYLIGHT
BEGIN:STANDARD
TZOFFSETFROM:+0200
TZOFFSETTO:+0100
TZNAME:CET
DTSTART:20241027T010000
END:STANDARD
END:VTIMEZONE
BEGIN:VEVENT
DTSTART;VALUE=DATE:20230401
DTEND;VALUE=DATE:20230421
DTSTAMP:20260419T204958
CREATED:20230409T220627Z
LAST-MODIFIED:20230409T220627Z
UID:120605-1680307200-1682035199@merida.es
SUMMARY:Exposición de carteles ADMO "25 años latiendo"
DESCRIPTION:La Biblioteca Pública Jesús Delgado Valhondo acoge la exposición de carteles de ADMO (Asociación para la Donación de Médula Ósea de Extremadura)\, «25 años latiendo»\, del 1 al 20 de abril de 2023.
URL:https://merida.es/agenda/exposicion-de-carteles-admo-25-anos-latiendo/
LOCATION:Biblioteca Jesús Delgado Valhondo\, Av. de la Libertad\, s/n\, Mérida
CATEGORIES:Exposición
ATTACH;FMTTYPE=image/jpeg:https://merida.es/wp-content/uploads/2023/04/expo-admo-peq.jpg
END:VEVENT
BEGIN:VEVENT
DTSTART;VALUE=DATE:20230405
DTEND;VALUE=DATE:20230429
DTSTAMP:20260419T204958
CREATED:20230409T215451Z
LAST-MODIFIED:20230409T215451Z
UID:120599-1680652800-1682726399@merida.es
SUMMARY:Exposición colectiva “El lenguaje pictórico” de la Academia Miró
DESCRIPTION:Los alumnos de la Academia Miró expondrán del 5 al 28 de abril\, en la sala Emérita Augusta del Centro Cultural Santo Domingo\, una muestra titulada «El Lenguaje Pictcórico» que pondrá de manifiesto las destrezas y habilidades de estos futuros artistas. \nLos horarios de visita son de lunes a viernes\, de 17:30 a 21:00 horas. Sábados de 10:30 a 14:00 horas.
URL:https://merida.es/agenda/exposicion-colectiva-el-lenguaje-pictorico-de-la-academia-miro/
LOCATION:Centro Cultural Santo Domingo Fundación CB\, Plaza de Santo Domingo\, s/n\, Mérida
CATEGORIES:Exposición
ATTACH;FMTTYPE=image/jpeg:https://merida.es/wp-content/uploads/2023/04/academia-miro-peq.jpg
END:VEVENT
BEGIN:VEVENT
DTSTART;VALUE=DATE:20230405
DTEND;VALUE=DATE:20230429
DTSTAMP:20260419T204958
CREATED:20230409T215942Z
LAST-MODIFIED:20230409T215942Z
UID:120602-1680652800-1682726399@merida.es
SUMMARY:Exposición colectiva: “El mundo de Eva”
DESCRIPTION:La sala Vía de la Plata del Centro Cultural Santo Domingo muestra\, del 5 al 28 de abril\, la exposición colectiva «El mundo de Eva» en la que distintos artistas consiguen descifrar el libro «El gran apagón» de José Luis Villegas y plasmarlo en 35 ilustraciones.
URL:https://merida.es/agenda/exposicion-colectiva-el-mundo-de-eva/
LOCATION:Centro Cultural Santo Domingo Fundación CB\, Plaza de Santo Domingo\, s/n\, Mérida
CATEGORIES:Exposición
ATTACH;FMTTYPE=image/jpeg:https://merida.es/wp-content/uploads/2023/04/el-mundo-de-eva-peq.jpg
END:VEVENT
BEGIN:VEVENT
DTSTART;VALUE=DATE:20230414
DTEND;VALUE=DATE:20230417
DTSTAMP:20260419T204958
CREATED:20230325T234311Z
LAST-MODIFIED:20230325T235009Z
UID:120184-1681430400-1681689599@merida.es
SUMMARY:Global Dance Open\, Clasificatorio Español
DESCRIPTION:Global Dance Open es una competencia de baile de campeonato mundial. Los bailarines y los estudios pueden clasificarse a través de los clasificatorios virtuales y en vivo para representarse a sí mismos\, a sus estudios y a su país en las finales que serán del 19 al 22 de julio en Ávila\, España. Antes\, del 14 al 16 de abril\, Mérida acogerá el segundo Concurso Regional Internacional en España para calificar para dichas finales. \nPara bailarines de 6 a 29 años. Estilos: Ballet\, Contemporáneo\, Jazz\, Lírico\, Nacional/Folklore\, Hip Hop y Comercial\, Tap\, Showdance y Teatro Musical. \nMás información: https://www.globaldanceopen.com/spainqualifier
URL:https://merida.es/agenda/global-dance-open-clasificatorio-espanol/
LOCATION:Palacio de Congresos\, Avda. del Rio s/n\, Mérida
CATEGORIES:Danza
ATTACH;FMTTYPE=image/jpeg:https://merida.es/wp-content/uploads/2023/03/2023-global-dance-open-peq.jpg
END:VEVENT
BEGIN:VEVENT
DTSTART;VALUE=DATE:20230416
DTEND;VALUE=DATE:20230417
DTSTAMP:20260419T204958
CREATED:20230111T233512Z
LAST-MODIFIED:20230111T233512Z
UID:117914-1681603200-1681689599@merida.es
SUMMARY:I Camin@ x la Memoria 'Embalses Romanos'
DESCRIPTION:El domingo 16 de abril se celebrará la primera edición del Camin@ x la Memoria ‘Embalses Romanos’ que\, a beneficio de AFAM\, organiza la Asociación Club Deportivo Caminos Romanos. \nEl objetivo de la prueba es el de dar la máxima visibilidad sobre la problemática de la enfermedad de Alzheimer y otras demencias y que consiste en tres rutas senderistas sobre un circuito principal que recorrerá los embalses romanos de Cornalvo y Proserpina\, y los parajes naturales como Montes de Cornalvo (las Camellas y Meteorito); Sierra Bermeja; el callejón; Mirandilla; Casa de Campo; cañada Santa Maria de Araya; margen derecho del Guadiana; para finalizar en el Acueducto Romano de los Milagros\, donde se ofrecerá paella\, fruta y bebida gratuita a los participantes\, así como música y diversión. \nLa Organización pondrá a disposición de los participantes que lo necesiten\, el desplazamiento a los puntos de salida (Cornalvo; Mirandilla y Proserpina)\, que podrán contratar con la empresa Autobuses Morcillo en el momento de la inscripción. \nLa primera Ruta del Embalse de Cornalvo\, de 35 kms\, está destinada para los 100 deportistas mas experimentados\, con salida a las 7:00 horas desde el Cortijo Campomanes. La segunda Ruta de Mirandilla/Proserpina\, de 19 kms\, está destinada para los 350 senderistas que deseen salir a las 10:30 horas desde Mirandilla (Plaza del Ayuntamiento). Por último\, la Ruta Solidaria Proserpina\, de 9 kms. para los 150 caminantes que deseen salir a las 11:30 horas desde la parada de autobuses colindante con la muralla de la Presa de Proserpina. \nLas inscripciones pueden realizarse a través de la web https://www.tucrono.com y tienen un precio de 12 euros. La inscripción incluye camiseta técnica conmemorativa del evento\, avituallamientos de fruta y agua y\, en meta\, plato de paella y bebida.
URL:https://merida.es/agenda/i-camin-x-la-memoria-embalses-romanos/
LOCATION:Recorrido por la comarca de Mérida
CATEGORIES:Benéfico,Deporte
ATTACH;FMTTYPE=image/jpeg:https://merida.es/wp-content/uploads/2023/01/2023-camino-x-la-memoria-afam-benefico-peq.jpg
END:VEVENT
BEGIN:VEVENT
DTSTART;TZID=Europe/Madrid:20230416T120000
DTEND;TZID=Europe/Madrid:20230416T120000
DTSTAMP:20260419T204958
CREATED:20230410T165540Z
LAST-MODIFIED:20230410T165631Z
UID:120640-1681646400-1681646400@merida.es
SUMMARY:Teatro infantil: "La ciudad inventada"
DESCRIPTION:Espectáculo: ‘La ciudad inventada’\nCompañía: Panduro Producciones y Marmore \nSinopsis:\nHa nacido una nueva Ciudad en la geografía de la imaginación. Las ciudades están en constante movimiento\, cada vez acogen a más personas que llegan de otras culturas\, de otras formas de ver y entender la vida\, de otras literaturas\, de otros cuentos… \nEn La ciudad inventada cohabitan diferentes cuentos tradicionales de lugares y procedencias diversas. Como ocurre con las personas\, se relacionan entre sí\, se entremezclan y enriquecen\, dando lugar a una historia mestiza\, como lo es este mundo… \nAutoría: Jokin Oregui\nDirección: Alex Díaz\nIntérpretes: Beatriz Solís\, Virginia Campón y Pilar Contreras \nDuración: 50 m.\nPúblico: a partir de 6 años. \nEntrada única: 3€\nHorario de taquilla: A partir del lunes 10 de abril en el Centro Cultural Alcazaba (lunes a viernes\, de 10 a 14 y de 17 a 20 horas) y Centro Cultural Nueva Ciudad (lunes a viernes\, de 10 a 14 horas y mismo día del evento desde una hora antes) \nEl espectáculo cuenta con las Ayudas a la Programación de Artes Escénicas y de Música de la Red de Teatros y Otros Espacios Escénicos de Extremadura de la Consejería de Cultura\, Turismo y Deportes\, cofinanciado en un 70%.
URL:https://merida.es/agenda/teatro-la-ciudad-inventada/
LOCATION:Centro Cultural de Nueva Ciudad\, Calle Antonio Rodríguez Moñino s/n\, Mérida\, 06800\, Spain
CATEGORIES:Infantil,Teatro
ATTACH;FMTTYPE=image/jpeg:https://merida.es/wp-content/uploads/2023/04/2023-ciudad-inventada-teatro-peq.jpg
END:VEVENT
BEGIN:VEVENT
DTSTART;TZID=Europe/Madrid:20230416T193000
DTEND;TZID=Europe/Madrid:20230416T193000
DTSTAMP:20260419T204958
CREATED:20230411T101513Z
LAST-MODIFIED:20230411T101513Z
UID:120655-1681673400-1681673400@merida.es
SUMMARY:Teatro: "Elisa y Marcela"
DESCRIPTION:Espectáculo: Elisa y Marcela\nCompañía: A Panadaría \nSinopsis: Año 1901\, A Coruña. Dos mujeres se casan en la iglesia de San Xurxo\, una de ellas vestida de hombre. Una historia de persecuciones policiales\, huidas en diligencia\, cambios de identidad e informaciones manipuladas. \nLas cómicas de A Panadaría presentan una reconstrucción irreverente de un suceso real. Una comedia musical donde lo verídico parece invento. Elisa y Marcela es una historia de amor a contratiempo. \nCreación e Interpretación: Areta Bolado\, Noelia Castro\, Ailén Kendelma\nDirección: Gena Baamonde\nTexto: A Panadaría\, Gena Baamonde \nDuración: 80 min.\nPúblico: juvenil y adulto \nPremios: \nMejor espectáculo\, Mejor Dirección\, Mejor Texto Original y Mejor Actriz Protagonista (Areta Bolado) en los Premios María Casares 2018\nPremio de Igualdad Luísa Villalta 2017\nXIV Premio LGBT Marcela e Elisa del Colectivo ALAS \nTaquilla: Entrada única 5€\nHorario de taquilla: Días 15 y 16 de abril de 11.00 a 13:00h. Día 15 de 18:30 a 20:30h y Día 16 de 17:30 a 19:30h\nReservas: salatrajanomerida@gmail.com (No se podrán reservar por email más de 4 entradas. La hora límite de reserva por email son las 12.00 horas del mismo día en el que está programado el espectáculo)
URL:https://merida.es/agenda/teatro-elisa-y-marcela/
LOCATION:Sala Trajano\, Calle Muza\, 50\, Mérida
CATEGORIES:Teatro
ATTACH;FMTTYPE=image/jpeg:https://merida.es/wp-content/uploads/2023/04/2023-elisa-y-marcela-teatro-peq.jpg
END:VEVENT
BEGIN:VEVENT
DTSTART;TZID=Europe/Madrid:20230416T203000
DTEND;TZID=Europe/Madrid:20230416T203000
DTSTAMP:20260419T204958
CREATED:20230411T203847Z
LAST-MODIFIED:20230411T203847Z
UID:120707-1681677000-1681677000@merida.es
SUMMARY:Concierto Carroza del Teatro Real
DESCRIPTION:El Teatro Real\, con la colaboración de la Consejería de Cultura y Deportes de la Junta de Extremadura y el Ayuntamiento\, trae a Mérida su Carroza el próximo domingo\, 16 de abril\, a las 20.30 horas a la Glorieta de Santa Teresa Jornet (Zona Sur)\, en el aparcamiento del centro de salud. Allí ofrecerá un concierto gratuito destinado a todos los públicos con fragmentos de óperas y zarzuelas de los más reconocidos autores. \nCreada en 2020\, y galardonada con el Premio Europeo “Art Explora” Academia de Bellas Artes 2022\, la Carroza del Teatro Real mide 16 metros de largo por 5\,80 metros de alto y pesa cerca de cinco toneladas y media. Simula el escenario de un teatro –con su embocadura\, telones y bastidores – y se ha construido transformando un camión tráiler como los que habitualmente se utilizan para el transporte y almacenaje de escenografía\, atrezzo y vestuario de las óperas.
URL:https://merida.es/agenda/concierto-carroza-del-teatro-real/
LOCATION:Barriada Zona Sur\, Mérida
CATEGORIES:Música
ATTACH;FMTTYPE=image/jpeg:https://merida.es/wp-content/uploads/2023/04/2023-teatro-real-cerca-de-ti-peq.jpg
END:VEVENT
END:VCALENDAR