﻿BEGIN:VCALENDAR
VERSION:2.0
PRODID:-//Ayuntamiento de Mérida - ECPv6.15.17.1//NONSGML v1.0//EN
CALSCALE:GREGORIAN
METHOD:PUBLISH
X-WR-CALNAME:Ayuntamiento de Mérida
X-ORIGINAL-URL:https://merida.es
X-WR-CALDESC:Eventos para Ayuntamiento de Mérida
REFRESH-INTERVAL;VALUE=DURATION:PT1H
X-Robots-Tag:noindex
X-PUBLISHED-TTL:PT1H
BEGIN:VTIMEZONE
TZID:Europe/Madrid
BEGIN:DAYLIGHT
TZOFFSETFROM:+0100
TZOFFSETTO:+0200
TZNAME:CEST
DTSTART:20220327T010000
END:DAYLIGHT
BEGIN:STANDARD
TZOFFSETFROM:+0200
TZOFFSETTO:+0100
TZNAME:CET
DTSTART:20221030T010000
END:STANDARD
BEGIN:DAYLIGHT
TZOFFSETFROM:+0100
TZOFFSETTO:+0200
TZNAME:CEST
DTSTART:20230326T010000
END:DAYLIGHT
BEGIN:STANDARD
TZOFFSETFROM:+0200
TZOFFSETTO:+0100
TZNAME:CET
DTSTART:20231029T010000
END:STANDARD
BEGIN:DAYLIGHT
TZOFFSETFROM:+0100
TZOFFSETTO:+0200
TZNAME:CEST
DTSTART:20240331T010000
END:DAYLIGHT
BEGIN:STANDARD
TZOFFSETFROM:+0200
TZOFFSETTO:+0100
TZNAME:CET
DTSTART:20241027T010000
END:STANDARD
END:VTIMEZONE
BEGIN:VEVENT
DTSTART;VALUE=DATE:20231012
DTEND;VALUE=DATE:20231016
DTSTAMP:20260419T190835
CREATED:20231009T075859Z
LAST-MODIFIED:20231009T081616Z
UID:125095-1697068800-1697414399@merida.es
SUMMARY:Marea Rosa Romana
DESCRIPTION:La Marea Rosa Romana es es un reto solidario organizado por el club Romanas Bike a favor de la Asociación Española Contra el Cáncer\, más concretamente para el proyecto de investigación de la Universidad de Extremadura dirigido por el Dr Francisco Javier González. Se trata de un recorrido por Extremadura de norte a sur\, más de 500km\, siguiendo todos los vestigios romanos que hay en la comunidad a través de 4 etapas a las que se pueden unir todas las personas\, clubes\, etc\, que quieran acompañar al club. Se puede seguir la evolución de la carrera por las redes sociales del club. \nSe puede aportar un donativo para este fin en el siguiente enlace: https://sumate.mireto.contraelcancer.es/campaigns/ROMANAS-BIKE \nLas Romanas Bike es un club de ciclismo femenino que llev rodando apenas 3 años. Un grupo de mujeres a las que les gusta disfrutar del deporte\, y que están especialmente sensibilizadas con el cáncer\, ya que entre ellas hay alguna compañera que lo ha pasado o está pasando esa enfermedad.
URL:https://merida.es/agenda/marea-rosa-romana-romanas-bike/
LOCATION:Recorrido Urbano\, Mérida
CATEGORIES:Benéfico,Deporte
ATTACH;FMTTYPE=image/jpeg:https://merida.es/wp-content/uploads/2023/10/2023-marea-rosa-romana-peq.jpg
END:VEVENT
BEGIN:VEVENT
DTSTART;VALUE=DATE:20231012
DTEND;VALUE=DATE:20231016
DTSTAMP:20260419T190835
CREATED:20231005T221456Z
LAST-MODIFIED:20231010T111705Z
UID:125030-1697068800-1697414399@merida.es
SUMMARY:Camino Eulaliense Totana-Murcia
DESCRIPTION:Del 12 al 15 de octubre tendrán lugar diferentes actividades con motivo de la celebración del último tramo del Camino Eulaliense “Totana-Mérida” que supondrá la llegada de más de 1.000 peregrinos totaneros a la ciudad de Mérida el próximo 13 de octubre. \nLas actividades se iniciarán el jueves 12 de octubre\, a las 19:00 horas\, con la llegada de la imagen de la patrona de Totana\, Santa Eulalia de Mérida “La Santa” a la Iglesia Parroquial de los Milagros donde se le hará una Eucaristía de recibimiento y en la que se celebrará una de las tradicionales serenatas que\, habitualmente\, realizan los totaneros a su patrona. \nEl grueso de actividad llegará el viernes 13 de octubre\, a las 8:30 horas\, con la entrada a la ermita de la Antigua\, procedentes de Trujillanos\, de más de 300 peregrinos que\, desde ese punto\, realizarán un recorrido por todo el Valle del Albarregas\, los jardines del Guadiana\, Puente Lusitania y Parque de las Siete Sillas para\, desde allí\, esperar a que llegue la imagen de la Santa procedente de la Iglesia de los Milagros y a la que acompañará el resto de la expedición totanera a partir de las 10:00 de la mañana hacia la cabecera del puente. \nPreviamente\, a las 9:30 horas\, desde la Basílica de Santa Eulalia\, comenzará a procesionar\, por primera vez en la historia\, la reliquia de la Mártir que se venera en la Basílica\, bajo el templete de plata de Santa Eulalia y que llegará hasta la cabecera del Puente Romano\, en la zona de la barriada de San Antonio\, para participar en el encuentro con la Santa. \nSobre las 11:00 horas de la mañana será el encuentro con la intervención y bienvenida de autoridades\, estando prevista la presencia de ciudadanos y ciudadanas de Santa Olalla y Almonaster la Real\, éstos últimos ataviados de romeros\, como cuando hacen su romería a Santa Eulalia. Tras la quema de una colección de fuegos artificiales\, comenzará la procesión hasta la Basílica de Santa Eulalia donde la Santa será la primera peregrina en entrar y\, tras ella\, los peregrinos. Ante tal afluencia de público\, el Ayuntamiento habilitará en el atrio una pantalla y equipos de sonido para que pueda seguirse la Misa del Peregrino\, que dará comienzo a la 13:00 horas del mediodía. \nYa por la tarde\, a las 19:30 horas\, se celebrará un encuentro folklórico en el Templo de Diana\, en el que participarán el grupo la Mantellina de Totana\, grupo de Almonaster la Real\, de Santa Olalla del Cala\, Nuestra Señora de la Antigua y la Banda de Música de Mérida. \nAl finalizar el acto\, a las 21:30 horas\, comenzará un Via Martyrum que recorrerá las calles de Mérida desde la cabecera del Puente Romano hasta la Basílica. \nYa el sábado 14 de octubre\, por la mañana\, se realizarán visitas guiadas y\, a las 14 horas\, una Garbanzada Popular organizada por el Ayuntamiento de Mérida. Por la tarde\, a las 19\,30 horas\, se celebrará la Misa de Despedida en la Basílica de Santa Eulalia. \nPrograma de Actividades
URL:https://merida.es/agenda/camino-eulaliense-totana-murcia/
LOCATION:Varios puntos de la ciudad\, Mérida
CATEGORIES:Santa Eulalia
ATTACH;FMTTYPE=image/jpeg:https://merida.es/wp-content/uploads/2023/10/2023-camino-eulaliense-peq.jpeg
END:VEVENT
BEGIN:VEVENT
DTSTART;VALUE=DATE:20231012
DTEND;VALUE=DATE:20231016
DTSTAMP:20260419T190835
CREATED:20231009T074420Z
LAST-MODIFIED:20231009T083939Z
UID:125090-1697068800-1697414399@merida.es
SUMMARY:LIV Campeonato de España Flotador Absoluto de Pesca
DESCRIPTION:Del 12 al 15 de octubre se celebra en Mérida el LIV Campeonato de España Flotador Absoluto en la zona habitual del Río Guadiana cerca del Polígono el Prado. En dicho campeonato se obtendrá la clasificación por selecciones autonómicas\, individuales y la selección española que participará en el próximo Campeonato del Mundo que se celebrará en Francia. Se trata de una competición en la que participarán 108 deportistas de 13 comunidades autónomas \nLa competición dará inicio con la presentación de todos los deportistas\, capitanes y delegados el día 12 de octubre a las 8 de la mañana en el Complejo Polideportivo Guadiana. Una vez finalizada la presentación\, se realizará el sorteo de los puestos de los participantes y a las 13 horas dará comienzo la primera manga. Las jornadas del viernes y sábado serán de 11 a 15 horas\, finalizando el campeonato con el acto de entrega de medallas y la posterior cena de clausura.
URL:https://merida.es/agenda/liv-campeonato-de-espana-flotador-absoluto/
LOCATION:Río Guadiana
CATEGORIES:Deporte
ATTACH;FMTTYPE=image/jpeg:https://merida.es/wp-content/uploads/2023/10/2023-pesca-peq.jpg
END:VEVENT
BEGIN:VEVENT
DTSTART;TZID=Europe/Madrid:20231014T173000
DTEND;TZID=Europe/Madrid:20231014T173000
DTSTAMP:20260419T190835
CREATED:20231003T122201Z
LAST-MODIFIED:20231003T122201Z
UID:124925-1697304600-1697304600@merida.es
SUMMARY:Festival Reinas del Rock
DESCRIPTION:La primera edición del Festival Reinas del Rock se celebrará el próximo 14 de octubre en el Acueducto de los Milagros bajo la coordinación de la Asociación Cultural Música es Vida Extremadura. \nEl Festival\, que comenzará a las 17\,30 horas\, participarán cuatro bandas lideradas por mujeres\, comenzando por la ‘Dulce Harleey Rock Band’\, un grupo afincado en Madrid\, compuesto por cuatro músicas con una dilatada trayectoria en el mundo del rock\, que realizan covers clásicos nacionales e internacionales. \nLe seguirá ‘Rosie’s in hell’ con el primer y único tributo femenino al mítico grupo australiano AC/DC\, una novedad única en España. Además\, para deleite de todos los fans del grupo\, incluye temas de toda la historia de la banda\, siguiendo los pasos de las conocidas Juanas Trucks de Argentina\, The jack en Colopmbia o Herr’s Bells en Estados Unidos. \nTras ellas\, subirá al escenario ‘Fucking Covers’\, banda Emeritense liderada por una mujer\, rinden homenaje a los mejores temas del rock de los 80 y 90\, con la peculiaridad de cantar todo en castellano. Tienen una dilatada trayectoria como músicos\, formando parte de otros proyectos musicales que los ha llevado a tocar en festivales de prestigio y renombre como Extremúsika\, CanchalRock\, Long Play\, ChanfaRock\, así como compartir escenario con bandas punteras de la escena nacional e internacional. \nConcluirá el Festival con ‘Las Reinas’ con el primer y único tributo femenino a la banda británica Queen. Vienen desde Madrid. En el escenario hacen un despliegue de energía y buen hacer. Para ser su primer año\, tienen una agenda de conciertos en toda la geografía española.  \nEn esta variada oferta musical\, se pondrá de manifiesto\, el talento\, la capacidad de liderazgo y la energía de las mujeres dentro del mundo del Rock
URL:https://merida.es/agenda/festival-reinas-del-rock/
LOCATION:Acueducto de Los Milagros\, Av. de Via de la Plata s/n\, Mérida
CATEGORIES:Música
ATTACH;FMTTYPE=image/jpeg:https://merida.es/wp-content/uploads/2023/10/2023-reinas-rock-peq.jpg
END:VEVENT
BEGIN:VEVENT
DTSTART;TZID=Europe/Madrid:20231014T193000
DTEND;TZID=Europe/Madrid:20231014T193000
DTSTAMP:20260419T190835
CREATED:20230929T195810Z
LAST-MODIFIED:20230929T195810Z
UID:124837-1697311800-1697311800@merida.es
SUMMARY:II Certamen Regional Coral FECOEX
DESCRIPTION:El Sábado 14 de octubre tendrá lugar el II Certamen Regional Coral FECOEX: Boleros\, en el Templo de Diana de Mérida. A partir de las 19:30 horas se contará con las actuaciones de: Coral municipal Julio Terrón\, Coral de Almendralejo\, Agrupación Coral de Don Benito\, Coral Cauriense y Coral Avgvsta Emérita (anfitriona). \nOrganiza: Federación Extremeña de Corales (FECOEX). Colaboran: Ayuntamiento de Mérida\, Diputación de Badajoz y Junta de Extremadura.
URL:https://merida.es/agenda/ii-certamen-regional-coral-fecoex/
LOCATION:Templo de Diana\, Calle Romero Leal\, s/n\, Mérida
CATEGORIES:Música
ATTACH;FMTTYPE=image/jpeg:https://merida.es/wp-content/uploads/2023/09/2023-corales-peq.jpeg
END:VEVENT
BEGIN:VEVENT
DTSTART;TZID=Europe/Madrid:20231014T200000
DTEND;TZID=Europe/Madrid:20231014T200000
DTSTAMP:20260419T190835
CREATED:20231007T225859Z
LAST-MODIFIED:20231007T225859Z
UID:125087-1697313600-1697313600@merida.es
SUMMARY:Puro Lorca
DESCRIPTION:PURO LORCA es un espectáculo en el que se propone resucitar el espíritu de nuestro poeta más querido\, trágicamente asesinado al inicio de la guerra civil\, a través de su producción artística más variada: su poesía\, sus dibujos y su música.  \nFederico García Lorca…: poeta\, músico\, dramaturgo y también\, porque no\, dibujante… artista sin más. El espectáculo gira en torno a las Canciones Populares Españolas: una colección de canciones que recopiló\, armonizó el mismo e interpretó al piano con La Argentinita por toda Europa y Estados Unidos para luego grabarlas para la discográfica La Voz de Su Amo.  \nJunto a su música\, una selección de la poesía de sus primeros años\, inspirada en el imaginario del folclore andaluz… y todo acompañado de un despliegue audiovisual construido a partir de imágenes de la pintura costumbrista andaluza\, algunas fotografías de época y en el que recrearemos además sus dibujos en directo\, gracias a la intervención de nuestra artista plástica. \nUna producción de la compañia CIRCA. Entrada libre hasta completar aforo.
URL:https://merida.es/agenda/puro-lorca/
LOCATION:Centro Cultural La Antigua\, Calle Nerja s/n\, Mérida\, Badajoz\, 06800\, Spain
CATEGORIES:Literatura,Música
ATTACH;FMTTYPE=image/jpeg:https://merida.es/wp-content/uploads/2023/10/2023-puro-lorca-peq.jpg
END:VEVENT
BEGIN:VEVENT
DTSTART;TZID=Europe/Madrid:20231014T213000
DTEND;TZID=Europe/Madrid:20231014T213000
DTSTAMP:20260419T190835
CREATED:20230823T153130Z
LAST-MODIFIED:20230908T071910Z
UID:123956-1697319000-1697319000@merida.es
SUMMARY:La Ciudad Invisible (Martinez Ares)
DESCRIPTION:Uno de los autores mas laureados del Carnaval de Cádiz\, Martínez Ares\, presenta su comparsa en el Palacio de Congresos de Mérida. \nEntradas: https://www.giglon.com
URL:https://merida.es/agenda/la-ciudad-invisible-martinez-ares/
LOCATION:Palacio de Congresos\, Avda. del Rio s/n\, Mérida
CATEGORIES:Música
ATTACH;FMTTYPE=image/jpeg:https://merida.es/wp-content/uploads/2023/08/2023-martinez-ares-peq.jpg
END:VEVENT
END:VCALENDAR