﻿BEGIN:VCALENDAR
VERSION:2.0
PRODID:-//Ayuntamiento de Mérida - ECPv6.15.17.1//NONSGML v1.0//EN
CALSCALE:GREGORIAN
METHOD:PUBLISH
X-WR-CALNAME:Ayuntamiento de Mérida
X-ORIGINAL-URL:https://merida.es
X-WR-CALDESC:Eventos para Ayuntamiento de Mérida
REFRESH-INTERVAL;VALUE=DURATION:PT1H
X-Robots-Tag:noindex
X-PUBLISHED-TTL:PT1H
BEGIN:VTIMEZONE
TZID:Europe/Madrid
BEGIN:DAYLIGHT
TZOFFSETFROM:+0100
TZOFFSETTO:+0200
TZNAME:CEST
DTSTART:20220327T010000
END:DAYLIGHT
BEGIN:STANDARD
TZOFFSETFROM:+0200
TZOFFSETTO:+0100
TZNAME:CET
DTSTART:20221030T010000
END:STANDARD
BEGIN:DAYLIGHT
TZOFFSETFROM:+0100
TZOFFSETTO:+0200
TZNAME:CEST
DTSTART:20230326T010000
END:DAYLIGHT
BEGIN:STANDARD
TZOFFSETFROM:+0200
TZOFFSETTO:+0100
TZNAME:CET
DTSTART:20231029T010000
END:STANDARD
BEGIN:DAYLIGHT
TZOFFSETFROM:+0100
TZOFFSETTO:+0200
TZNAME:CEST
DTSTART:20240331T010000
END:DAYLIGHT
BEGIN:STANDARD
TZOFFSETFROM:+0200
TZOFFSETTO:+0100
TZNAME:CET
DTSTART:20241027T010000
END:STANDARD
END:VTIMEZONE
BEGIN:VEVENT
DTSTART;VALUE=DATE:20231015
DTEND;VALUE=DATE:20231116
DTSTAMP:20260423T043154
CREATED:20231027T220627Z
LAST-MODIFIED:20231027T220627Z
UID:125653-1697328000-1700092799@merida.es
SUMMARY:Exposición de acuarelas 'Instantes' de Marisol Pérez Cabrera
DESCRIPTION:Exposición «Instantes» por la artista Marisol Pérez Cabrera en la Biblioteca Pública del Estado Jesús Delgado Valhondo del 15 de octubre al 15 de noviembre de 2023. Además\, los martes de 17:30 a 19:30\, la propia artista estará en la biblioteca para dar a conocer su obra
URL:https://merida.es/agenda/exposicion-de-acuarelas-instantes-de-marisol-perez-cabrera/
LOCATION:Biblioteca Jesús Delgado Valhondo\, Av. de la Libertad\, s/n\, Mérida
CATEGORIES:Exposición
ATTACH;FMTTYPE=image/jpeg:https://merida.es/wp-content/uploads/2023/10/2023-expo-acuarelas-peq.jpg
END:VEVENT
BEGIN:VEVENT
DTSTART;VALUE=DATE:20231016
DTEND;VALUE=DATE:20231107
DTSTAMP:20260423T043154
CREATED:20231017T101727Z
LAST-MODIFIED:20231017T101810Z
UID:125309-1697414400-1699315199@merida.es
SUMMARY:Exposición 'Emboscados' (Claqueta Emérita)
DESCRIPTION:Del 16 de octubre al 6 de noviembre\, la Biblioteca Pública Jesús Delgado Valhondo acoge la exposición ‘Emboscados’ que invita al público a adentrarse en el bosque inagotable de la literatura recoriendo\, a través de algunas de sus mejores páginas\, la antigua Ruta de la Plata. De Sevilla hasta Gijón\, pasando por Almendralejo\, Mérida\, Plasencia\, Salamanca\, Zamora y Astorga\, la exposición muestra la fuerte relación entre el alma sensible y la fascinante sabiduría de estos lugares\, considerados mágicos y sagrados. \nLa exposición forma parte de las actividades de la VI edición del Festival Claqueta Emérita organizado por la Asociación Cultural Esmérarte y que ha sido cedida por AGCEX Extremadura.
URL:https://merida.es/agenda/exposicion-emboscados-claqueta-emerita/
LOCATION:Biblioteca Jesús Delgado Valhondo\, Av. de la Libertad\, s/n\, Mérida
CATEGORIES:Exposición
ATTACH;FMTTYPE=image/jpeg:https://merida.es/wp-content/uploads/2023/10/2023-expo-emboscados-peq.jpg
END:VEVENT
BEGIN:VEVENT
DTSTART;VALUE=DATE:20231019
DTEND;VALUE=DATE:20231118
DTSTAMP:20260423T043154
CREATED:20231018T110530Z
LAST-MODIFIED:20231018T110854Z
UID:125360-1697673600-1700265599@merida.es
SUMMARY:Exposición de mosaicos 'Una mirada eterna' de la Escuela de Arte y Superior de Diseño
DESCRIPTION:La EASDM acoge la muestra de una veintena de mosaicos\, diseñados y confeccionados por los alumnos del ciclo Superior de Mosaicos. Se trata de una colección que aúna diversas temáticas y técnicas\, desde motivos figurativos inspirados en originales romanos confeccionados con teselas de piedra natural\, pasando por reproducciones de obras bizantinas en teselas vítreas hasta llegar a motivos conceptuales\, en los que prima el color y la dirección de sus teselas cerámicas y vítreas. \nComo la gorgona Medusa\, el mosaico nos atrapa al convertir en piedra todo lo que su mirada alcanza\, así logra que nuestros alumnos queden atrapados por todo lo que esta técnica les aporta a sus creaciones. \nEl ciclo superior de Mosaicos en la Escuela de Arte y Superior de Diseño de Mérida desempeña su labor formativa desde hace más de 25 años\, donde da continuidad a técnicas clásicas e incorpora metodologías contemporáneas. \nEste curso ha iniciado con casi la totalidad de las plazas ofertadas cubiertas\, lo que nos hace ser muy optimistas. El taller se ha llenado de nuevos proyectos individuales y colaborativos como el que próximamente se presentará con motivo del Año Jubilar Eulaliense en Mérida.
URL:https://merida.es/agenda/exposicion-mosaicos-escuela-arte/
LOCATION:Escuela de Arte y Superior de Diseño de Mérida\, Paseo de Artes y Oficios\, s/n\, Mérida
CATEGORIES:Exposición
ATTACH;FMTTYPE=image/jpeg:https://merida.es/wp-content/uploads/2023/10/2023-expo-una-mirada-eterna-peq.jpg
END:VEVENT
BEGIN:VEVENT
DTSTART;VALUE=DATE:20231021
DTEND;VALUE=DATE:20231023
DTSTAMP:20260423T043154
CREATED:20231018T125448Z
LAST-MODIFIED:20231018T125813Z
UID:125379-1697846400-1698019199@merida.es
SUMMARY:Exposición Canina Mérida
DESCRIPTION:Los días 21 y 22 de octubre\, IFEME acoge por segunda vez la Exposición Canina Mérida ampliando este año la exposición a nivel internacional. En esta ocasión participarán alrededor de 800 perros\, de todas las razas\, a las que hay que sumar las especializadas. El sábado por la tarde se celebran las especializadas de Teckels\, Boxer y de todos los lebreles\, desde el galgo afgano hasta el galgillo italiano. Durante las dos jornadas se hará el registro de razas en el que los perros que no tienen pedigree\, es decir\, raza pura\, obtendrán la carta genealógica. Organiza la Sociedad Canina de Extremadura \nLa entrada es libre para todo el público\, no estando permitida la entrada con perros que no estén inscritos en dicha exposición por motivos sanitarios ya que todos cuentan con un reconocimiento veterinario. \nLas finales se celebrarán por la tarde\, con 10 grupos establecidos\, de los que gana un perro que compite al final y que obtendrá el premio del Ayuntamiento de Mérida. Tanto en la categoría Nacional y en la Internacional\, los perros obtienen un certificado de aptitud de campeonato y se les da 1 punto tanto para el campeonato nacional y 1 punto para el internacional.
URL:https://merida.es/agenda/exposicion-canina-merida-2023/
LOCATION:Instituto Ferial de Mérida IFEME\, C/ Manuel Nuñez (Urbanización El Prado)\, Mérida\, 06800\, España
CATEGORIES:Exposición
ATTACH;FMTTYPE=image/jpeg:https://merida.es/wp-content/uploads/2023/10/2023-expo-canina-peq.jpg
END:VEVENT
BEGIN:VEVENT
DTSTART;VALUE=DATE:20231021
DTEND;VALUE=DATE:20231113
DTSTAMP:20260423T043154
CREATED:20230923T153053Z
LAST-MODIFIED:20230924T201231Z
UID:124601-1697846400-1699833599@merida.es
SUMMARY:II Festival Flamenco Universal de Mérida
DESCRIPTION:Del 21 de octubre al 12 de noviembre de 2023 se celebra en Mérida la II edición del Festival Flamenco Universal de Mérida en el Palacio de Congresos\, el Teatro Maria Luisa y el Templo de Diana\, con una dedicación especial al centenario del nacimiento de la faraona Lola Flores (imagen del prestigioso fotógrafo Hans Burmann) \nEl Festival arranca el 21 de octubre\, a las 19 horas\, en el Templo de Diana\, con un concierto premiere del músico\, compositor y pianista Andrés Barrios. El sábado 28 de octubre\, a las 21:00 horas\, el Teatro María Luisa acogerá la voz y el arte del prestigioso cantaor flamenco Antonio Reyes. La cita del 2 de noviembre a las 21:00 horas en el Palacio de Congresos estará protagonizada por el popular cantaor José Mercé. \nDel mismo modo\, el Teatro María Luisa contará con la presencia\, los días 3 y 4 de noviembre\, de la cantaora Esperanza Fernández y del bailaor Antonio Canales\, respectivamente. \nPor otro lado\, y dando continuidad a la entrega de premios Flamenco Universal 2023 que en la pasada edición recayó en José Sánchez Gomes “Pepe de Lucía”; en esta ocasión será el cantaor emeritense Juan Cantero\, por su trayectoria artística y profesional\, quien reciba el mencionado galardón\, el sábado 11 de noviembre a las 20:30 horas en el Teatro María Luisa. Seguidamente\, completarán la jornada el cantaor Miguel Vargas\, junto a La Kaíta y Juanfra Carrasco\, a la guitarra de Juan Vargas. \nFinalmente\, los días 10 y 12 de noviembre\, el Palacio de Congresos recibirá a los artistas Tomatito y María del Monte\, como broche final de la II Edición de Flamenco Universal\, respectivamente. \nOAS Extremadura realizará el préstamo y puesta en marcha de bucles magnéticos personales y mochilas vibratorias\, para personas con discapacidad auditiva bajo petición\, con 24 horas de antelación por teléfono o WhatsApp: 687 659 875 / 619 343 784. \nWeb oficial y Venta de Entradas: http://www.flamencouniversalmerida.es/
URL:https://merida.es/agenda/festival-flamenco-universal-merida-2023/
LOCATION:Varios puntos de la ciudad\, Mérida
CATEGORIES:Música
ATTACH;FMTTYPE=image/jpeg:https://merida.es/wp-content/uploads/2023/09/2023-festival-flamenco-peq.jpg
END:VEVENT
BEGIN:VEVENT
DTSTART;TZID=Europe/Madrid:20231022T113000
DTEND;TZID=Europe/Madrid:20231022T113000
DTSTAMP:20260423T043154
CREATED:20230410T221605Z
LAST-MODIFIED:20230426T225337Z
UID:120648-1697974200-1697974200@merida.es
SUMMARY:10K Ciudad de Mérida
DESCRIPTION:El Grupo KM0 Mérida organiza\, a favor de FEAFES MÉRIDA\, la II edición de la carrera “10K CIUDAD DE MÉRIDA”\, que tendrá lugar el próximo 22 de octubre de 2023 a partir de las 11:30 horas\, con salida y llegada en la Calle Félix Valverde Lillo. Habrá varios circuitos: 10 km y carreras infantiles (según las edades de los participantes). Este año el lema elegido volverá a ser ‘Deja tu huella por la salud mental’ \nLas inscripciones pueden realizarse online en https://www.deporticket.com/ hasta el 13 de octubre. El precio de las mismas es de 10 euros adultos e infantil 5 euros. Todos los participantes tendrán una bolsa del corredor que llevará la camiseta serigrafiada y todos los productos que se consigan de empresas colaboradoras.
URL:https://merida.es/agenda/10k-ciudad-de-merida-2023/
LOCATION:Recorrido Urbano\, Mérida
CATEGORIES:Benéfico,Deporte
ATTACH;FMTTYPE=image/jpeg:https://merida.es/wp-content/uploads/2023/04/2023-10k-ciudad-merida-peq.jpeg
END:VEVENT
BEGIN:VEVENT
DTSTART;TZID=Europe/Madrid:20231022T180000
DTEND;TZID=Europe/Madrid:20231022T180000
DTSTAMP:20260423T043154
CREATED:20231019T144331Z
LAST-MODIFIED:20231019T144331Z
UID:125420-1697997600-1697997600@merida.es
SUMMARY:Teatro infantil: "El cumple de Pablito"
DESCRIPTION:Espectáculo: El cumple de Pablito\nCompañía: Piccolo Teatro de Marionetas \nSinopsis: Hoy se celebra el cumpleaños de Pablito\, una fiesta sorpresa en un lugar mágico; contaremos cuentos y habrá atracciones varias. Pero… ¿Aceptará Pablito su regalo? ¿Comeremos la tarta? ¿Estará invitada Piruja? Este espectáculo es una obra de marionetas de hilo con juguetes\, para todos los públicos. Atractiva\, brillante y popular.  \nEs un espectáculo repleto de otras pequeñas historias y varios cuentos como ‘El soldadito sin plomo y de cartón’ y ‘El dragón y la mariposa’\, todo ello con el hilo conductor de educar en valores. \nDirección: Julia Gimaré Navarro \nDuración: 60 min.\nPúblico:  Todos los públicos \nTaquilla: Entrada única: 3€\nHorario de taquilla: días 21 y 22 de octubre de 11.00 a 13:00h. y de 16.00 a 18.00 horas.\nReservas: salatrajanomerida@gmail.com (No se podrán reservar por email más de 4 entradas. La fecha límite para solicitar las reservas será las 21.00h. del día anterior al espectáculo. Las reservas se mantendrán hasta las 13:00 horas del día del espectáculo\, después se considerarán canceladas y se pondrán de nuevo a la venta.)
URL:https://merida.es/agenda/teatro-el-cumple-de-pablito/
LOCATION:Sala Trajano\, Calle Muza\, 50\, Mérida
CATEGORIES:Infantil,Teatro
ATTACH;FMTTYPE=image/jpeg:https://merida.es/wp-content/uploads/2023/10/2023-teatro-cumple-de-pablito-peq.jpg
END:VEVENT
BEGIN:VEVENT
DTSTART;TZID=Europe/Madrid:20231022T190000
DTEND;TZID=Europe/Madrid:20231022T190000
DTSTAMP:20260423T043154
CREATED:20231006T224412Z
LAST-MODIFIED:20231006T224412Z
UID:125080-1698001200-1698001200@merida.es
SUMMARY:Concierto Sinfónico Coral Avgvsta Emerita
DESCRIPTION:La Coral Avgusta Emerita celebra su 45 aniversario con un Concierto Sinfónico Coral donde se interpretarán 5 grandes Bandas Sonoras acompañadas por una orquesta y con proyección de cine. El fenómeno musical de LOS MISERABLES\, las grandilocuentes melodías por EL PRINCIPE DE EGIPTO\, la fabulosa historia desde la sabana con EL REY LEÓN\, el mundo oriental y jazzístico que nos trae ALADDÍN y el misterio que esconde la Ópera de Garnier en EL FANTASMA DE LA ÓPERA. \nInvitaciones en el Centro Cultural Alcazaba (máximo dos personas)
URL:https://merida.es/agenda/concierto-sinfonico-coral-avgvsta-emerita/
LOCATION:Teatro María Luisa\, Calle Camilo José Cela\, 9\, Mérida\, España
CATEGORIES:Música
ATTACH;FMTTYPE=image/jpeg:https://merida.es/wp-content/uploads/2023/10/2023-coral-augusta-emerita-concierto-peq.jpg
END:VEVENT
END:VCALENDAR