﻿BEGIN:VCALENDAR
VERSION:2.0
PRODID:-//Ayuntamiento de Mérida - ECPv6.15.17.1//NONSGML v1.0//EN
CALSCALE:GREGORIAN
METHOD:PUBLISH
X-ORIGINAL-URL:https://merida.es
X-WR-CALDESC:Eventos para Ayuntamiento de Mérida
REFRESH-INTERVAL;VALUE=DURATION:PT1H
X-Robots-Tag:noindex
X-PUBLISHED-TTL:PT1H
BEGIN:VTIMEZONE
TZID:Europe/Madrid
BEGIN:DAYLIGHT
TZOFFSETFROM:+0100
TZOFFSETTO:+0200
TZNAME:CEST
DTSTART:20220327T010000
END:DAYLIGHT
BEGIN:STANDARD
TZOFFSETFROM:+0200
TZOFFSETTO:+0100
TZNAME:CET
DTSTART:20221030T010000
END:STANDARD
BEGIN:DAYLIGHT
TZOFFSETFROM:+0100
TZOFFSETTO:+0200
TZNAME:CEST
DTSTART:20230326T010000
END:DAYLIGHT
BEGIN:STANDARD
TZOFFSETFROM:+0200
TZOFFSETTO:+0100
TZNAME:CET
DTSTART:20231029T010000
END:STANDARD
BEGIN:DAYLIGHT
TZOFFSETFROM:+0100
TZOFFSETTO:+0200
TZNAME:CEST
DTSTART:20240331T010000
END:DAYLIGHT
BEGIN:STANDARD
TZOFFSETFROM:+0200
TZOFFSETTO:+0100
TZNAME:CET
DTSTART:20241027T010000
END:STANDARD
BEGIN:DAYLIGHT
TZOFFSETFROM:+0100
TZOFFSETTO:+0200
TZNAME:CEST
DTSTART:20250330T010000
END:DAYLIGHT
BEGIN:STANDARD
TZOFFSETFROM:+0200
TZOFFSETTO:+0100
TZNAME:CET
DTSTART:20251026T010000
END:STANDARD
END:VTIMEZONE
BEGIN:VEVENT
DTSTART;VALUE=DATE:20231116
DTEND;VALUE=DATE:20231213
DTSTAMP:20260420T001943
CREATED:20231122T105224Z
LAST-MODIFIED:20231122T105224Z
UID:126302-1700092800-1702425599@merida.es
SUMMARY:Exposición "Calleja\, instruir deleitando. Cuentos\, libros y mucho más"
DESCRIPTION:Del 16 de noviembre al 12 de diciembre se podrá visitar la exposición «Calleja\, instruir deleitando. Cuentos\, libros y mucho más» en la Biblioteca Jesús Delgado Valhondo organizada por la Asociación Cultural Esmerarte dentro de las actividades de Claqueta Emérita. Está cedida por AGCEX Extremadura. \nSe trata de una exposición que contiene paneles con collages e ilustraciones de Manuel Acedo a partir de imágenes\, libres de derechos\, de la Biblioteca Nacional de España y la Biblioteca del Congreso de Estados Unidos acerca de Saturnino Calleja\, fundador de la editorial Calleja\, escritor\, editor y pedagogo que consiguió popularizar el cuento en su época. Maquetación de María del Mar Jiménez.
URL:https://merida.es/agenda/exposicion-calleja/
LOCATION:Biblioteca Jesús Delgado Valhondo\, Av. de la Libertad\, s/n\, Mérida
CATEGORIES:Exposición
ATTACH;FMTTYPE=image/jpeg:https://merida.es/wp-content/uploads/2023/11/2023-expo-calleja-claqueta-peq.jpg
END:VEVENT
BEGIN:VEVENT
DTSTART;VALUE=DATE:20231122
DTEND;VALUE=DATE:20231231
DTSTAMP:20260420T001943
CREATED:20231122T083358Z
LAST-MODIFIED:20231122T083756Z
UID:126295-1700611200-1703980799@merida.es
SUMMARY:Exposición 'Apalabrarte' de Luis Gustavo Molero Millán
DESCRIPTION:Del 23 de noviembre al 30 de diciembre se podrá visitar la exposición de pintura ‘Apalabrarte (Diario de un pintor)’ de Luis Gustavo Molero Millán en el Espacio INKA Decoración en Avenida Vía de la Plata de Mérida. \nLa exposición está planteada como un “diario pictórico” en el que cada obra habla de sí misma. El motivo\, la técnica\, el color y el trazo aportan singularidad y\, el conjunto\, coherencia. Aunque pictórico\, como diario\, se ha añadido la palabra para dotar de sonido a la imagen evocadora. Para ello se sirve de las aportaciones de dos personas muy cercanas\, Pilar y Ana Belén.\nLuis nos invita a pasear por esta exposición con la curiosidad de quien tiene el diario de un desconocido entre sus manos.
URL:https://merida.es/agenda/exposicion-apalabrarte-de-luis-gustavo-molero-millan/
LOCATION:Espacio INKA Decoración\, Avenida Vía de la Plata\, s/n\, Mérida\, España
CATEGORIES:Exposición
ATTACH;FMTTYPE=image/jpeg:https://merida.es/wp-content/uploads/2023/11/2023-expo-apalabrarte-peq.jpg
END:VEVENT
BEGIN:VEVENT
DTSTART;VALUE=DATE:20231128
DTEND;VALUE=DATE:20240108
DTSTAMP:20260420T001943
CREATED:20231128T141436Z
LAST-MODIFIED:20240107T203030Z
UID:126525-1701129600-1704671999@merida.es
SUMMARY:Navidad en Mérida
DESCRIPTION:La Navidad en Mérida arrancará oficialmente el viernes\, 1 de diciembre\, a las 19:00 horas con el Encendido Oficial en la Plaza de España. \nUna vez encendida la iluminación recorrerá las calles del centro el Pasacalles ‘Los Duendes de la Navidad’ con música\, charanga\, cabezudos y un gran buzón para que los más pequeños y pequeñas de la ciudad comiencen a vivir el ambiente navideño. Además\, se repartirán detalles y juegos para los más pequeños en la plaza España. \nEl mismo viernes se inaugura también el Mercado de Navidad en el Parque López de Ayala\, con la presencia de artesanas y artesanos\, atracciones infantiles y una pista de hielo para vivir las tardes y noches de estas fiestas de la mejor manera. Además\, ofrecerá talleres y actuaciones durante toda la navidad como como las de Tigu y Luna (1 de diciembre)\, Al Son del Cajón (8 de diciembre)\, Coro La Dehesa Extremeña (23 de diciembre) o Inés Alhaja (26 de diciembre). Este espacio acogerá la Casita de Papá Noel (quien visitará en persona el espacio)\, para que los más pequeños puedan dejarles sus cartas de regalos y deseos\, y también la visita de los Pajes Reales. \nEl martes 5 de diciembre\, se celebrará un Concierto de Navidad en la Plaza de España a cargo del grupo portugués Lucky Duckies\, una banda “revival” que parece sacada de algún casino de Las Vegas en los años 50 o 60. Los músicos forman una mezcla inigualable de jazz que incluye piano\, bajo\, guitarra y batería. \nEntre la intensa programación de la Festividad de la Mártir Santa Eulalia que abre el Año Jubilar Eulaliense\, el 10 de diciembre será especial con una gran alfombra de flores que realizará la Asociación de Alfombristas do Corpus Christi de Ponteareas\, una petalada pirotécnica\, una pitarra popular\, conciertos y un videomaping especial en la plaza de la basílica de santa Eulalia.\n\n					\n					Plaza de España\n				\n					Templo de Diana\n				 \nEl lunes 11 de diciembre\, a las 12:30 horas\, habrá un acto institucional en el Teatro María Luisa con motivo del 30 aniversario de Mérida como ciudad Patrimonio de la Humanidad junto al espectáculo Folkmænia (Saminodúo & Nerses Avakimyan) . Esa misma mañana\, a las 11:00 horas\, las Legiones fundacionales de Emerita Augusta harán un recorrido por la ciudad y\, por la tarde\, la Plaza de España acogerá el concierto de No me Pises que Llevo Chanclas y Los Inhumanos. \nDe la programación también hay que destacar el domingo 17 de diciembre\, a las 19:00 horas\, una Zambombá a cargo de Carmen la Parreña con su espectáculo en el Templo de Diana. El 22 de diciembre\, el espectáculo familiar: «Princesas & Sombras» en Nueva Ciudad y la «Gala Lírica» en el Centro Cultural Alcazaba\, el espectáculo infantil «Vega\, la estrella» el día 26 de diciembre o los «Trazos Mágicos» del 29 de diciembre son otros espectáculos destacados. No podrá faltar el tradicional Concierto de Año Nuevo de la Orquesta de Extremadura el 2 de enero.\n\n					\n					Pista de hielo\n				\n					Mercado Navideño\n				 \nDe entras las muchas actividades también se instalará una exposición de la Fundación de La Caixa\,\, el Belén Municipal en la Asamblea de Extremadura\, un Belén de Playmobil en el Convento de Santa Clara\, espectáculos de copla\, diversas obras teatrales\, talleres y cuentacuentos para los más pequeños\, no faltando las tradicionales visitas de los pajes reales al patio del ayuntamiento para recoger las cartas de nuestros peques. \nLa programación se completa con pasacalles navideños\,  la Pastorada de la Cofradía Infantil\, el Belén viviente de San José\, diferentes talleres para jóvenes en “El Economato” y\, el viernes 29 de diciembre\, la plaza de España albergará la Fiesta de PREUVAS\, la única de Extremadura\, que organiza MEGASTAR FM\, y el sábado 30 por la mañana el Fin de Fiesta Infantil donde esperamos más de 2.000 niños y niñas para despedir el año. \nAdemás hay que sumar la Gran Cabalgata de Reyes Magos que este año tendrá 15 carrozas más las de empresas privadas siendo el primer año que el ayuntamiento asumirá los 3 Reyes Magos y que volverá a contar con tramo sin ruido. \nProgramación Navidad y Mártir Santa Eulalia 2023 \nProgramación Navidad y Mártir Santa Eulalia 2023 (Lectura Fácil) \n 
URL:https://merida.es/agenda/navidad-2023/
LOCATION:Varios puntos de la ciudad\, Mérida
CATEGORIES:Infantil,Música,Navidad,Ocio,Teatro
ATTACH;FMTTYPE=image/jpeg:https://merida.es/wp-content/uploads/2023/11/2023-navidad-en-merida-peq.jpg
END:VEVENT
BEGIN:VEVENT
DTSTART;VALUE=DATE:20231201
DTEND;VALUE=DATE:20231221
DTSTAMP:20260420T001943
CREATED:20231129T231142Z
LAST-MODIFIED:20231129T231528Z
UID:126601-1701388800-1703116799@merida.es
SUMMARY:3er Supermercado del Arte (Escuela de Arte y Superior de Diseño)
DESCRIPTION:En su afán por dar a conocer las diferentes manifestaciones artísticas que realizan los alumnos y profesores de la Escuela de Arte y Superior de Diseño de Mérida celebra el “3er Supermercado del Arte” en la propia Escuela. \nEn este evento se pueden ver y adquirir las piezas expuestas que abarcan dibujos\, pinturas\, ilustraciones\, esculturas\, arte digital\, fotografías y artesanía\, a unos precios que oscilan de 1 a 300 €. \nLa actividad trata de incentivar a la comunidad escolar de la Escuela de Arte a participar mostrando obras plásticas donde cada autor enseña su mundo más creativo y personal. \nEsta edición se presenta esperando cosechar los éxitos de público y ventas de las dos ediciones anteriores y se celebrará del 1 y hasta el 20 de diciembre (días lectivos) en horario de 9 a 14 horas.
URL:https://merida.es/agenda/3er-supermercado-del-arte-escuela-de-arte-y-superior-de-diseno/
LOCATION:Escuela de Arte y Superior de Diseño de Mérida\, Paseo de Artes y Oficios\, s/n\, Mérida
ATTACH;FMTTYPE=image/jpeg:https://merida.es/wp-content/uploads/2023/11/2023-supermercado-del-arte-easd-peq2.jpg
END:VEVENT
BEGIN:VEVENT
DTSTART;VALUE=DATE:20231201
DTEND;VALUE=DATE:20240107
DTSTAMP:20260420T001943
CREATED:20231130T082723Z
LAST-MODIFIED:20240102T101623Z
UID:126608-1701388800-1704585599@merida.es
SUMMARY:Mérida\, Ciudad de la Navidad (Mercado Navideño)
DESCRIPTION:Desde el 1 de diciembre de 2023 hasta el 6 de enero de 2024\, se podrá disfrutar del Mercado Navideño de Mérida bajo el nombre ‘Mérida\, Ciudad de la Navidad’. \nEl Mercado cuenta con cerca de una veintena de casetas de artesanía entre las que se incluye una caseta que irá destinada a ONGs y abre sus puertas de 11:00 a 14:00 horas y de 17:30 a 21:00 horas (21:30 fines de semana). Estas casetas permanecerán cerradas los días 12\, 13\, 18\, 19 y 20 de diciembre. \nAdemás\, el Mercado contará con hilo musical\, pista de hielo de 400 metros cuadrados y una zona de pequeñas atracciones infantiles\, junto a la cual se ha instalado una zona con carpa multiusos donde se realizarán los diferentes conciertos y espectáculos programados. Tiene diferentes horarios según los días. Todos los martes (a excepción del 5 de diciembre) será el Día del Patinador/a: 2×1 en entradas para pista de hielo. \nHabrá numerosas actividades y talleres infantiles para los más pequeños y también algún taller para adultos. Tampoco faltarán las actuaciones musicales y espectáculos infantiles como las de Tigu y Luna (1 de diciembre)\, Al Son del Cajón (8 de diciembre)\, Master Class Flamenco Navideño con Julia Báez y Yolanda Burgos (22 de diciembre)\, Coro La Dehesa Extremeña (23 de diciembre) o Inés Alhaja (26 de diciembre).  \nEste espacio acogerá la Casita de Papá Noel (quien visitará en persona el espacio)\, para que los más pequeños puedan dejarles sus cartas de regalos y deseos\, y también la visita de los Pajes Reales. \nCofinanciado al 80 % por el Fondo Europeo de Desarrollo Regional (FEDER)\, Programa Operativo Pluriregional de España 2014-2020\, a cargo de la Estrategia de Desarrollo Urbano Sostenible e Integrado de Mérida\, “Mérida Central”\, dentro de la Línea de Actuación 6 de regeneración Económica\, Cultural y Plan de Acción Social para Derribar Barreras. \nProgramación Mérida\, Ciudad de la Navidad (Mercado Navideño) \n \n\n					\n					Pista de hielo\n				\n					Mercado Navideño\n				 \n\n					\n					Atracciones infantiles\n				\n					Vista general
URL:https://merida.es/agenda/mercado-navidad-2023/
LOCATION:Parque López de Ayala\, Mérida
CATEGORIES:Comercio,Curso-Taller,Infantil,Música,Navidad,Ocio
ATTACH;FMTTYPE=image/jpeg:https://merida.es/wp-content/uploads/2023/11/2023-ciudad-navidad-mercado-peq.jpg
END:VEVENT
BEGIN:VEVENT
DTSTART;VALUE=DATE:20231205
DTEND;VALUE=DATE:20231230
DTSTAMP:20260420T001943
CREATED:20231207T112029Z
LAST-MODIFIED:20231207T112148Z
UID:126819-1701734400-1703894399@merida.es
SUMMARY:Exposición “Swimming Pripyat” de Rodrigo Vargas
DESCRIPTION:Del 5 al 29 de diciembre de diciembre estará la exposición «Swimming Pripyat» de Rodrigo Vargas Nogales en la sala de exposiciones del Centro Cultural «Santo Domingo»\, en Mérida. Esta muestra se presenta como una invitación a reflexionar sobre lo sucedido en la ciudad de Pripyat el 26 de abril de 1983. Usando la arquitectura como elemento vehicular\, el artista nos propone un viaje en búsqueda de conexiones y similitudes entre lo acaecido allí y lo sucedido en otros lugares y ciudades que\, como ella\, sufrieron grandes catástrofes que las arrasaron o las hicieron incluso desaparecer.
URL:https://merida.es/agenda/exposicion-swimming-pripyat-rodrigo-vargas/
LOCATION:Centro Cultural Santo Domingo Fundación CB\, Plaza de Santo Domingo\, s/n\, Mérida
CATEGORIES:Exposición
ATTACH;FMTTYPE=image/jpeg:https://merida.es/wp-content/uploads/2023/12/rodrigo-vargas-exposicion-peq.jpg
END:VEVENT
BEGIN:VEVENT
DTSTART;VALUE=DATE:20231205
DTEND;VALUE=DATE:20240108
DTSTAMP:20260420T001943
CREATED:20231202T205557Z
LAST-MODIFIED:20231202T205557Z
UID:126684-1701734400-1704671999@merida.es
SUMMARY:Belén de Playmobil
DESCRIPTION:El Museo Nacional de Arte Romano expondrá un Belén de Playmobil en la Colección Visigoda (Iglesia de Santa Clara) desde el martes 5 de diciembre hasta el 7 de enero. Entrada libre.
URL:https://merida.es/agenda/belen-de-playmobil/
LOCATION:Iglesia de Santa Clara (Colección Visigoda)\, Santa Julia\, 1\, Mérida\, 06800
CATEGORIES:Navidad
ATTACH;FMTTYPE=image/jpeg:https://merida.es/wp-content/uploads/2023/12/2023-belen-playmobil-peq.jpg
END:VEVENT
BEGIN:VEVENT
DTSTART;TZID=Europe/Madrid:20231207T190000
DTEND;TZID=Europe/Madrid:20231207T190000
DTSTAMP:20260420T001943
CREATED:20231205T221130Z
LAST-MODIFIED:20231205T221130Z
UID:126784-1701975600-1701975600@merida.es
SUMMARY:Teatro: "Crónicas Rosa del Barroco"
DESCRIPTION:El Lindo Lindon vuelve a la acción… Yörik Artes Escénicas presenta «Crónicas Rosa del Barroco»\, un monologo de humor que repasa las intrigas y perversiones de la corte de los reyes en el siglo de Oro… Los Austrias… \nEl jueves 7 de diciembre\, a las 19:00 horas\, en el Centro Cultural de La Antigua. Entrada libre hasta completar aforo.
URL:https://merida.es/agenda/teatro-cronicas-rosa-del-barroco/
LOCATION:Centro Cultural La Antigua\, Calle Nerja s/n\, Mérida\, Badajoz\, 06800\, Spain
CATEGORIES:Teatro
ATTACH;FMTTYPE=image/jpeg:https://merida.es/wp-content/uploads/2023/12/2023-cronicas-del-barroco-peq.jpg
END:VEVENT
BEGIN:VEVENT
DTSTART;TZID=Europe/Madrid:20231207T200000
DTEND;TZID=Europe/Madrid:20231207T210000
DTSTAMP:20260420T001943
CREATED:20231127T123948Z
LAST-MODIFIED:20231205T164849Z
UID:126429-1701979200-1701982800@merida.es
SUMMARY:Teatro: "Cuando levante la niebla"
DESCRIPTION:Espectáculo: Cuando levante la niebla\nCompañía: TAPTC Teatro \nSinopsis: La obra de teatro ‘Cuando levante la niebla’ se estrenó para conmemorar el centenario de las excavaciones arqueológicas en Mérida. Representa un encuentro ficticio entre Maximiliano Macías y José Ramón Mélida\, antes de comenzar las excavaciones en el Teatro Romano de Mérida. La obra se basa en las cartas que ambos arqueólogos se dirigieron\, así como información obtenida\, entre otras fuentes\, por el libor de José Caballero sobre Maximiliano Macías.  \nReparto: Juanma Hernández\, Juanma Vaca\, Javier Lozano y Paco Muñoz\nDirección: Javier Llanos \nDuración: 40 min.\nPúblico:  Todos los públicos \nEntrada libre hasta completar aforo\n 20.00 horas (primer pase). 21.00 h (segundo pase)
URL:https://merida.es/agenda/cuando-levante-la-niebla/
LOCATION:Convento de Santa Clara (Sede del Consorcio y Festival de Mérida)\, Calle Santa Julia\, 5\, Mérida
CATEGORIES:Teatro
ATTACH;FMTTYPE=image/jpeg:https://merida.es/wp-content/uploads/2023/11/2023-cuando-levante-la-niebla-peq.jpg
END:VEVENT
END:VCALENDAR