﻿BEGIN:VCALENDAR
VERSION:2.0
PRODID:-//Ayuntamiento de Mérida - ECPv6.15.17.1//NONSGML v1.0//EN
CALSCALE:GREGORIAN
METHOD:PUBLISH
X-WR-CALNAME:Ayuntamiento de Mérida
X-ORIGINAL-URL:https://merida.es
X-WR-CALDESC:Eventos para Ayuntamiento de Mérida
REFRESH-INTERVAL;VALUE=DURATION:PT1H
X-Robots-Tag:noindex
X-PUBLISHED-TTL:PT1H
BEGIN:VTIMEZONE
TZID:Europe/Madrid
BEGIN:DAYLIGHT
TZOFFSETFROM:+0100
TZOFFSETTO:+0200
TZNAME:CEST
DTSTART:20220327T010000
END:DAYLIGHT
BEGIN:STANDARD
TZOFFSETFROM:+0200
TZOFFSETTO:+0100
TZNAME:CET
DTSTART:20221030T010000
END:STANDARD
BEGIN:DAYLIGHT
TZOFFSETFROM:+0100
TZOFFSETTO:+0200
TZNAME:CEST
DTSTART:20230326T010000
END:DAYLIGHT
BEGIN:STANDARD
TZOFFSETFROM:+0200
TZOFFSETTO:+0100
TZNAME:CET
DTSTART:20231029T010000
END:STANDARD
BEGIN:DAYLIGHT
TZOFFSETFROM:+0100
TZOFFSETTO:+0200
TZNAME:CEST
DTSTART:20240331T010000
END:DAYLIGHT
BEGIN:STANDARD
TZOFFSETFROM:+0200
TZOFFSETTO:+0100
TZNAME:CET
DTSTART:20241027T010000
END:STANDARD
BEGIN:DAYLIGHT
TZOFFSETFROM:+0100
TZOFFSETTO:+0200
TZNAME:CEST
DTSTART:20250330T010000
END:DAYLIGHT
BEGIN:STANDARD
TZOFFSETFROM:+0200
TZOFFSETTO:+0100
TZNAME:CET
DTSTART:20251026T010000
END:STANDARD
END:VTIMEZONE
BEGIN:VEVENT
DTSTART;VALUE=DATE:20231213
DTEND;VALUE=DATE:20240229
DTSTAMP:20260419T190844
CREATED:20231219T082143Z
LAST-MODIFIED:20240122T110620Z
UID:127026-1702425600-1709164799@merida.es
SUMMARY:Exposición "El mundo emocional de la víctima" de Manuel Mata Gil
DESCRIPTION:Tras exponer ‘El mundo Emocional de la Víctima’ el 25 de noviembre en la Asamblea de Extremadura\, el Palacio de Congresos de Mérida se suma al trabajo del escultor Manuel Mata Gil para concienciar y erradicar la violencia de género. \nLa exposición está compuesta por unas 30 obras entre pinturas y esculturas. A través de ellas se observan las emociones y sentimientos de las mujeres que sufren la violencia de género\, así como el trabajo de los profesionales y los recursos que tienen a su disposición. \nCITA PREVIA PARA VISITA: 924 007 330 o merida@palcongrex.es
URL:https://merida.es/agenda/exposicion-el-mundo-emocional-de-la-victima-de-manuel-mata-gil/
LOCATION:Palacio de Congresos\, Avda. del Rio s/n\, Mérida
CATEGORIES:Exposición
ATTACH;FMTTYPE=image/jpeg:https://merida.es/wp-content/uploads/2023/12/2023-expo-mundo-emocional-victima-peq.jpg
END:VEVENT
BEGIN:VEVENT
DTSTART;VALUE=DATE:20240126
DTEND;VALUE=DATE:20240224
DTSTAMP:20260419T190844
CREATED:20240128T080021Z
LAST-MODIFIED:20240128T080400Z
UID:127861-1706227200-1708732799@merida.es
SUMMARY:Exposición 'Dionisio Hernández Gil y el Patrimonio de Extremadura'
DESCRIPTION:La Asamblea de Extremadura acoge del 26 de enero al 23 de febrero de 2024 la exposición ‘Dionisio Hernández Gil y el Patrimonio de Extremadura (1962-2021)’\, en honor al legado del arquitecto cacereño\, icono de la arquitectura y la conservación patrimonial. Entrada libre \nLa exposición\, promovida por la Real Academia de Extremadura de las Letras y las Artes y el Colegio Oficial de Arquitectos de Extremadura\, es un recorrido por la vida y obra de uno de los más destacados arquitectos y conservadores del patrimonio regional. \nDionisio Hernández Gil dedicó su vida a la protección y restauración del patrimonio cultural español. Esta exposición cubre su trayectoria desde 1962 hasta 2021\, con especial énfasis en su labor en el Ministerio de Cultura entre 1979 y 1999. La muestra está dividida en secciones que representan las distintas facetas de su carrera: arquitecto restaurador\, director de obras y gestor del patrimonio\, sin olvidar al arquitecto en libre ejercicio. Entre los aspectos más destacados de la exposición se encuentran los proyectos de restauración liderados por Hernández Gil\, como el del convento de San Benito de Alcántara \nLa exposición es una invitación a explorar no solo la historia de Extremadura a través de su patrimonio\, sino también la vida de un hombre cuya obra ha dejado una huella imborrable en el paisaje cultural de España.
URL:https://merida.es/agenda/exposicion-dionisio-hernandez-gil-y-el-patrimonio-de-extremadura/
LOCATION:Asamblea de Extremadura\, Plaza San Juan de Dios s/n\, Mérida
CATEGORIES:Exposición
ATTACH;FMTTYPE=image/jpeg:https://merida.es/wp-content/uploads/2024/01/2024_exposicion_asamblea_dionisio-hernandez-gil-peq.jpg
END:VEVENT
BEGIN:VEVENT
DTSTART;VALUE=DATE:20240202
DTEND;VALUE=DATE:20240301
DTSTAMP:20260419T190844
CREATED:20240201T205904Z
LAST-MODIFIED:20240201T205904Z
UID:127981-1706832000-1709251199@merida.es
SUMMARY:Exposición 'Apalabrarte' de Luis Gustavo Molero
DESCRIPTION:Del 2 al 29 de febrero Luis Gustavo Molero expondrá la exposición «Apalabrarte» en el Centro Cultural «Santo Domingo» de Fundación CB\, en Mérida. \nEl conocimiento y la práctica adquiridos de este artista conformarían la “mancha” inicial de cada obra\, pero la improvisación aportaría la forma definitiva. La exposición está planteada como un “diario pictórico” en el que cada obra habla de sí misma. El motivo\, la técnica\, el color y el trazo aportan singularidad y el conjunto coherencia. Aunque pictórico\, como diario\, ha añadido la palabra para dotar de sonido a la imagen evocadora. Logros\, frustraciones\, deseos\, alegrías y tristezas\, lo vivido y lo aprendido… las imágenes hablan de él partiendo de elementos reconocibles o imaginados. \nMolero nos invita a pasear por esta exposición con la curiosidad de quien tiene el diario de un desconocido entre sus manos…
URL:https://merida.es/agenda/apalabrarte/
LOCATION:Centro Cultural Santo Domingo Fundación CB\, Plaza de Santo Domingo\, s/n\, Mérida
CATEGORIES:Exposición
ATTACH;FMTTYPE=image/jpeg:https://merida.es/wp-content/uploads/2024/02/expo-molero-peq.jpg
END:VEVENT
BEGIN:VEVENT
DTSTART;VALUE=DATE:20240217
DTEND;VALUE=DATE:20240219
DTSTAMP:20260419T190844
CREATED:20240208T163743Z
LAST-MODIFIED:20240208T163743Z
UID:128146-1708128000-1708300799@merida.es
SUMMARY:Campeonato de España Coches RC
DESCRIPTION:Los días 17 y 18 de febrero se celebrará en el Circuito Municipal El Prado una prueba del Campeonato de España de Coches Radio Control en categoría B. Organiza el Club RC Mérida. La prueba\, con entrada gratuita\, se celebra el sábado 17 de febrero y el domingo\, 18. El primer día serán los entrenamientos y clasificatorios mientras que el domingo seras las finales. \nLos coches de radio control a escala 1:8 ofrecen una conducción detallada en el ámbito del hobby automovilístico. Estos modelos en miniatura replican con precisión los detalles de los automóviles a tamaño real\, proporcionando una experiencia auténtica. Su característica más destacada es el rendimiento\, con motores potentes y sistemas de tracción avanzados que permiten alcanzar velocidades considerables y maniobrar en diversos terrenos.
URL:https://merida.es/agenda/campeonato-de-espana-coches-rc/
LOCATION:Circuito Municipal RC\, Calle Valladolid\, 12. Polígono El Prado\, Mérida
CATEGORIES:Deporte
ATTACH;FMTTYPE=image/jpeg:https://merida.es/wp-content/uploads/2024/02/2024-campeonato-rc-nacional-peq.jpg
END:VEVENT
BEGIN:VEVENT
DTSTART;VALUE=DATE:20240218
DTEND;VALUE=DATE:20240219
DTSTAMP:20260419T190844
CREATED:20231108T105546Z
LAST-MODIFIED:20231108T110020Z
UID:125853-1708214400-1708300799@merida.es
SUMMARY:II Camino Solidario "Sierra Pocitos y San Serván"
DESCRIPTION:El próximo 18 de febrero de 2024 se llevará a cabo el II Camino Solidario organizado por la Asociación Deportiva Caminos Romanos a beneficio de Emeritea y Andade (Asociación Nacional de Amputados). Una iniciativa que busca brindar apoyo a estas importantes asociaciones dando visibilidad a su problemática y recaudar fondos para contribuir a su valiosa causa. \nEl II Camino Solidario contará con tres rutas diferentes de 35\, 20 y 12 kilómetros\, diseñadas para adaptarse a personas con diversas condiciones físicas; incluido menores con la debida autorización de sus padres.  \nLa inscripción será de 20 € para la primera ruta de 35km con salida desde Calamonte; 18 euros para la segunda ruta de 20 km con salida desde Arroyo de San Serván y 16 euros para la tercera ruta de 12 km con salida desde la Presa de Montijo. Todos los fondos recaudados se destinaran íntegramente a las asociaciones mencionadas. \nLas inscripciones están abiertas desde el 4 de noviembre y se pueden realizar online a través de https://www.chipserena.es \nLos participantes serán obsequiados con una camiseta técnica de primera calidad\, se les proporcionarán avituallamientos\, bebidas y podrán disfrutar de un delicioso plato de paella en el majestuoso Acueducto Romano de Los Milagros\, que será el punto de llegada y encuentro de todos los participantes. \nLa Asociación Club Deportivo Caminos Romanos pondrá a disposición de todos los inscritos que lo deseen autobuses que saldrán desde el recinto ferial/mercadillo de Mérida en los horarios indicados en el reglamento; y con un costo de 3\,5 euros.
URL:https://merida.es/agenda/ii-camino-solidario-2024/
LOCATION:Recorrido por la comarca de Mérida
CATEGORIES:Benéfico,Deporte
ATTACH;FMTTYPE=image/jpeg:https://merida.es/wp-content/uploads/2023/11/2024-ii-camino-solidario-sierra-pocitos-y-san-servan-peq2.jpg
END:VEVENT
BEGIN:VEVENT
DTSTART;TZID=Europe/Madrid:20240218T090000
DTEND;TZID=Europe/Madrid:20240218T150000
DTSTAMP:20260419T190844
CREATED:20240211T225921Z
LAST-MODIFIED:20240211T225921Z
UID:128180-1708246800-1708268400@merida.es
SUMMARY:Campeonato de Extremadura de Motocross
DESCRIPTION:El domingo 18 de febrero\, a partir de las 9:00 horas\, el Circuito Municipal Vía de la Plata acoge la 1ª Prueba del Campeonato de Extremadura de Motocross organizada por el MotoClub Vía de la Plata. Entrada: 5€ (menores de 10 años gratis). \nCategorías Junior\, Senior\, Master\, Aficionados\, 50cc\, 65cc\, 85cc\, Féminas\, Clásicas
URL:https://merida.es/agenda/campeonato-de-extremadura-de-motocross-2/
LOCATION:Circuito Municipal Vía de la Plata\, Mérida
CATEGORIES:Deporte
ATTACH;FMTTYPE=image/jpeg:https://merida.es/wp-content/uploads/2024/02/2024-motocross-peq.jpg
END:VEVENT
BEGIN:VEVENT
DTSTART;TZID=Europe/Madrid:20240218T110000
DTEND;TZID=Europe/Madrid:20240218T230000
DTSTAMP:20260419T190844
CREATED:20240216T165932Z
LAST-MODIFIED:20240216T165932Z
UID:128280-1708254000-1708297200@merida.es
SUMMARY:Peregrinación de la Hermandad del Rocío de Badajoz a la Basílica Santa Eulalia
DESCRIPTION:El domingo 18 de febrero\, la Hermandad del Rocío de Badajoz peregrinará hacia el túmulo martirial de Santa Eulalia desde la Parroquia de los Milagros. Para ello\, han preparado un amplio programa de actos que incluyen dos procesiones con el Simpecado Rociero de esta hermandad pacense. \nA las 11 de la mañana\, llegará el Simpecado a la Parroquia de los Milagros\, en Nueva Ciudad para\, a las 11\,30 horas\, iniciar la procesión por Avda. Antonio Rodríguez Moñino\, Avda. de la Constitución\, Paseo de los Rosales\, Puente Romano\, Plaza de Roma\, calle Cava\, Plaza del Rastro\, Romero Leal\, Berzocana\, Puerta de la Villa\, Rambla Mártir Santa Eulalia\, hasta la Basílica de Santa Eulalia. \nAlas 13 horas\, celebrarán una Eucaristía en la Basílica para\, a las 14 horas\, iniciar la procesión de regreso por Rambla Mártir Santa Eulalia\, Puerta de la Villa\, Calle Santa Eulalia\, Plaza de España\, calle Puente\, Plaza de Roma\, Puente Romano\, Paseo de los Rosales\, Avda. de la Constitución\, Antonio Rodríguez Moñino\, Antonio Campos Hoyos\, y Parroquia de Nuestra Señora de los Milagros. \nUna vez finalizada la procesión\, realizarán una jornada de convivencia en el atrio de la Parroquia de los Milagros
URL:https://merida.es/agenda/pergrinacion-hermandad-rocio-badajoz-santa-eulalia-merida/
LOCATION:Recorrido Urbano\, Mérida
CATEGORIES:Santa Eulalia
ATTACH;FMTTYPE=image/jpeg:https://merida.es/wp-content/uploads/2024/02/2024-peregrinacion-hermandad-rocio-merida-peq.jpeg
END:VEVENT
END:VCALENDAR