﻿BEGIN:VCALENDAR
VERSION:2.0
PRODID:-//Ayuntamiento de Mérida - ECPv6.15.17.1//NONSGML v1.0//EN
CALSCALE:GREGORIAN
METHOD:PUBLISH
X-ORIGINAL-URL:https://merida.es
X-WR-CALDESC:Eventos para Ayuntamiento de Mérida
REFRESH-INTERVAL;VALUE=DURATION:PT1H
X-Robots-Tag:noindex
X-PUBLISHED-TTL:PT1H
BEGIN:VTIMEZONE
TZID:Europe/Madrid
BEGIN:DAYLIGHT
TZOFFSETFROM:+0100
TZOFFSETTO:+0200
TZNAME:CEST
DTSTART:20220327T010000
END:DAYLIGHT
BEGIN:STANDARD
TZOFFSETFROM:+0200
TZOFFSETTO:+0100
TZNAME:CET
DTSTART:20221030T010000
END:STANDARD
BEGIN:DAYLIGHT
TZOFFSETFROM:+0100
TZOFFSETTO:+0200
TZNAME:CEST
DTSTART:20230326T010000
END:DAYLIGHT
BEGIN:STANDARD
TZOFFSETFROM:+0200
TZOFFSETTO:+0100
TZNAME:CET
DTSTART:20231029T010000
END:STANDARD
BEGIN:DAYLIGHT
TZOFFSETFROM:+0100
TZOFFSETTO:+0200
TZNAME:CEST
DTSTART:20240331T010000
END:DAYLIGHT
BEGIN:STANDARD
TZOFFSETFROM:+0200
TZOFFSETTO:+0100
TZNAME:CET
DTSTART:20241027T010000
END:STANDARD
BEGIN:DAYLIGHT
TZOFFSETFROM:+0100
TZOFFSETTO:+0200
TZNAME:CEST
DTSTART:20250330T010000
END:DAYLIGHT
BEGIN:STANDARD
TZOFFSETFROM:+0200
TZOFFSETTO:+0100
TZNAME:CET
DTSTART:20251026T010000
END:STANDARD
END:VTIMEZONE
BEGIN:VEVENT
DTSTART;VALUE=DATE:20231213
DTEND;VALUE=DATE:20240229
DTSTAMP:20260419T204950
CREATED:20231219T082143Z
LAST-MODIFIED:20240122T110620Z
UID:127026-1702425600-1709164799@merida.es
SUMMARY:Exposición "El mundo emocional de la víctima" de Manuel Mata Gil
DESCRIPTION:Tras exponer ‘El mundo Emocional de la Víctima’ el 25 de noviembre en la Asamblea de Extremadura\, el Palacio de Congresos de Mérida se suma al trabajo del escultor Manuel Mata Gil para concienciar y erradicar la violencia de género. \nLa exposición está compuesta por unas 30 obras entre pinturas y esculturas. A través de ellas se observan las emociones y sentimientos de las mujeres que sufren la violencia de género\, así como el trabajo de los profesionales y los recursos que tienen a su disposición. \nCITA PREVIA PARA VISITA: 924 007 330 o merida@palcongrex.es
URL:https://merida.es/agenda/exposicion-el-mundo-emocional-de-la-victima-de-manuel-mata-gil/
LOCATION:Palacio de Congresos\, Avda. del Rio s/n\, Mérida
CATEGORIES:Exposición
ATTACH;FMTTYPE=image/jpeg:https://merida.es/wp-content/uploads/2023/12/2023-expo-mundo-emocional-victima-peq.jpg
END:VEVENT
BEGIN:VEVENT
DTSTART;VALUE=DATE:20240202
DTEND;VALUE=DATE:20240301
DTSTAMP:20260419T204950
CREATED:20240201T205904Z
LAST-MODIFIED:20240201T205904Z
UID:127981-1706832000-1709251199@merida.es
SUMMARY:Exposición 'Apalabrarte' de Luis Gustavo Molero
DESCRIPTION:Del 2 al 29 de febrero Luis Gustavo Molero expondrá la exposición «Apalabrarte» en el Centro Cultural «Santo Domingo» de Fundación CB\, en Mérida. \nEl conocimiento y la práctica adquiridos de este artista conformarían la “mancha” inicial de cada obra\, pero la improvisación aportaría la forma definitiva. La exposición está planteada como un “diario pictórico” en el que cada obra habla de sí misma. El motivo\, la técnica\, el color y el trazo aportan singularidad y el conjunto coherencia. Aunque pictórico\, como diario\, ha añadido la palabra para dotar de sonido a la imagen evocadora. Logros\, frustraciones\, deseos\, alegrías y tristezas\, lo vivido y lo aprendido… las imágenes hablan de él partiendo de elementos reconocibles o imaginados. \nMolero nos invita a pasear por esta exposición con la curiosidad de quien tiene el diario de un desconocido entre sus manos…
URL:https://merida.es/agenda/apalabrarte/
LOCATION:Centro Cultural Santo Domingo Fundación CB\, Plaza de Santo Domingo\, s/n\, Mérida
CATEGORIES:Exposición
ATTACH;FMTTYPE=image/jpeg:https://merida.es/wp-content/uploads/2024/02/expo-molero-peq.jpg
END:VEVENT
BEGIN:VEVENT
DTSTART;TZID=Europe/Madrid:20240224T080000
DTEND;TZID=Europe/Madrid:20240225T170000
DTSTAMP:20260419T204950
CREATED:20231219T084154Z
LAST-MODIFIED:20240102T134341Z
UID:127029-1708761600-1708880400@merida.es
SUMMARY:Mangafest 2024
DESCRIPTION:Mangafest\, organizado por la promotora de eventos BWG\, llega a Mérida los días 24 y 25 de febrero de 2024. El II Festival de Cultura Asiática y Ocio Digital tendrá lugar en la Institución Ferial de Mérida (IFEME)\, donde familias y aficionados al manga\, anime\, ocio digital y el entretenimiento podrán disfrutar de dos jornadas cargadas de actividades. \nEl festival contará con zona Free Play\, torneos\, Realidad Virtual y una gran selección de videojuegos\, desde las últimas novedades hasta los clásicos de siempre. Asimismo\, no faltarán actividades relacionadas con el Cosplay\, como concursos\, pasarelas o photocalls\, entre otros\, ni con la potente música K-Pop. Así como decenas de actividades ideadas para disfrutar en familia y tiendas de artesanía que pondrán a la venta sus productos en el propio festival. YouTubers\, ilustradores\, cosplayers\, artistas… Durante los dos días del evento\, Mangafest acercará a sus asistentes invitados de primer nivel. \nMás información y entradas: www.mangafest.es
URL:https://merida.es/agenda/mangafest-2024/
LOCATION:Instituto Ferial de Mérida IFEME\, C/ Manuel Nuñez (Urbanización El Prado)\, Mérida\, 06800\, España
CATEGORIES:Feria,Juvenil,Ocio
ATTACH;FMTTYPE=image/jpeg:https://merida.es/wp-content/uploads/2023/12/2024-festival-mangafest-peq.jpg
END:VEVENT
BEGIN:VEVENT
DTSTART;TZID=Europe/Madrid:20240224T130000
DTEND;TZID=Europe/Madrid:20240224T130000
DTSTAMP:20260419T204950
CREATED:20240220T204938Z
LAST-MODIFIED:20240220T204938Z
UID:128350-1708779600-1708779600@merida.es
SUMMARY:Convivencia Solidaria 'La Revirá'
DESCRIPTION:La Cofradía Infantil organiza su Convivencia Solidaria ‘La Revirá’ el sábado 24 de febrero\, a partir de las 13:00 horas\, en la Plaza de Santa María con la actuación de la OJE Mérida y Comparsas y Chirigotas.
URL:https://merida.es/agenda/convivencia-solidaria-revira-2024/
LOCATION:Plaza de Santa María\, Mérida
CATEGORIES:Benéfico,Convivencia,Semana Santa
ATTACH;FMTTYPE=image/jpeg:https://merida.es/wp-content/uploads/2024/02/2024-revira-peq.jpg
END:VEVENT
BEGIN:VEVENT
DTSTART;TZID=Europe/Madrid:20240224T190000
DTEND;TZID=Europe/Madrid:20240224T190000
DTSTAMP:20260419T204950
CREATED:20240216T221545Z
LAST-MODIFIED:20240216T221545Z
UID:128283-1708801200-1708801200@merida.es
SUMMARY:Teatro: "Es o no es crudo el invierno"
DESCRIPTION:SÁBADO Día 24 de febrero de 2024. 19.00 horas \nEspectáculo: Es o no es crudo el invierno\nCompañía: Emerita Theatrum \nSinopsis: Jose\, un actor frustrado venido a menos\, quiere montar un Hamlet\, para lo cual convoca un casting al que se presentan malos actores. Para el montaje cuenta con la ayuda y complicidad de su hermana María\, maestra en un pueblecito de Granada\, donde se piensa realizar el estreno el día de Navidad. Comienzan los ensayos y vamos descubriendo las carencias y complejos de cada uno de los actores\, que comparten sus dramas personales con el resto del elenco\, Finalmente Jose consigue\, a duras penas\, que los actores interpreten su papel y todo está listo para el gran día. En el último momento\, Jose recibe una llamada que puede hacer cambiarlo todo. \nVersión y dirección: Jesús Manchón\nTexto: Kenneth Branagh\nReparto: Antonio Rodríguez\, Ana del Mazo\, Rosalía Batalla\, Andrés Garrido\, Emilio Muñoz-Torrero\, Sofía Serrano\, Beatriz Rodríguez\, Jose Corbacho\, Olga Rodríguez\, Carlos Martínez\, Eva León \nDuración: 90 min. \nEntrada libre hasta completar aforo
URL:https://merida.es/agenda/teatro-es-o-no-es-crudo-el-invierno/
LOCATION:Centro Cultural La Antigua\, Calle Nerja s/n\, Mérida\, Badajoz\, 06800\, Spain
CATEGORIES:Teatro
ATTACH;FMTTYPE=image/jpeg:https://merida.es/wp-content/uploads/2024/02/2024-crudo-invierno-teatro-peq.jpg
END:VEVENT
BEGIN:VEVENT
DTSTART;TZID=Europe/Madrid:20240224T203000
DTEND;TZID=Europe/Madrid:20240224T203000
DTSTAMP:20260419T204950
CREATED:20240219T210942Z
LAST-MODIFIED:20240219T211324Z
UID:128325-1708806600-1708806600@merida.es
SUMMARY:Teatro: "Culpables"
DESCRIPTION:SÁBADO Día 24 de febrero de 2024. 20.30 horas \nEspectáculo: Culpables.\nCompañía: Atakama \nSinopsis: Culpables’ es un montaje que parte de una “revisión” del papel de la mujer a lo largo de la historia y de lo que de ellas nos han contado un recorrido\, irónico\, trepidante\, con dosis de humor que se contrarrestan con la reflexión sobre el legado de culpabilidad que todavía persiste para la población femenina en muchos ámbitos de la vida. \nQueremos reírnos\, queremos hacer reír al público\, queremos que los espectadores sean partícipes de este juego y pongamos en pie la culpa de las mujeres desde la perspectiva de lo absurdo que ha sido\ny es\, culpables del pecado original\, de ser bellas\, de ser inteligentes\, de salir\, de entrar\, se ser madres\, de trabajar\, de estar en casa\, de descuidarse\, de arreglarse… \nTexto: Jorge Guerra Burgoa\nDirección: Miguel Ángel Latorre Caballero\nIntérpretes: Rocío Montero y Alba Cayuela \nDuración: 80 min.\nPúblico: a partir de 14 años \nTaquilla: Entrada única 5€ (*Descuentos del 50% aplicable a: carnet estudiante\, carnet joven europeo\, personas jubiladas-pensionistas\, familia numerosa y personas en desempleo)\nHorario de taquilla: Días 23 de febrero de 11.00 a 13:00h. y de 18.30 a 20.30h y día 24 de febrero de 11.00 a 13:00h. y de 18.30 a 20.30h.\nReservas en el email: salatrajanomerida@gmail.com
URL:https://merida.es/agenda/teatro-culpables/
LOCATION:Sala Trajano\, Calle Muza\, 50\, Mérida
CATEGORIES:Teatro
ATTACH;FMTTYPE=image/jpeg:https://merida.es/wp-content/uploads/2024/02/teatro-culpables-peq.jpg
END:VEVENT
END:VCALENDAR