﻿BEGIN:VCALENDAR
VERSION:2.0
PRODID:-//Ayuntamiento de Mérida - ECPv6.15.17.1//NONSGML v1.0//EN
CALSCALE:GREGORIAN
METHOD:PUBLISH
X-WR-CALNAME:Ayuntamiento de Mérida
X-ORIGINAL-URL:https://merida.es
X-WR-CALDESC:Eventos para Ayuntamiento de Mérida
REFRESH-INTERVAL;VALUE=DURATION:PT1H
X-Robots-Tag:noindex
X-PUBLISHED-TTL:PT1H
BEGIN:VTIMEZONE
TZID:Europe/Madrid
BEGIN:DAYLIGHT
TZOFFSETFROM:+0100
TZOFFSETTO:+0200
TZNAME:CEST
DTSTART:20230326T010000
END:DAYLIGHT
BEGIN:STANDARD
TZOFFSETFROM:+0200
TZOFFSETTO:+0100
TZNAME:CET
DTSTART:20231029T010000
END:STANDARD
BEGIN:DAYLIGHT
TZOFFSETFROM:+0100
TZOFFSETTO:+0200
TZNAME:CEST
DTSTART:20240331T010000
END:DAYLIGHT
BEGIN:STANDARD
TZOFFSETFROM:+0200
TZOFFSETTO:+0100
TZNAME:CET
DTSTART:20241027T010000
END:STANDARD
BEGIN:DAYLIGHT
TZOFFSETFROM:+0100
TZOFFSETTO:+0200
TZNAME:CEST
DTSTART:20250330T010000
END:DAYLIGHT
BEGIN:STANDARD
TZOFFSETFROM:+0200
TZOFFSETTO:+0100
TZNAME:CET
DTSTART:20251026T010000
END:STANDARD
END:VTIMEZONE
BEGIN:VEVENT
DTSTART;VALUE=DATE:20240229
DTEND;VALUE=DATE:20240322
DTSTAMP:20260419T190840
CREATED:20240316T074547Z
LAST-MODIFIED:20240316T074547Z
UID:129095-1709164800-1711065599@merida.es
SUMMARY:Exposición 'Mujeres y discapacidad intelectual'
DESCRIPTION:La Biblioteca Pública del Estado «Jesús Delgado Valhondo» en Mérida ha organizado para celebrar el Día Internacional de las Mujeres\, la exposición «Mujeres y discapacidad intelectual» cedida por Plena Inclusión Extremadura.  \nEsta exposición pretende poner en valor la reivindicación de los derechos de la mujer con discapacidad intelectual y/o desarrollo en su trayectoria de conquista de derechos. \nEjemplos de Mujeres con discapacidad intelectual y/o del desarrollo que luchan a diario por conseguir estar y ser incluidas en la sociedad\, al igual que ya lo hicieran otras mujeres en la historia. \nPlena inclusión Extremadura\, en colaboración con el Instituto de la Mujer de Extremadura\, han querido plasmar en esta exposición la similitud que tienen las mujeres con discapacidad intelectual y/o del desarrollo en la conquista de los derechos con las mujeres en la historia. \nSe podrá visitar en la sala de exposiciones (vestíbulo planta baja) en horario de la biblioteca desde el 29 de febrero hasta el 21 de marzo de 2024.
URL:https://merida.es/agenda/exposicion-mujeres-y-discapacidad-intelectual/
LOCATION:Biblioteca Jesús Delgado Valhondo\, Av. de la Libertad\, s/n\, Mérida
CATEGORIES:Exposición
ATTACH;FMTTYPE=image/jpeg:https://merida.es/wp-content/uploads/2024/03/2024-expo-mujeres-discapacidad-peq.jpg
END:VEVENT
BEGIN:VEVENT
DTSTART;VALUE=DATE:20240301
DTEND;VALUE=DATE:20240322
DTSTAMP:20260419T190840
CREATED:20240302T095806Z
LAST-MODIFIED:20240308T170624Z
UID:128647-1709251200-1711065599@merida.es
SUMMARY:8 de Marzo. Día Internacional de las Mujeres
DESCRIPTION:La delegación de Igualdad de Género ha organizado o colaborado en una serie de actividades con motivo del 8 de marzo\, Día Internacional de las Mujeres y que desarrollarán durante todo el mes de marzo: \nViernes 1 de marzo\n19.30h\, Centro Cultural Alcazaba\nEncuentro literario con Pepa Gómez Bustamante. \nEscritora\, activista cultural y Presidenta del Ateneo de Azuaga (Badajoz)\, ha compaginado siempre su actividad de empresaria con la literatura\, especialmente en los géneros de poesía y ensayo. Organiza: Biblioteca Municipal Juan Pablo Forner \nMartes 5 de marzo\n18.00h\, Liceo de Mérida: Charla: ‘Importancia de las políticas públicas de igualdad en la Ciudad de Mérida’ a cargo de la delegada Ana Aragoneses Lillo. \nMiércoles 6 de marzo\n10.30h\, Centro Cultural de Nueva Ciudad\nIV Edición Muestra de Audiovisuales «Cambia el rollo». El alumnado del ciclo formativo de grado superior de “Realización de proyecto audiovisuales y espectáculos” del IES Extremadura lanza esta muestra con el objetivo de fomentar la igualdad. Organiza: Asociación Cultural Esmerarte e IES Extremadura \nViernes 8 de marzo\n10.30h\, Hogar de Mayores Zona Sur: Encuentro de mujeres mayores en la que contarán su experiencias de vidas \n19.30h\, Plaza de España. Concentración y Manifestación del 8M. Organiza: Plataforma de mujeres 8M \nDomingo 10 de marzo\n19.00h\, Centro Cultural de La Antigua: Teatro: «Del grito a la palabra»\, de Verbo Producciones. Protagoniza Paca Velardiez. Entrada libre hasta completar aforo. \nMartes 12 de marzo\n12.00h\, Sede Conferencia San Vicente de Paul. Formación en Igualdad ‘La Defensa por conseguir los Derechos de las Mujeres’ dirigida a las alumnas del curso de Dependientas de la Conferencia San Vicente de Paul \nMiércoles 13 de marzo\n18.00h\, Centro Clara Campoamor. Club de Lectura Feminista. ‘Las olvidadas’ de Ángeles Caso. \n13\, 18\, 20 y 21 de marzo\n19.00h\, Recorrido urbano. Rutas guiadas: ‘Mujeres de Leyenda’. Se trata de una ruta que recoge los mitos y leyendas relacionados con la mujer en la ciudad de Mérida a través de los tiempos. Duración aprox.: 90 minutos. Plazas limitadas. Inscripciones próximamente. \nViernes 15 de marzo\n11.30h\, Instituto Santa Eulalia. La Mujer y la Niña en la Ciencia. Concurso con institutos a nivel regional cuyo objetivo es potenciar el conocimiento de mujeres exitosas en los ámbitos STEAM\, visibilizar a mujeres que se hubiesen enfrentado a dificultades y perseverado para poder superarlas.
URL:https://merida.es/agenda/8m-dia-internacional-de-las-mujeres-2024/
CATEGORIES:Charla-Conferencia,Cine,Concentración-Marcha,Curso-Taller,Visita Guiada
ATTACH;FMTTYPE=image/jpeg:https://merida.es/wp-content/uploads/2024/03/2024-8m-peq3.jpg
END:VEVENT
BEGIN:VEVENT
DTSTART;VALUE=DATE:20240303
DTEND;VALUE=DATE:20240311
DTSTAMP:20260419T190840
CREATED:20240302T094302Z
LAST-MODIFIED:20240302T094934Z
UID:128642-1709424000-1710115199@merida.es
SUMMARY:Semana Temática 'Ser mujer en Roma' en el MNAR
DESCRIPTION:Un año más\, el Museo Nacional de Arte Romano celebra la semana temática «Ser Mujer en Roma»\, instituida desde hace años\, para la celebración del Día Internacional de la Mujer el 8 de Marzo. En la programación hay una amplia variedad de actividades\, como conferencias\, visitas guiadas y recreaciones\, que permitirán conocer en profundidad a la mujer romana\, y en concreto\, a las mujeres que habitaron en Augusta Emérita. Un programa con el que se pretende acercar a los ciudadanos del siglo XXI la realidad de las mujeres de los primeros siglos del mundo romano\,a través de una colección\, la del MNAR\, que posee piezas esenciales para comprender cómo vivieron esas mujeres\, tanto en su entorno familiar como en su exigua vida pública. \n3 y 17 de marzo. 12:00 horas. Salas del MNAR\nVisita tematizada “Ser Mujer en Roma”\nEn colaboración con los Voluntarios Culturales de la Asociación de Amigos del MNAR esta ruta temática se centra en descubrir a seis mujeres\, famosas y anónimas que salieron de los límites establecidos y desarrollaron vidas intensas y notables carreras profesionales en Augusta Emérita. Necesaria inscripción previa \n7 de marzo. 18:30 horas. Centro Cultural Santo Domingo\nConferencia: No se puede describir con palabras. Hay que verla. El hallazgo del busto de la reina Nefertiti\nProf. Dr. José Ramón Pérez-Accino. Universidad Complutense de Madrid. Entrada libre \n9 de marzo. 12:30 horas. Sala VIII Planta Baja MNAR\nVisita temática “Yo Viví aquí\, Asellia Higya”\nVisita temática en torno a la figura de Asellia Higya\, una mujer que fue esclava\, y tras conseguir su liberación consiguió formar una familia\, un buen nivel de vida y ser una respetada habitante de Augusta Emérita. Necesaria inscripción previa. \n9 de marzo. 20:00 horas. Nave Principal MNAR\nRecreación “Iustae Nuptiae”\nEn colaboración con la Asociación Recreacionista Ara Concordiae (ARA) podremos disfrutar de esta experiencia inmersiva de la celebración del matrimonio en época romana\, que suponía el mayor festejo familiar. Desde la noche anterior a las nupcias en la casa de la futura desposada se suceden una serie de ritos aquí representados. Entrada libre hasta completar aforo \n14 y 15 de marzo. Centro Asociado de la UNED\nConferencia: Las mujeres Judías y su entorno familiar en el occidente tardoantiguo (Siglos IV-VII)\nEl Museo Nacional de Arte Romano colabora de nuevo con la UNED\, esta vez\, participando en este curso sobre mujeres judías\, organizado por el Departamento de Historia Antigua en el marco del proyecto de investigación MUJUHISTAR (2023-PUNED-0015). Presencial y online.  \nMás información: https://www.cultura.gob.es/mnromano/actividades/agenda/2024/ser-mujer-roma.html
URL:https://merida.es/agenda/semana-tematica-ser-mujer-en-roma-en-el-mnar-2024/
LOCATION:Museo Nacional de Arte Romano\, Calle José Ramón Mélida\, Mérida\, Badajoz\, 06800\, España
CATEGORIES:Charla-Conferencia,Recreación
ATTACH;FMTTYPE=image/jpeg:https://merida.es/wp-content/uploads/2024/03/2024-ser-mujer-en-roma-peq.jpg
END:VEVENT
BEGIN:VEVENT
DTSTART;VALUE=DATE:20240305
DTEND;VALUE=DATE:20240330
DTSTAMP:20260419T190840
CREATED:20240306T091514Z
LAST-MODIFIED:20240306T091514Z
UID:128750-1709596800-1711756799@merida.es
SUMMARY:Exposición "El lugar que habito" de Abrahán Batres
DESCRIPTION:Del 5 al 29 de marzo\, las obras del artista extremeño Abrahán Batres podrán visitarse en el Centro Cultural «Santo Domingo». Esta muestra\, que Batres ha titulado «El lugar que habito»\, es un viaje por las emociones de su autor; por las experiencias vividas dentro del paisaje que le rodea. Sus obras evocan el olor a jaras\, tardes de verano y manos que se acercan\, dialogan o sirven de alas. \nAbrahán Batres describe su exposición como «un lugar para el recuerdo\, para las ausencias no deseadas que nos definen\, obligándonos a dialogar con nosotros mismos. Los colores juegan con quien mira\, revelando detalles de las decisiones tomadas\, del camino andado y del lugar al que siempre volver para seguir siendo niño».
URL:https://merida.es/agenda/exposicion-el-lugar-que-habito-de-abrahan-batres/
LOCATION:Centro Cultural Santo Domingo Fundación CB\, Plaza de Santo Domingo\, s/n\, Mérida
CATEGORIES:Exposición
ATTACH;FMTTYPE=image/jpeg:https://merida.es/wp-content/uploads/2024/03/2024-expo-el-lugar-que-habito-peq.jpg
END:VEVENT
BEGIN:VEVENT
DTSTART;VALUE=DATE:20240307
DTEND;VALUE=DATE:20240401
DTSTAMP:20260419T190840
CREATED:20240311T073658Z
LAST-MODIFIED:20240311T073658Z
UID:128882-1709769600-1711929599@merida.es
SUMMARY:Exposición 'Con clase' de los docentes de la EASD
DESCRIPTION:La exposición ‘Con Clase’\, que se podrá visitar del 7 al 31 de marzo\, tanto en horario lectivo de mañana como de tarde\, contiene una selección de obras realizadas por el equipo docente de la Escuela de Arte y Superior de Diseño (EASD)\, recogiendo una pequeña muestra de lo que se trabaja en el centro en todas las materias y disciplinas.
URL:https://merida.es/agenda/exposicion-con-clase-de-los-docentes-de-la-easd/
LOCATION:Escuela de Arte y Superior de Diseño de Mérida\, Paseo de Artes y Oficios\, s/n\, Mérida
CATEGORIES:Exposición
ATTACH;FMTTYPE=image/jpeg:https://merida.es/wp-content/uploads/2024/03/2024-escuela-de-arte-expo-peq.jpg
END:VEVENT
BEGIN:VEVENT
DTSTART;VALUE=DATE:20240308
DTEND;VALUE=DATE:20240324
DTSTAMP:20260419T190840
CREATED:20240308T160631Z
LAST-MODIFIED:20240308T160631Z
UID:128858-1709856000-1711238399@merida.es
SUMMARY:Exposición “Deteniendo el tiempo. La Semana Santa de Mérida en imágenes”
DESCRIPTION:La exposición está formada por 40 fotografías de momentos y detalles de la Semana Santa\, expuestas sobre 10 muppis\, y que ha sido realizadas por el equipo gráfico de la web oficial de la Semana Santa. Cada una de ellas tiene una breve leyenda que traslada al visitante a ese lugar y a ese momento; junto a un extracto de la crónica escrita por uno de los cronistas en el día de que fue tomada la fotografía. \nLa exposición puede visitarse desde el 8 al 23 de marzo\, en la sede de la Junta de Cofradías\, de jueves a sábado de 17:30 a 20:30 horas y los sábados tambien por la mañana de 11:00 a 14:00 horas.
URL:https://merida.es/agenda/exposicion-deteniendo-el-tiempo-la-semana-santa-de-merida-en-imagenes/
LOCATION:Sede Junta de Cofradías de Mérida\, Calle Puente\, 11\, Mérida\, España
CATEGORIES:Exposición,Semana Santa
ATTACH;FMTTYPE=image/jpeg:https://merida.es/wp-content/uploads/2024/03/2024-expo-semana-santa-peq.jpg
END:VEVENT
BEGIN:VEVENT
DTSTART;TZID=Europe/Madrid:20240308T190000
DTEND;TZID=Europe/Madrid:20240308T190000
DTSTAMP:20260419T190840
CREATED:20240304T154949Z
LAST-MODIFIED:20240304T154949Z
UID:128710-1709924400-1709924400@merida.es
SUMMARY:Ciclo Harry Potter: "Harry Potter y las reliquias de la muerte - Parte 2"
DESCRIPTION:El Centro Cultural Santo Domingo proyectará la saga completa de Harry Potter todos los viernes desde el 12 de enero hasta 8 de marzo\, a las 19:00 horas\, en 4K UHD y Dolby 5.1.\, con entrada libre hasta completar aforo. \nHarry Potter y las reliquias de la muerte – Parte 2 \nTítulo original: Harry Potter and the Deathly Hallows: Part II\nPaís: Reino Unido\nAño: 2011\nDuración: 130′ \nDirección: David Yates\nGuión: Steve Kloves. Novela: J.K. Rowling\nMúsica: Nicholas Hooper \nGénero: Fantástico. Aventuras \nReparto: Daniel Radcliffe\, Rupert Grint\, Emma Watson\, Ralph Fiennes\, Michael Gambon\, Alan Rickman\, Robbie Coltrane\, Helena Bonham Carter\, Tom Felton\, Jason Isaacs\, Evanna Lynch\, David Thewlis\, Brendan Gleeson \nSinopsis: El final ha llegado. Harry\, Hermione y Ron tendrán que recuperar la espada de Gryffindor para encontrar y destruir los últimos horrocruxes. Mientras tanto\, Lord Voldemort está a punto de apoderarse por completo de Hogwarts y de conseguir su objetivo: matar a Harry Potter. La única esperanza de Harry es encontrar los horrocruxes antes de que Voldemort lo encuentre a él. Buscando pistas\, descubre una antigua y olvidada historia: la leyenda de las reliquias de la muerte\, que podría dar al malvado Lord el poder definitivo. Pero el futuro de Harry está escrito desde que nació e incluye una misión para la que se ha estado preparando desde que llegó a Hogwarts: la batalla final contra Voldemort.
URL:https://merida.es/agenda/ciclo-harry-potter-harry-potter-y-las-reliquias-de-la-muerte-parte-2/
LOCATION:Centro Cultural Santo Domingo Fundación CB\, Plaza de Santo Domingo\, s/n\, Mérida
CATEGORIES:Cine
ATTACH;FMTTYPE=image/jpeg:https://merida.es/wp-content/uploads/2024/03/Harry_Potter_y_las_reliquias_de_la_muerte_Parte_2-peq.jpg
END:VEVENT
BEGIN:VEVENT
DTSTART;TZID=Europe/Madrid:20240308T190000
DTEND;TZID=Europe/Madrid:20240308T190000
DTSTAMP:20260419T190840
CREATED:20240306T102437Z
LAST-MODIFIED:20240306T102437Z
UID:128756-1709924400-1709924400@merida.es
SUMMARY:Charla: "MER. Un viaje a través de la Música\, la Energía y la Resonancia" de Diana Vara Robledo
DESCRIPTION:La Sociedad Científica de Mérida organiza el viernes 8 de marzo\, a las 19:00 horas\, la charla «MER. Un viaje a través de la Música\, la Energía y la Resonancia» a cargo de Diana Vara Robledo\, profesora de violín del Conservatorio Esteban Sánchez de Mérida. \nLa charla trata sobre la investigación de la tecnología del sonido y sus efectos en lo pedagógico\, lo terapéutico y lo humano.
URL:https://merida.es/agenda/charla-mer-un-viaje-a-traves-de-la-musica-la-energia-y-la-resonancia-de-diana-vara-robledo/
LOCATION:Centro Cultural Alcazaba\, Calle John Lennon\, 5\, Mérida
CATEGORIES:Charla-Conferencia
ATTACH;FMTTYPE=image/jpeg:https://merida.es/wp-content/uploads/2024/03/2024-conferencia-diana-vara-robledo-peq.jpg
END:VEVENT
BEGIN:VEVENT
DTSTART;TZID=Europe/Madrid:20240308T193000
DTEND;TZID=Europe/Madrid:20240308T193000
DTSTAMP:20260419T190840
CREATED:20240308T170142Z
LAST-MODIFIED:20240308T170248Z
UID:128866-1709926200-1709926200@merida.es
SUMMARY:Manifestación 8M Día Internacional de las Mujeres
DESCRIPTION:El viernes 8 de marzo\, a partir de las 19:30 horas\, la plataforma 8M de Mérida organiza una concentración y posterior manifestación con motivo del Día Internacional de las Mujeres. Al finalizar la marcha se leerá un Manifiesto. El recorrido de la marcha será Plaza de España\, Santa Eulalia\, Puerta de la Villa\, Cervantes\, Camilo José Cela\, Félix Valverde Lillo y Plaza de España.
URL:https://merida.es/agenda/manifestacion-8m-2024/
LOCATION:Plaza de España\, Mérida
CATEGORIES:Concentración-Marcha
ATTACH;FMTTYPE=image/jpeg:https://merida.es/wp-content/uploads/2024/03/2024-manifestacion-8m-peq.jpg
END:VEVENT
BEGIN:VEVENT
DTSTART;TZID=Europe/Madrid:20240308T200000
DTEND;TZID=Europe/Madrid:20240308T200000
DTSTAMP:20260419T190840
CREATED:20240304T202149Z
LAST-MODIFIED:20240304T202149Z
UID:128720-1709928000-1709928000@merida.es
SUMMARY:Concierto de Ismael Arroyo (Saxofón) y Eduardo Moreno (Piano)
DESCRIPTION:La Sociedad Filarmónica Esteban Sánchez/Juventudes Musicales de Mérida organiza el viernes 8 de marzo\, a las 20:00 horas\, en el Conservatorio Esteban Sánchez\, un concierto de Ismael Arroyo (Saxofón) y Eduardo Moreno (Piano)\, que interpretarán un interesante y variado programa con obras de Vivaldi\, Iturralde\, Say o Bizet. \nLa entrada es gratuita hasta completar aforo.
URL:https://merida.es/agenda/concierto-de-ismael-arroyo-saxofon-y-eduardo-moreno-piano/
LOCATION:Conservatorio Profesional de Música Esteban Sánchez\, Calle Calvario\, 2\, Mérida
CATEGORIES:Música
ATTACH;FMTTYPE=image/jpeg:https://merida.es/wp-content/uploads/2024/03/2024-concierto-saxo-piano-peq.jpg
END:VEVENT
BEGIN:VEVENT
DTSTART;TZID=Europe/Madrid:20240308T203000
DTEND;TZID=Europe/Madrid:20240308T203000
DTSTAMP:20260419T190840
CREATED:20240304T204058Z
LAST-MODIFIED:20240304T204624Z
UID:128713-1709929800-1709929800@merida.es
SUMMARY:Lola Santiago Quartet: "Vientos del Sur"
DESCRIPTION:VIERNES Día 8 de marzo de 2024. 20.30 horas \nEspectáculo: Viento del Sur.\nArtista: Lola Santiago Quartet \nSinopsis: «Tras una deslumbrante irrupción en la escena jazzística del sur peninsular\, con las comarcas extremeñas de Tierra de Barros – Río Bodión y la capital hispalense como motores de su ya presente artístico ligado al jazz y las músicas de raíz\, la cantante Lola Santiago firma su primer proyecto como líder tras participar e ir construyendo su estilismo a partir del legado compositivo e interpretativo de la música española\, latina y de su descubrimiento y pasión creciente por el jazz y el amplio y rico folclor del continente americano. Perteneciente a la última promoción de estudiantes del ya extinto «Instituto de Jazz y M.M. de Extremadura» (INJEX Almendralejo)\, Lola Santiago se erige como uno de los valores de la nueva generación de músicos de la región y se apoya en una sección rítmica de referentes del jazz del sur peninsular para dar vida a un proyecto en el que canta a Argentina\, Chile\, Perú\, Cuba\, etc. Músicas del sur hechas por músicos del sur\, desde el sur y para todas las latitudes\, con dinámicos y elegantes arreglos firmados por la pluma siempre extraordinaria de Miguel Ángel López\, la cantante extremeña se mueve entre zambas\, candombes\, boleros y chacareras para cantar a Atahualpa Yupanqui\, Marta Valdés. J. Dolores Quiñones\, Simón Díaz o Benny Moré». \nDuración: 60 min.\nPúblico recomendado: a partir de 4 años. \nTaquilla: Entrada única 5€ (*Descuentos del 50% aplicable a: carnet estudiante\, carnet joven europeo\, personas jubiladas-pensionistas\, familia numerosa y personas en desempleo)\nHorario de taquilla: Días 7 de marzo de 11.00 a 13:00h. y de 18.30 a 20.30h y día 8 de marzo de 11.00 a 13:00h. y de 18.30 a 20.30h.\nReservas en el email: salatrajanomerida@gmail.com
URL:https://merida.es/agenda/lola-santiago-quartet-vientos-del-sur/
LOCATION:Sala Trajano\, Calle Muza\, 50\, Mérida
CATEGORIES:Música
ATTACH;FMTTYPE=image/jpeg:https://merida.es/wp-content/uploads/2024/03/2024-lola-santiago-peq.jpg
END:VEVENT
END:VCALENDAR