﻿BEGIN:VCALENDAR
VERSION:2.0
PRODID:-//Ayuntamiento de Mérida - ECPv6.15.17.1//NONSGML v1.0//EN
CALSCALE:GREGORIAN
METHOD:PUBLISH
X-ORIGINAL-URL:https://merida.es
X-WR-CALDESC:Eventos para Ayuntamiento de Mérida
REFRESH-INTERVAL;VALUE=DURATION:PT1H
X-Robots-Tag:noindex
X-PUBLISHED-TTL:PT1H
BEGIN:VTIMEZONE
TZID:Europe/Madrid
BEGIN:DAYLIGHT
TZOFFSETFROM:+0100
TZOFFSETTO:+0200
TZNAME:CEST
DTSTART:20230326T010000
END:DAYLIGHT
BEGIN:STANDARD
TZOFFSETFROM:+0200
TZOFFSETTO:+0100
TZNAME:CET
DTSTART:20231029T010000
END:STANDARD
BEGIN:DAYLIGHT
TZOFFSETFROM:+0100
TZOFFSETTO:+0200
TZNAME:CEST
DTSTART:20240331T010000
END:DAYLIGHT
BEGIN:STANDARD
TZOFFSETFROM:+0200
TZOFFSETTO:+0100
TZNAME:CET
DTSTART:20241027T010000
END:STANDARD
BEGIN:DAYLIGHT
TZOFFSETFROM:+0100
TZOFFSETTO:+0200
TZNAME:CEST
DTSTART:20250330T010000
END:DAYLIGHT
BEGIN:STANDARD
TZOFFSETFROM:+0200
TZOFFSETTO:+0100
TZNAME:CET
DTSTART:20251026T010000
END:STANDARD
END:VTIMEZONE
BEGIN:VEVENT
DTSTART;VALUE=DATE:20240229
DTEND;VALUE=DATE:20240322
DTSTAMP:20260420T001939
CREATED:20240316T074547Z
LAST-MODIFIED:20240316T074547Z
UID:129095-1709164800-1711065599@merida.es
SUMMARY:Exposición 'Mujeres y discapacidad intelectual'
DESCRIPTION:La Biblioteca Pública del Estado «Jesús Delgado Valhondo» en Mérida ha organizado para celebrar el Día Internacional de las Mujeres\, la exposición «Mujeres y discapacidad intelectual» cedida por Plena Inclusión Extremadura.  \nEsta exposición pretende poner en valor la reivindicación de los derechos de la mujer con discapacidad intelectual y/o desarrollo en su trayectoria de conquista de derechos. \nEjemplos de Mujeres con discapacidad intelectual y/o del desarrollo que luchan a diario por conseguir estar y ser incluidas en la sociedad\, al igual que ya lo hicieran otras mujeres en la historia. \nPlena inclusión Extremadura\, en colaboración con el Instituto de la Mujer de Extremadura\, han querido plasmar en esta exposición la similitud que tienen las mujeres con discapacidad intelectual y/o del desarrollo en la conquista de los derechos con las mujeres en la historia. \nSe podrá visitar en la sala de exposiciones (vestíbulo planta baja) en horario de la biblioteca desde el 29 de febrero hasta el 21 de marzo de 2024.
URL:https://merida.es/agenda/exposicion-mujeres-y-discapacidad-intelectual/
LOCATION:Biblioteca Jesús Delgado Valhondo\, Av. de la Libertad\, s/n\, Mérida
CATEGORIES:Exposición
ATTACH;FMTTYPE=image/jpeg:https://merida.es/wp-content/uploads/2024/03/2024-expo-mujeres-discapacidad-peq.jpg
END:VEVENT
BEGIN:VEVENT
DTSTART;VALUE=DATE:20240301
DTEND;VALUE=DATE:20240322
DTSTAMP:20260420T001939
CREATED:20240302T095806Z
LAST-MODIFIED:20240308T170624Z
UID:128647-1709251200-1711065599@merida.es
SUMMARY:8 de Marzo. Día Internacional de las Mujeres
DESCRIPTION:La delegación de Igualdad de Género ha organizado o colaborado en una serie de actividades con motivo del 8 de marzo\, Día Internacional de las Mujeres y que desarrollarán durante todo el mes de marzo: \nViernes 1 de marzo\n19.30h\, Centro Cultural Alcazaba\nEncuentro literario con Pepa Gómez Bustamante. \nEscritora\, activista cultural y Presidenta del Ateneo de Azuaga (Badajoz)\, ha compaginado siempre su actividad de empresaria con la literatura\, especialmente en los géneros de poesía y ensayo. Organiza: Biblioteca Municipal Juan Pablo Forner \nMartes 5 de marzo\n18.00h\, Liceo de Mérida: Charla: ‘Importancia de las políticas públicas de igualdad en la Ciudad de Mérida’ a cargo de la delegada Ana Aragoneses Lillo. \nMiércoles 6 de marzo\n10.30h\, Centro Cultural de Nueva Ciudad\nIV Edición Muestra de Audiovisuales «Cambia el rollo». El alumnado del ciclo formativo de grado superior de “Realización de proyecto audiovisuales y espectáculos” del IES Extremadura lanza esta muestra con el objetivo de fomentar la igualdad. Organiza: Asociación Cultural Esmerarte e IES Extremadura \nViernes 8 de marzo\n10.30h\, Hogar de Mayores Zona Sur: Encuentro de mujeres mayores en la que contarán su experiencias de vidas \n19.30h\, Plaza de España. Concentración y Manifestación del 8M. Organiza: Plataforma de mujeres 8M \nDomingo 10 de marzo\n19.00h\, Centro Cultural de La Antigua: Teatro: «Del grito a la palabra»\, de Verbo Producciones. Protagoniza Paca Velardiez. Entrada libre hasta completar aforo. \nMartes 12 de marzo\n12.00h\, Sede Conferencia San Vicente de Paul. Formación en Igualdad ‘La Defensa por conseguir los Derechos de las Mujeres’ dirigida a las alumnas del curso de Dependientas de la Conferencia San Vicente de Paul \nMiércoles 13 de marzo\n18.00h\, Centro Clara Campoamor. Club de Lectura Feminista. ‘Las olvidadas’ de Ángeles Caso. \n13\, 18\, 20 y 21 de marzo\n19.00h\, Recorrido urbano. Rutas guiadas: ‘Mujeres de Leyenda’. Se trata de una ruta que recoge los mitos y leyendas relacionados con la mujer en la ciudad de Mérida a través de los tiempos. Duración aprox.: 90 minutos. Plazas limitadas. Inscripciones próximamente. \nViernes 15 de marzo\n11.30h\, Instituto Santa Eulalia. La Mujer y la Niña en la Ciencia. Concurso con institutos a nivel regional cuyo objetivo es potenciar el conocimiento de mujeres exitosas en los ámbitos STEAM\, visibilizar a mujeres que se hubiesen enfrentado a dificultades y perseverado para poder superarlas.
URL:https://merida.es/agenda/8m-dia-internacional-de-las-mujeres-2024/
CATEGORIES:Charla-Conferencia,Cine,Concentración-Marcha,Curso-Taller,Visita Guiada
ATTACH;FMTTYPE=image/jpeg:https://merida.es/wp-content/uploads/2024/03/2024-8m-peq3.jpg
END:VEVENT
BEGIN:VEVENT
DTSTART;VALUE=DATE:20240305
DTEND;VALUE=DATE:20240330
DTSTAMP:20260420T001939
CREATED:20240306T091514Z
LAST-MODIFIED:20240306T091514Z
UID:128750-1709596800-1711756799@merida.es
SUMMARY:Exposición "El lugar que habito" de Abrahán Batres
DESCRIPTION:Del 5 al 29 de marzo\, las obras del artista extremeño Abrahán Batres podrán visitarse en el Centro Cultural «Santo Domingo». Esta muestra\, que Batres ha titulado «El lugar que habito»\, es un viaje por las emociones de su autor; por las experiencias vividas dentro del paisaje que le rodea. Sus obras evocan el olor a jaras\, tardes de verano y manos que se acercan\, dialogan o sirven de alas. \nAbrahán Batres describe su exposición como «un lugar para el recuerdo\, para las ausencias no deseadas que nos definen\, obligándonos a dialogar con nosotros mismos. Los colores juegan con quien mira\, revelando detalles de las decisiones tomadas\, del camino andado y del lugar al que siempre volver para seguir siendo niño».
URL:https://merida.es/agenda/exposicion-el-lugar-que-habito-de-abrahan-batres/
LOCATION:Centro Cultural Santo Domingo Fundación CB\, Plaza de Santo Domingo\, s/n\, Mérida
CATEGORIES:Exposición
ATTACH;FMTTYPE=image/jpeg:https://merida.es/wp-content/uploads/2024/03/2024-expo-el-lugar-que-habito-peq.jpg
END:VEVENT
BEGIN:VEVENT
DTSTART;VALUE=DATE:20240307
DTEND;VALUE=DATE:20240401
DTSTAMP:20260420T001939
CREATED:20240311T073658Z
LAST-MODIFIED:20240311T073658Z
UID:128882-1709769600-1711929599@merida.es
SUMMARY:Exposición 'Con clase' de los docentes de la EASD
DESCRIPTION:La exposición ‘Con Clase’\, que se podrá visitar del 7 al 31 de marzo\, tanto en horario lectivo de mañana como de tarde\, contiene una selección de obras realizadas por el equipo docente de la Escuela de Arte y Superior de Diseño (EASD)\, recogiendo una pequeña muestra de lo que se trabaja en el centro en todas las materias y disciplinas.
URL:https://merida.es/agenda/exposicion-con-clase-de-los-docentes-de-la-easd/
LOCATION:Escuela de Arte y Superior de Diseño de Mérida\, Paseo de Artes y Oficios\, s/n\, Mérida
CATEGORIES:Exposición
ATTACH;FMTTYPE=image/jpeg:https://merida.es/wp-content/uploads/2024/03/2024-escuela-de-arte-expo-peq.jpg
END:VEVENT
BEGIN:VEVENT
DTSTART;VALUE=DATE:20240308
DTEND;VALUE=DATE:20240324
DTSTAMP:20260420T001939
CREATED:20240308T160631Z
LAST-MODIFIED:20240308T160631Z
UID:128858-1709856000-1711238399@merida.es
SUMMARY:Exposición “Deteniendo el tiempo. La Semana Santa de Mérida en imágenes”
DESCRIPTION:La exposición está formada por 40 fotografías de momentos y detalles de la Semana Santa\, expuestas sobre 10 muppis\, y que ha sido realizadas por el equipo gráfico de la web oficial de la Semana Santa. Cada una de ellas tiene una breve leyenda que traslada al visitante a ese lugar y a ese momento; junto a un extracto de la crónica escrita por uno de los cronistas en el día de que fue tomada la fotografía. \nLa exposición puede visitarse desde el 8 al 23 de marzo\, en la sede de la Junta de Cofradías\, de jueves a sábado de 17:30 a 20:30 horas y los sábados tambien por la mañana de 11:00 a 14:00 horas.
URL:https://merida.es/agenda/exposicion-deteniendo-el-tiempo-la-semana-santa-de-merida-en-imagenes/
LOCATION:Sede Junta de Cofradías de Mérida\, Calle Puente\, 11\, Mérida\, España
CATEGORIES:Exposición,Semana Santa
ATTACH;FMTTYPE=image/jpeg:https://merida.es/wp-content/uploads/2024/03/2024-expo-semana-santa-peq.jpg
END:VEVENT
BEGIN:VEVENT
DTSTART;VALUE=DATE:20240313
DTEND;VALUE=DATE:20240322
DTSTAMP:20260420T001939
CREATED:20240307T222654Z
LAST-MODIFIED:20240308T095231Z
UID:128841-1710288000-1711065599@merida.es
SUMMARY:Ruta 'Mujeres de Leyenda'
DESCRIPTION:Esta ruta de Mérida Secreta recoge los mitos y leyendas relacionados con la mujer en la ciudad de Mérida a través de los tiempos. Un recorrido a pie de unos 90 minutos aproximadamente\, con nueve paradas\, que partirá desde la Puerta de la Villa y recorrerá parte de la ciudad hasta terminar en la isla del Guadiana. \nSe realizarán cuatro rutas los días 13\,18\, 20 y 21 de marzo a las 19\,00 horas. Plazas: 30 personas por ruta.\nInscripciones (a partir del 8 de marzo\, a las 11:30h): https://forms.gle/ixZ76YhDSaHtzmRw5 \nForma parte de las actividades que el Ayuntamiento de Mérida ha organizado por el #8M. Día Internacional de las Mujeres
URL:https://merida.es/agenda/ruta-mujeres-de-leyenda/
LOCATION:Recorrido Urbano\, Mérida
CATEGORIES:Visita Guiada
ATTACH;FMTTYPE=image/jpeg:https://merida.es/wp-content/uploads/2024/03/2024-rutas-leyendas-peq.jpg
END:VEVENT
BEGIN:VEVENT
DTSTART;VALUE=DATE:20240313
DTEND;VALUE=DATE:20240401
DTSTAMP:20260420T001939
CREATED:20240319T072011Z
LAST-MODIFIED:20240319T072011Z
UID:129142-1710288000-1711929599@merida.es
SUMMARY:Exposición de Semana Santa del Colegio Josefinas
DESCRIPTION:Del 13 al 31 de marzo se podrá visitar en el Museo Visigodo (Iglesia de Santa Clara) la exposición que montan todos los años los alumnos y profesores del colegio Ntra. Sra. de Guadalupe (Josefinas) sobre la Semana Santa de Mérida. \nTodas y cada una de las cofradías de Mérida están representadas en esta colección de Nazarenos y pasos de la Semana Santa emeritense\, que a modo de maqueta\, representa no solo la imaginería de la Semana Santa sino también algunos de los monumentos más representativos de la ciudad. \nEl horario de visita es de 09:45 a 18:15 h (de martes a sábado). Domingos y festivos de 10:15 a 14:45 h
URL:https://merida.es/agenda/exposicion-semana-santa-josefinas-2024/
LOCATION:Iglesia de Santa Clara (Colección Visigoda)\, Santa Julia\, 1\, Mérida\, 06800
CATEGORIES:Exposición,Semana Santa
ATTACH;FMTTYPE=image/jpeg:https://merida.es/wp-content/uploads/2024/03/exposicion-josefinas.jpg
END:VEVENT
BEGIN:VEVENT
DTSTART;TZID=Europe/Madrid:20240314T170000
DTEND;TZID=Europe/Madrid:20240314T170000
DTSTAMP:20260420T001939
CREATED:20240306T095034Z
LAST-MODIFIED:20240306T095034Z
UID:128753-1710435600-1710435600@merida.es
SUMMARY:Recogida de Basuraleza Río Albarregas
DESCRIPTION:La Confederación Hidrográfica del Guadiana en alianza con el Proyecto “LIBERA: Unidos contra la Basuraleza” organiza una jornada de sensibilización y participación ciudadana con la recogida de basureleza en el Río Albarregas. El proyecto ‘LIBERA\, unidos contra la basuraleza» de la ONG ambiental SEO/BirdLife nace en el año 2017 para frenar las consecuencias de la basura abandonada en los espacios naturales\, la basuraleza\, en los diferentes ecosistemas españoles. \nPuedes participar en el próximo 1m2 por los ríos\, lagos y embalses\, haciendo ciencia ciudadana para colaborar en la obtención de datos que nos permitan identificar cuáles son los residuos más frecuentes en los entornos fluviales\, qué problemas causan y difundir esta información para evitarlos. \nSerá el jueves 14 de marzo\, a partir de las 17:00 horas\, con el Puente Romano sobre el Albarregas como punto de encuentro. Hay un total de 50 plazas. Inscripciones gratuitas: Aquí
URL:https://merida.es/agenda/recogida-de-basuraleza-rio-albarregas/
LOCATION:Recorrido Urbano\, Mérida
CATEGORIES:Convivencia,Educación
ATTACH;FMTTYPE=image/jpeg:https://merida.es/wp-content/uploads/2024/03/2024-dia-rios-basuraleza-peq.jpg
END:VEVENT
BEGIN:VEVENT
DTSTART;TZID=Europe/Madrid:20240314T183000
DTEND;TZID=Europe/Madrid:20240314T183000
DTSTAMP:20260420T001939
CREATED:20240311T232239Z
LAST-MODIFIED:20240311T232239Z
UID:128930-1710441000-1710441000@merida.es
SUMMARY:Ciclo Conferencias MNAR Grandes descubrimientos en arqueología II: "Cancho Roano: un hallazgo que abrió nuevas hipótesis"
DESCRIPTION:Durante los jueves de los meses enero a mayo\, el Museo Nacional de Arte Romano ofrece la segunda parte del ciclo de conferencias que bajo el título ‘Grandes descubrimientos en arqueología II’ se vuelve la mirada al pasado para recordar esos emocionantes momentos de grandes descubrimientos y su trascendencia en la historia. \nTodas las conferencias se realizarán en el Centro Cultural Santo Domingo de Fundación CB\, con entrada libre hasta completar aforo\, a las 18:30 horas. Se podrá seguir en el canal de Youtube del Museo en diferido. \nPROGRAMA \n25 de enero\nDescubrimiento de Atapuerca y la evolución humana\nDr. Juan Luis Arsuaga. Museo de la Evolución Humana \n1 de febrero\nEl descubrimiento de dama ibérica de Baza. Un viaje en femenino al más allá\nDra. Isabel Izquierdo Peraile. Museo Arqueológico Nacional \n8 de febrero\nWinckelmann y los descubrimientos en las excavaciones de Herculano\nProf. Dra. Marta Carrasco. Universidad Camilo José Cela \n15 de febrero\nLas pinturas etruscas en Tarquinia. Su descubrimiento e interpretación\nProf. Dr. Miguel Ángel Elvira. Universidad Complutense de Madrid \n22 de febrero\nEl Asklepios de Ampurias: el hallazgo de una obra griega en Hispania\nProf. Dra. Isabel Rodá de Llanza. Universidad Autónoma de Barcelona. Institut Catalá d´Arqueología Clássica \n29 de febrero\nEl descubrimiento de Micenas\nProf. Dr. Adolfo Domínguez Monedero. Universidad autónoma de Madrid \n7 de marzo\nNo se puede describir con palabras. Hay que verla. El hallazgo del busto de la reina Nefertiti\nProf. Dr. José Ramón Pérez-Accino. Universidad Complutense de Madrid \n14 de marzo\nCancho Roano: un hallazgo que abrió nuevas hipótesis\nProf. Dr. Sebastián Celestino Pérez. Instituto de Arqueología de Mérida. CSIC-Junta de Extremadura \n4 de abril\nPiazza Armerina: los descubrimientos de una villa con mosaicos excepcionales\nProf. Dra. Luz Neira Jiménez\, Universidad Carlos III de Madrid \n11 de abril\nEl descubrimiento del Teatro Romano de Mérida. El renacimiento de un gigante\nDr. Carlos J. Morán Sánchez. Instituto de Arqueología-Mérida. CSIC Junta de Extremadura \n18 de abril\nEl tesoro de la Aliseda: el hallazgo «más inesperado y extraordinario de Lusitania»\nPorf. Dr. Alonso Rodríguez Díaz\, Universidad de Extremadura \n25 de abril\nEl descubrimiento del Tesoro de Guarrazar\nDra. Beatriz I. Campderá Gutierrez. Museo Arqueológico Nacional \n9 de mayo\nEl descubrimiento del Turuñuelo. Un yacimiento que renovó Tarteso\nProf. Dr. Sebastián Celestino Pérez. Dra. Esther Rodríguez González\, Instituto de Arqueología-Mérida. CSIC Junta de Extremadura
URL:https://merida.es/agenda/ciclo-conferencias-mnar-grandes-descubrimientos-en-arqueologia-ii-cancho-roano-un-hallazgo-que-abrio-nuevas-hipotesis/
LOCATION:Centro Cultural Santo Domingo Fundación CB\, Plaza de Santo Domingo\, s/n\, Mérida
CATEGORIES:Charla-Conferencia
ATTACH;FMTTYPE=image/jpeg:https://merida.es/wp-content/uploads/2024/01/2024-grandes-descubrimientos-museo-peq.jpg
END:VEVENT
BEGIN:VEVENT
DTSTART;TZID=Europe/Madrid:20240314T193000
DTEND;TZID=Europe/Madrid:20240314T193000
DTSTAMP:20260420T001939
CREATED:20240311T113047Z
LAST-MODIFIED:20240311T113047Z
UID:128898-1710444600-1710444600@merida.es
SUMMARY:Presentación de libro 'Luz de Candelas' de Ana B. Nieto
DESCRIPTION:El próximo jueves\, 14 de marzo\, en la tercera planta del Centro Cultural Alcazaba (sala del club de lectura)\, Ana Belén Nieto presentará su libro Luz de Candelas de la editorial Edhasa\, a las 19:30 horas. \nLa novela\, ambientada en los sucesos del 2 de Mayo\, presenta la historia de Luis Candelas que adentrará al joven José Zorrilla\, hijo del jefe de policía\, en un Madrid revolucionario.  \nSerá este último quien deberá elegir si ser fiel a las convicciones de su padre y a los absolutistas o luchar por su sueños al apostar por los liberales y su adorado Candelas. \nAna Belén Nieto ha recibido el Premio Proyecto Karón y una nominación a los Premios Hislibris de Novela Histórica; es también finalista del Premio Minotauro de 2023.
URL:https://merida.es/agenda/presentacion-de-libro-luz-de-candelas-de-ana-b-nieto/
LOCATION:Centro Cultural Alcazaba\, Calle John Lennon\, 5\, Mérida
CATEGORIES:Literatura
ATTACH;FMTTYPE=image/jpeg:https://merida.es/wp-content/uploads/2024/03/2024-libro-ana-nieto-peq.jpeg
END:VEVENT
BEGIN:VEVENT
DTSTART;TZID=Europe/Madrid:20240314T203000
DTEND;TZID=Europe/Madrid:20240314T203000
DTSTAMP:20260420T001939
CREATED:20240228T201625Z
LAST-MODIFIED:20240229T114051Z
UID:128543-1710448200-1710448200@merida.es
SUMMARY:Coral Augusta Emerita: 'Concierto Sacro a la luz de las velas'
DESCRIPTION:La Coral Augusta Emerita ofrecerá un concierto en la Basílica de Santa Eulalia el jueves 14 de marzo\, a las 20:30 horas. Será un concierto con temática sacra\, con piezas de Palestrina\, Tomás Luis de Victoria\, Bruckner y Mozart\, que se interpretan en la Basílica que estará iluminado solo por la luz de las velas. \nEl concierto seguirá el concepto «candlelight» en los cuales la iluminación principal del lugar proviene de velas. Estos conciertos buscan crear un ambiente íntimo y acogedor\, alejado de las luces tradicionales o brillantes\, para proporcionar una experiencia musical más apacible y romántica. La luz tenue de las velas contribuye a crear una atmósfera única y relajante\, a la vez que destaca la conexión emocional entre la música y la audiencia. La idea principal es ofrecer una experiencia sensorial diferente para los asistentes al concierto.
URL:https://merida.es/agenda/coral-augusta-emerita-concierto-sacro-luz-de-las-velas/
LOCATION:Basílica de Santa Eulalia
CATEGORIES:Música
ATTACH;FMTTYPE=image/jpeg:https://merida.es/wp-content/uploads/2024/02/2024-coral-sacro-peq.jpg
END:VEVENT
BEGIN:VEVENT
DTSTART;TZID=Europe/Madrid:20240314T203000
DTEND;TZID=Europe/Madrid:20240314T203000
DTSTAMP:20260420T001939
CREATED:20240311T080135Z
LAST-MODIFIED:20240311T080510Z
UID:128888-1710448200-1710448200@merida.es
SUMMARY:Teatro: "Maquiavelo"
DESCRIPTION:Jueves 14 de marzo – 20:30 horas \nEspectáculo: Maquiavelo\nCompañía: Proyecto Cultura \nSinopsis: José Vicente Moirón protagoniza ‘MAQUIAVELO’. Un trabajo unipersonal centrado en la figura de un presidente del gobierno que aplica distintas estrategias para permanecer en el poder guiado por las premisas planteadas por Nicolás Maquiavelo en su tratado ‘El príncipe’ (1513). \nUna lección de historia\, un manual de gobierno\, una obra universal. Cinco siglos después\, y con una mirada crítica\, ofrecemos una experiencia teatral cautivadora para reflexionar sobre dilemas morales y políticos sumergiendo al público en un apasionante thriller que explora temas como la ética\, la moralidad y la responsabilidad en el ejercicio del poder. \nTexto: Chema Cardeña\nDirección y Dramaturgia: Pedro Luis López Bellot\nIntérpretes: José Vicente Moirón \nCandidato a los PREMIOS MAX (2024) en la categoría mejor espectáculo revelación. \nDuración: 60 min.\nPúblico: a partir de 14 años \nEntrada única: 5€\nHorario de taquilla: A partir del lunes 11 de marzo Centro Cultural Alcazaba (lunes a miércoles\, de 10 a 14 y de 17 a 20 horas) y Centro Cultural Nueva Ciudad (lunes a jueves\, de 10 a 14 horas y mismo día del evento desde una hora antes). \nEl espectáculo cuenta con las Ayudas a la Programación de Artes Escénicas y de Música de la Red de Teatros y Otros Espacios Escénicos de Extremadura de la Consejería de Cultura\, Turismo\, Jóvenes y Deportes\, cofinanciado en un 70%.
URL:https://merida.es/agenda/teatro-maquiavelo/
LOCATION:Centro Cultural de Nueva Ciudad\, Calle Antonio Rodríguez Moñino s/n\, Mérida\, 06800\, Spain
CATEGORIES:Teatro
ATTACH;FMTTYPE=image/jpeg:https://merida.es/wp-content/uploads/2024/03/2024-teatro-maquiavelo-peq.jpg
END:VEVENT
BEGIN:VEVENT
DTSTART;TZID=Europe/Madrid:20240314T203000
DTEND;TZID=Europe/Madrid:20240314T203000
DTSTAMP:20260420T001939
CREATED:20240311T120525Z
LAST-MODIFIED:20240311T120525Z
UID:128903-1710448200-1710448200@merida.es
SUMMARY:Cine Filmoteca: "Al otro lado del rio y entre los árboles"
DESCRIPTION:Título original: Across the River and Into the Trees\nPaís: Reino Unido\nAño: 2022\nDuración: 106′ \nDirección: Paula Ortiz\nGuión: Peter Flannery. Novela: Ernest Hemingway \nReparto: Liev Schreiber\, Matilda De Angelis\, Josh Hutcherson\, Danny Huston\, Giulio Berruti\, Sabrina Impacciatore\, Enzo Cilenti \nGénero: Drama \nSinopsis:  Italia\, después de la Segunda Guerra Mundial. Richard Cantwell es un coronel del ejército estadounidense\, atormentado por la guerra\, que se enfrenta a la noticia de que padece una enfermedad terminal con estoica indiferencia. Un encuentro casual con una joven comienza a reavivar en él la esperanza de renovarse. \nEntrada: 1€.\nProgramación de la Filmoteca: http://filmotecaextremadura.juntaex.es
URL:https://merida.es/agenda/cine-filmoteca-al-otro-lado-del-rio-y-entre-los-arboles/
LOCATION:Centro Cultural Santo Domingo Fundación CB\, Plaza de Santo Domingo\, s/n\, Mérida
CATEGORIES:Cine
ATTACH;FMTTYPE=image/jpeg:https://merida.es/wp-content/uploads/2024/03/Al_otro_lado_del_raio_y_entre_los_aarboles-peq.jpg
END:VEVENT
END:VCALENDAR