﻿BEGIN:VCALENDAR
VERSION:2.0
PRODID:-//Ayuntamiento de Mérida - ECPv6.15.17.1//NONSGML v1.0//EN
CALSCALE:GREGORIAN
METHOD:PUBLISH
X-WR-CALNAME:Ayuntamiento de Mérida
X-ORIGINAL-URL:https://merida.es
X-WR-CALDESC:Eventos para Ayuntamiento de Mérida
REFRESH-INTERVAL;VALUE=DURATION:PT1H
X-Robots-Tag:noindex
X-PUBLISHED-TTL:PT1H
BEGIN:VTIMEZONE
TZID:Europe/Madrid
BEGIN:DAYLIGHT
TZOFFSETFROM:+0100
TZOFFSETTO:+0200
TZNAME:CEST
DTSTART:20230326T010000
END:DAYLIGHT
BEGIN:STANDARD
TZOFFSETFROM:+0200
TZOFFSETTO:+0100
TZNAME:CET
DTSTART:20231029T010000
END:STANDARD
BEGIN:DAYLIGHT
TZOFFSETFROM:+0100
TZOFFSETTO:+0200
TZNAME:CEST
DTSTART:20240331T010000
END:DAYLIGHT
BEGIN:STANDARD
TZOFFSETFROM:+0200
TZOFFSETTO:+0100
TZNAME:CET
DTSTART:20241027T010000
END:STANDARD
BEGIN:DAYLIGHT
TZOFFSETFROM:+0100
TZOFFSETTO:+0200
TZNAME:CEST
DTSTART:20250330T010000
END:DAYLIGHT
BEGIN:STANDARD
TZOFFSETFROM:+0200
TZOFFSETTO:+0100
TZNAME:CET
DTSTART:20251026T010000
END:STANDARD
END:VTIMEZONE
BEGIN:VEVENT
DTSTART;VALUE=DATE:20240401
DTEND;VALUE=DATE:20240428
DTSTAMP:20260422T032123
CREATED:20240330T210153Z
LAST-MODIFIED:20240330T210153Z
UID:129422-1711929600-1714262399@merida.es
SUMMARY:Exposición '1994-2024: 30 años sin Toto Estirado'
DESCRIPTION:Fundación CB\, con la colaboración de Manuel Sordo\, está desarrollando una exposición en torno a la figura de Toto Estirado. “1994-2024: 30 años sin Toto Estirado” es el título de esta muestra que pretende poner en valor y homenajear al artista en todas sus facetas: pintor\, torero\, ciclista…con motivo del 30 aniversario de su fallecimiento. Se trata de una antológica compuesta por numerosos materiales inéditos\, tales como fotografías\, diarios\, libros\, obras de todas sus épocas\, recortes de prensa\, fragmentos de videos y textos.
URL:https://merida.es/agenda/exposicion-1994-2024-30-anos-sin-toto-estirado/
LOCATION:Centro Cultural Santo Domingo Fundación CB\, Plaza de Santo Domingo\, s/n\, Mérida
CATEGORIES:Exposición
ATTACH;FMTTYPE=image/jpeg:https://merida.es/wp-content/uploads/2024/03/2024-expo-toto-estirado-peq2.jpg
END:VEVENT
BEGIN:VEVENT
DTSTART;VALUE=DATE:20240404
DTEND;VALUE=DATE:20240408
DTSTAMP:20260422T032123
CREATED:20240401T124015Z
LAST-MODIFIED:20240401T200629Z
UID:129465-1712188800-1712534399@merida.es
SUMMARY:Salón del Automovil Mérida
DESCRIPTION:Del 4 al 7 de abril\, IFEME acoge el Salón del Automóvil organizado por Zafra Motor y Zeventos que traerá una veintena de marcas y ofertas especiales en vehículos nuevos y seminuevos con la presencia de cinco concesionarios emeritenses. El horario será\, con entrada gratuita\, de 10 a 21 horas\, salvo el último día que terminará a las 20 horas. Habrá una serie de ayudas y ofertas para la compra y una zona outlet con descuentos de entre 4.000 y 5.000 euros solo durante la feria \nCoincidiendo con la celebración de este evento\, durante el sábado 6 de abril\, también tendrá lugar una concentración\, ruta y concurso de coches clásicos en IFEME
URL:https://merida.es/agenda/salon-del-automovil-merida/
LOCATION:Instituto Ferial de Mérida IFEME\, C/ Manuel Nuñez (Urbanización El Prado)\, Mérida\, 06800\, España
CATEGORIES:Comercio
ATTACH;FMTTYPE=image/jpeg:https://merida.es/wp-content/uploads/2024/04/2024-salon-automovil-cartel-peq.jpg
END:VEVENT
BEGIN:VEVENT
DTSTART;VALUE=DATE:20240404
DTEND;VALUE=DATE:20240501
DTSTAMP:20260422T032123
CREATED:20240410T125724Z
LAST-MODIFIED:20240424T071501Z
UID:129762-1712188800-1714521599@merida.es
SUMMARY:Exposición 'Recuerdos del Mar\, Música y Abstracción' de Gonzalo Almaraz
DESCRIPTION:Durante el mes de abril se podrá visitar\, en el Espacio de Creación Alaudae\, la Exposición de Pintura ‘Recuerdos del Mar\, Música y Abstracción’ de Gonzalo Almaraz. \nEn esta exposición\, Gonzalo Almaraz nos presenta 19 obras donde predominan la abstracción y la geometría\, la textura y el uso equilibrado de los colores. Cuadros muy personales creados con el impulso de recuerdos y silencios\, de la contemplación\, con trazos y pinceladas de música. Testimonios de instantes\, de miradas e historias\, de momentos vividos que se plasman en esta exposición\, en estas obras de pequeño y mediano formato llenos de pasión y soplos de vida\, de sentimientos y emociones\, de lo absolutamente inolvidable.
URL:https://merida.es/agenda/exposicion-recuerdos-del-mar-musica-y-abstraccion-de-gonzalo-almaraz/
LOCATION:Café Alaudae\, Calle José Martínez Ruiz-Azorín\, 41
CATEGORIES:Exposición
ATTACH;FMTTYPE=image/jpeg:https://merida.es/wp-content/uploads/2024/04/2024-exposicion-gonzalo-almaraz-peq2.jpg
END:VEVENT
BEGIN:VEVENT
DTSTART;TZID=Europe/Madrid:20240404T183000
DTEND;TZID=Europe/Madrid:20240404T183000
DTSTAMP:20260422T032123
CREATED:20240318T075015Z
LAST-MODIFIED:20240318T075015Z
UID:129119-1712255400-1712255400@merida.es
SUMMARY:Ciclo Conferencias MNAR Grandes descubrimientos en arqueología II: "Piazza Armerina: los descubrimientos de una villa con mosaicos excepcionales"
DESCRIPTION:Durante los jueves de los meses enero a mayo\, el Museo Nacional de Arte Romano ofrece la segunda parte del ciclo de conferencias que bajo el título ‘Grandes descubrimientos en arqueología II’ se vuelve la mirada al pasado para recordar esos emocionantes momentos de grandes descubrimientos y su trascendencia en la historia. \nTodas las conferencias se realizarán en el Centro Cultural Santo Domingo de Fundación CB\, con entrada libre hasta completar aforo\, a las 18:30 horas. Se podrá seguir en el canal de Youtube del Museo en diferido. \nPROGRAMA \n25 de enero\nDescubrimiento de Atapuerca y la evolución humana\nDr. Juan Luis Arsuaga. Museo de la Evolución Humana \n1 de febrero\nEl descubrimiento de dama ibérica de Baza. Un viaje en femenino al más allá\nDra. Isabel Izquierdo Peraile. Museo Arqueológico Nacional \n8 de febrero\nWinckelmann y los descubrimientos en las excavaciones de Herculano\nProf. Dra. Marta Carrasco. Universidad Camilo José Cela \n15 de febrero\nLas pinturas etruscas en Tarquinia. Su descubrimiento e interpretación\nProf. Dr. Miguel Ángel Elvira. Universidad Complutense de Madrid \n22 de febrero\nEl Asklepios de Ampurias: el hallazgo de una obra griega en Hispania\nProf. Dra. Isabel Rodá de Llanza. Universidad Autónoma de Barcelona. Institut Catalá d´Arqueología Clássica \n29 de febrero\nEl descubrimiento de Micenas\nProf. Dr. Adolfo Domínguez Monedero. Universidad autónoma de Madrid \n7 de marzo\nNo se puede describir con palabras. Hay que verla. El hallazgo del busto de la reina Nefertiti\nProf. Dr. José Ramón Pérez-Accino. Universidad Complutense de Madrid \n14 de marzo\nCancho Roano: un hallazgo que abrió nuevas hipótesis\nProf. Dr. Sebastián Celestino Pérez. Instituto de Arqueología de Mérida. CSIC-Junta de Extremadura \n4 de abril\nPiazza Armerina: los descubrimientos de una villa con mosaicos excepcionales\nProf. Dra. Luz Neira Jiménez\, Universidad Carlos III de Madrid \n11 de abril\nEl descubrimiento del Teatro Romano de Mérida. El renacimiento de un gigante\nDr. Carlos J. Morán Sánchez. Instituto de Arqueología-Mérida. CSIC Junta de Extremadura \n18 de abril\nEl tesoro de la Aliseda: el hallazgo «más inesperado y extraordinario de Lusitania»\nPorf. Dr. Alonso Rodríguez Díaz\, Universidad de Extremadura \n25 de abril\nEl descubrimiento del Tesoro de Guarrazar\nDra. Beatriz I. Campderá Gutierrez. Museo Arqueológico Nacional \n9 de mayo\nEl descubrimiento del Turuñuelo. Un yacimiento que renovó Tarteso\nProf. Dr. Sebastián Celestino Pérez. Dra. Esther Rodríguez González\, Instituto de Arqueología-Mérida. CSIC Junta de Extremadura
URL:https://merida.es/agenda/ciclo-conferencias-mnar-grandes-descubrimientos-en-arqueologia-ii-piazza-armerina/
LOCATION:Centro Cultural Santo Domingo Fundación CB\, Plaza de Santo Domingo\, s/n\, Mérida
CATEGORIES:Charla-Conferencia
ATTACH;FMTTYPE=image/jpeg:https://merida.es/wp-content/uploads/2024/01/2024-grandes-descubrimientos-museo-peq.jpg
END:VEVENT
BEGIN:VEVENT
DTSTART;TZID=Europe/Madrid:20240404T203000
DTEND;TZID=Europe/Madrid:20240404T203000
DTSTAMP:20260422T032123
CREATED:20240401T092632Z
LAST-MODIFIED:20240401T092632Z
UID:129427-1712262600-1712262600@merida.es
SUMMARY:Cine Filmoteca: "Sala de profesores"
DESCRIPTION:Título original: Das Lehrerzimmer\nPaís: Alemania\nAño: 2023\nDuración: 96′ \nDirección: Ilker Çatak\nGuión: Johannes Duncker\, Ilker Çatak\nReparto: Leonie Benesch\, Michael Klammer\, Rafael Stachowiak \nGénero: Drama \nSinopsis: Carla Nowak\, una idealista profesora de matemáticas y deportes\, comienza su primer trabajo en una escuela de secundaria. Cuando se producen una serie de robos en la escuela y se sospecha de uno de sus alumnos\, decide llegar al fondo del asunto por su cuenta. Carla intenta mediar entre padres indignados\, colegas obstinados y estudiantes agresivos\, pero se enfrenta a las implacables estructuras del sistema escolar. \nSe emite en versión original con subtítulos \nEntrada: 1€.\nProgramación de la Filmoteca: http://filmotecaextremadura.juntaex.es
URL:https://merida.es/agenda/cine-filmoteca-sala-de-profesores/
LOCATION:Centro Cultural Santo Domingo Fundación CB\, Plaza de Santo Domingo\, s/n\, Mérida
CATEGORIES:Cine
ATTACH;FMTTYPE=image/jpeg:https://merida.es/wp-content/uploads/2024/04/sala-profesores-peq.jpg
END:VEVENT
END:VCALENDAR