﻿BEGIN:VCALENDAR
VERSION:2.0
PRODID:-//Ayuntamiento de Mérida - ECPv6.15.17.1//NONSGML v1.0//EN
CALSCALE:GREGORIAN
METHOD:PUBLISH
X-WR-CALNAME:Ayuntamiento de Mérida
X-ORIGINAL-URL:https://merida.es
X-WR-CALDESC:Eventos para Ayuntamiento de Mérida
REFRESH-INTERVAL;VALUE=DURATION:PT1H
X-Robots-Tag:noindex
X-PUBLISHED-TTL:PT1H
BEGIN:VTIMEZONE
TZID:Europe/Madrid
BEGIN:DAYLIGHT
TZOFFSETFROM:+0100
TZOFFSETTO:+0200
TZNAME:CEST
DTSTART:20230326T010000
END:DAYLIGHT
BEGIN:STANDARD
TZOFFSETFROM:+0200
TZOFFSETTO:+0100
TZNAME:CET
DTSTART:20231029T010000
END:STANDARD
BEGIN:DAYLIGHT
TZOFFSETFROM:+0100
TZOFFSETTO:+0200
TZNAME:CEST
DTSTART:20240331T010000
END:DAYLIGHT
BEGIN:STANDARD
TZOFFSETFROM:+0200
TZOFFSETTO:+0100
TZNAME:CET
DTSTART:20241027T010000
END:STANDARD
BEGIN:DAYLIGHT
TZOFFSETFROM:+0100
TZOFFSETTO:+0200
TZNAME:CEST
DTSTART:20250330T010000
END:DAYLIGHT
BEGIN:STANDARD
TZOFFSETFROM:+0200
TZOFFSETTO:+0100
TZNAME:CET
DTSTART:20251026T010000
END:STANDARD
END:VTIMEZONE
BEGIN:VEVENT
DTSTART;VALUE=DATE:20240401
DTEND;VALUE=DATE:20240428
DTSTAMP:20260422T013229
CREATED:20240330T210153Z
LAST-MODIFIED:20240330T210153Z
UID:129422-1711929600-1714262399@merida.es
SUMMARY:Exposición '1994-2024: 30 años sin Toto Estirado'
DESCRIPTION:Fundación CB\, con la colaboración de Manuel Sordo\, está desarrollando una exposición en torno a la figura de Toto Estirado. “1994-2024: 30 años sin Toto Estirado” es el título de esta muestra que pretende poner en valor y homenajear al artista en todas sus facetas: pintor\, torero\, ciclista…con motivo del 30 aniversario de su fallecimiento. Se trata de una antológica compuesta por numerosos materiales inéditos\, tales como fotografías\, diarios\, libros\, obras de todas sus épocas\, recortes de prensa\, fragmentos de videos y textos.
URL:https://merida.es/agenda/exposicion-1994-2024-30-anos-sin-toto-estirado/
LOCATION:Centro Cultural Santo Domingo Fundación CB\, Plaza de Santo Domingo\, s/n\, Mérida
CATEGORIES:Exposición
ATTACH;FMTTYPE=image/jpeg:https://merida.es/wp-content/uploads/2024/03/2024-expo-toto-estirado-peq2.jpg
END:VEVENT
BEGIN:VEVENT
DTSTART;VALUE=DATE:20240404
DTEND;VALUE=DATE:20240501
DTSTAMP:20260422T013229
CREATED:20240410T125724Z
LAST-MODIFIED:20240424T071501Z
UID:129762-1712188800-1714521599@merida.es
SUMMARY:Exposición 'Recuerdos del Mar\, Música y Abstracción' de Gonzalo Almaraz
DESCRIPTION:Durante el mes de abril se podrá visitar\, en el Espacio de Creación Alaudae\, la Exposición de Pintura ‘Recuerdos del Mar\, Música y Abstracción’ de Gonzalo Almaraz. \nEn esta exposición\, Gonzalo Almaraz nos presenta 19 obras donde predominan la abstracción y la geometría\, la textura y el uso equilibrado de los colores. Cuadros muy personales creados con el impulso de recuerdos y silencios\, de la contemplación\, con trazos y pinceladas de música. Testimonios de instantes\, de miradas e historias\, de momentos vividos que se plasman en esta exposición\, en estas obras de pequeño y mediano formato llenos de pasión y soplos de vida\, de sentimientos y emociones\, de lo absolutamente inolvidable.
URL:https://merida.es/agenda/exposicion-recuerdos-del-mar-musica-y-abstraccion-de-gonzalo-almaraz/
LOCATION:Café Alaudae\, Calle José Martínez Ruiz-Azorín\, 41
CATEGORIES:Exposición
ATTACH;FMTTYPE=image/jpeg:https://merida.es/wp-content/uploads/2024/04/2024-exposicion-gonzalo-almaraz-peq2.jpg
END:VEVENT
BEGIN:VEVENT
DTSTART;VALUE=DATE:20240405
DTEND;VALUE=DATE:20240601
DTSTAMP:20260422T013229
CREATED:20240410T071754Z
LAST-MODIFIED:20240410T071754Z
UID:129743-1712275200-1717199999@merida.es
SUMMARY:Exposición 'Eméritos\, 10 años'
DESCRIPTION:El Consorcio de la Ciudad Monumental organiza una exposición fotográfica bajo el título ‘Eméritos\, 10 años’ que podrá visitarse en su sede de la Calle Santa Julia hasta finales de mayo\, de lunes a viernes\, en horario de mañana. Se trata de una exposición que homenajea el proyecto de voluntariado social ‘Eméritos del Patrimonio’ que en este 2024 cumple 10 años desde su puesta en marcha\, reconociendo la labor de divulgación y protección que hacen estos voluntarios con el patrimonio de Mérida.
URL:https://merida.es/agenda/exposicion-emeritos-10-anos/
LOCATION:Convento de Santa Clara (Sede del Consorcio y Festival de Mérida)\, Calle Santa Julia\, 5\, Mérida
CATEGORIES:Exposición
ATTACH;FMTTYPE=image/jpeg:https://merida.es/wp-content/uploads/2024/04/2024-exposicion-emeritos-patrimonio-peq.jpg
END:VEVENT
BEGIN:VEVENT
DTSTART;VALUE=DATE:20240406
DTEND;VALUE=DATE:20240415
DTSTAMP:20260422T013229
CREATED:20240402T114434Z
LAST-MODIFIED:20240402T114434Z
UID:129520-1712361600-1713139199@merida.es
SUMMARY:American Motor Show (Automovilismo Acrobático)
DESCRIPTION:Desde América llega este fantástico espectáculo de motor acrobático al Recinto Ferial de Mérida los días 6\, 7\, 13 y 14 de abril. Taquillas abiertas 2 horas antes del espectáculo. Aforo limitado. \nSe trata de la exhibición y acrobacia de un gran número de vehículos americanos\, realizada por especialistas de cine y televisión. Durante una hora y media\, los número 1 del automovilismo acrobático ejecutarán un sinfín de números con coches a dos ruedas\, motos\, quads\, camiones y los Monstertruck\, los todoterreno más grandes del mundo.
URL:https://merida.es/agenda/american-motor-show/
LOCATION:Recinto Ferial\, Mérida
CATEGORIES:Ocio
ATTACH;FMTTYPE=image/jpeg:https://merida.es/wp-content/uploads/2024/04/2024-american-motor-show-peq.jpg
END:VEVENT
BEGIN:VEVENT
DTSTART;VALUE=DATE:20240409
DTEND;VALUE=DATE:20240413
DTSTAMP:20260422T013229
CREATED:20240402T112252Z
LAST-MODIFIED:20240402T112431Z
UID:129516-1712620800-1712966399@merida.es
SUMMARY:XXVI Festival Juvenil Europeo de Teatro Grecolatino
DESCRIPTION:Del 9 al 12 de abril de 2024\, el Teatro Romano acoge la XXVI edición del Festival Juvenil de Teatro Grecolatino que organiza el IES Santa Eulalia. Se trata de un festival que comenzó en el año 1997 con unas características específicamente didácticas pues está dedicado en especial a los jóvenes de Enseñanza Media y\, asimismo\, los grupos de teatro participantes se componen\, en su mayor parte\, de alumnos de Instituto. Todos tienen como objetivo principal potenciar y difundir el estudio de las culturas Griega y Romana a través del teatro\, con el fin de mejorar la formación cultural de los jóvenes introduciéndolos en el conocimiento de las culturas que constituyen la base del componente humanístico de nuestra cultura occidental. \nEstá organizado por el IES Santa Eulalia de Mérida y patrocinado por la Junta de Extremadura y el Consorcio de la Ciudad Monumental. Prestan su apoyo\, además\, el Excmo. Ayuntamiento de Mérida y el Museo Nacional de Arte Romano \nMás información: https://iessantaeulalia.educarex.es
URL:https://merida.es/agenda/xxvi-festival-juvenil-europeo-de-teatro-grecolatino/
LOCATION:Teatro Romano\, Plaza de Margarita Xirgú\, Mérida
CATEGORIES:Juvenil,Teatro
ATTACH;FMTTYPE=image/jpeg:https://merida.es/wp-content/uploads/2024/04/2024-festival-grecolatino-peq.jpg
END:VEVENT
BEGIN:VEVENT
DTSTART;VALUE=DATE:20240411
DTEND;VALUE=DATE:20240415
DTSTAMP:20260422T013229
CREATED:20240408T124808Z
LAST-MODIFIED:20240408T154615Z
UID:129680-1712793600-1713139199@merida.es
SUMMARY:Feria de la Cerveza Artesanal
DESCRIPTION:Del 11 al 14 de abril\, el Acueducto de Los Milagros acogerá la I Feria de la Cerveza Artesanal que se llevará a cabo en la explanada del Acueducto de los Milagros y en el que estarán presentes más de 100 marcas de cervezas artesanas de diferentes Comunidades Autónomas repartidas entre 12 puestos de cervezas. Además\, habrá Foodtrucks\, Puestos de Artesanía\, Talleres infantiles\, Juegos populares y Actuaciones de DJ. El horario será de 12 a 24 horas. Organiza La Ruta del Lúpulo con la colaboración del Ayuntamiento de Mérida. \nPrograma Feria de la Cerveza Artesanal
URL:https://merida.es/agenda/feria-de-la-cerveza-artesanal/
LOCATION:Acueducto de Los Milagros\, Av. de Via de la Plata s/n\, Mérida
CATEGORIES:Gastronomía,Música,Ocio
ATTACH;FMTTYPE=image/jpeg:https://merida.es/wp-content/uploads/2024/04/2024-feria-cervezapeq.jpeg
END:VEVENT
BEGIN:VEVENT
DTSTART;TZID=Europe/Madrid:20240411T183000
DTEND;TZID=Europe/Madrid:20240411T183000
DTSTAMP:20260422T013229
CREATED:20240408T071525Z
LAST-MODIFIED:20240408T071525Z
UID:129639-1712860200-1712860200@merida.es
SUMMARY:Ciclo Conferencias MNAR Grandes descubrimientos en arqueología II: "El descubrimiento del Teatro Romano de Mérida. El renacimiento de un gigante"
DESCRIPTION:Durante los jueves de los meses enero a mayo\, el Museo Nacional de Arte Romano ofrece la segunda parte del ciclo de conferencias que bajo el título ‘Grandes descubrimientos en arqueología II’ se vuelve la mirada al pasado para recordar esos emocionantes momentos de grandes descubrimientos y su trascendencia en la historia. \nTodas las conferencias se realizarán en el Centro Cultural Santo Domingo de Fundación CB\, con entrada libre hasta completar aforo\, a las 18:30 horas. Se podrá seguir en el canal de Youtube del Museo en diferido. \nPROGRAMA \n25 de enero\nDescubrimiento de Atapuerca y la evolución humana\nDr. Juan Luis Arsuaga. Museo de la Evolución Humana \n1 de febrero\nEl descubrimiento de dama ibérica de Baza. Un viaje en femenino al más allá\nDra. Isabel Izquierdo Peraile. Museo Arqueológico Nacional \n8 de febrero\nWinckelmann y los descubrimientos en las excavaciones de Herculano\nProf. Dra. Marta Carrasco. Universidad Camilo José Cela \n15 de febrero\nLas pinturas etruscas en Tarquinia. Su descubrimiento e interpretación\nProf. Dr. Miguel Ángel Elvira. Universidad Complutense de Madrid \n22 de febrero\nEl Asklepios de Ampurias: el hallazgo de una obra griega en Hispania\nProf. Dra. Isabel Rodá de Llanza. Universidad Autónoma de Barcelona. Institut Catalá d´Arqueología Clássica \n29 de febrero\nEl descubrimiento de Micenas\nProf. Dr. Adolfo Domínguez Monedero. Universidad autónoma de Madrid \n7 de marzo\nNo se puede describir con palabras. Hay que verla. El hallazgo del busto de la reina Nefertiti\nProf. Dr. José Ramón Pérez-Accino. Universidad Complutense de Madrid \n14 de marzo\nCancho Roano: un hallazgo que abrió nuevas hipótesis\nProf. Dr. Sebastián Celestino Pérez. Instituto de Arqueología de Mérida. CSIC-Junta de Extremadura \n4 de abril\nPiazza Armerina: los descubrimientos de una villa con mosaicos excepcionales\nProf. Dra. Luz Neira Jiménez\, Universidad Carlos III de Madrid \n11 de abril\nEl descubrimiento del Teatro Romano de Mérida. El renacimiento de un gigante\nDr. Carlos J. Morán Sánchez. Instituto de Arqueología-Mérida. CSIC Junta de Extremadura \n18 de abril\nEl tesoro de la Aliseda: el hallazgo «más inesperado y extraordinario de Lusitania»\nPorf. Dr. Alonso Rodríguez Díaz\, Universidad de Extremadura \n25 de abril\nEl descubrimiento del Tesoro de Guarrazar\nDra. Beatriz I. Campderá Gutierrez. Museo Arqueológico Nacional \n9 de mayo\nEl descubrimiento del Turuñuelo. Un yacimiento que renovó Tarteso\nProf. Dr. Sebastián Celestino Pérez. Dra. Esther Rodríguez González\, Instituto de Arqueología-Mérida. CSIC Junta de Extremadura
URL:https://merida.es/agenda/ciclo-conferencias-mnar-grandes-descubrimientos-en-arqueologia-ii-el-descubrimiento-del-teatro-romano-de-merida-el-renacimiento-de-un-gigante/
LOCATION:Centro Cultural Santo Domingo Fundación CB\, Plaza de Santo Domingo\, s/n\, Mérida
CATEGORIES:Charla-Conferencia
ATTACH;FMTTYPE=image/jpeg:https://merida.es/wp-content/uploads/2024/01/2024-grandes-descubrimientos-museo-peq.jpg
END:VEVENT
BEGIN:VEVENT
DTSTART;TZID=Europe/Madrid:20240411T193000
DTEND;TZID=Europe/Madrid:20240411T193000
DTSTAMP:20260422T013229
CREATED:20240409T065038Z
LAST-MODIFIED:20240409T065038Z
UID:129692-1712863800-1712863800@merida.es
SUMMARY:Presentación de libro 'F.C. Palazuelo-Astorga' de Juan José Ramos Vicente
DESCRIPTION:La tercera planta del Centro Cultural Alcazaba acoge la presentación del libro ‘F.C. Palazuelo-Astorga’ de Juan José Ramos Vicente el jueves 11 de abril\, a las 19:30 horas. Organiza la Biblioteca Municipal Juan Pablo Forner
URL:https://merida.es/agenda/presentacion-de-libro-f-c-palazuelo-astorga-de-juan-jose-ramos-vicente/
LOCATION:Centro Cultural Alcazaba\, Calle John Lennon\, 5\, Mérida
CATEGORIES:Literatura
ATTACH;FMTTYPE=image/jpeg:https://merida.es/wp-content/uploads/2024/04/2024-libro-juan-jose-ramos-vicente-peq.jpg
END:VEVENT
BEGIN:VEVENT
DTSTART;TZID=Europe/Madrid:20240411T200000
DTEND;TZID=Europe/Madrid:20240411T200000
DTSTAMP:20260422T013229
CREATED:20240412T063638Z
LAST-MODIFIED:20240412T063638Z
UID:129799-1712865600-1712865600@merida.es
SUMMARY:Talleres de Moda Romana con Tvlla
DESCRIPTION:De cara a Emerita Lvdica\, los jueves 11\, 18 y 25 de abril\, a las 20:00 horas\, la asociación Emerita Antiqua organiza Talleres de Moda Romana en su sede del MAM impartidos por Tvlla. Entrada libre hasta completar aforo
URL:https://merida.es/agenda/talleres-de-moda-romana-con-tvlla/
LOCATION:Museo Abierto de Mérida MAM\, Calle Cabo Verde\, s/n\, Mérida
CATEGORIES:Curso-Taller,Emerita Lvdica
ATTACH;FMTTYPE=image/jpeg:https://merida.es/wp-content/uploads/2024/04/2024-talleres-moda-romana-peq.jpg
END:VEVENT
BEGIN:VEVENT
DTSTART;TZID=Europe/Madrid:20240411T203000
DTEND;TZID=Europe/Madrid:20240411T203000
DTSTAMP:20260422T013229
CREATED:20240408T072451Z
LAST-MODIFIED:20240408T072451Z
UID:129640-1712867400-1712867400@merida.es
SUMMARY:Cine Filmoteca: "La estrella azul"
DESCRIPTION:Título original: La estrella azul\nPaís: España\nAño: 2023\nDuración: 129′ \nDirección: Javier Macipe\nGuión: Javier Macipe\nReparto: Pepe Lorente\, Cuti Carabajal\, Bruna Cusí\, Marc Rodríguez \nGénero: Drama \nSinopsis: Años 90. Mauricio Aznar\, un famoso rockero español recorre Latinoamérica buscando reencontrarse con su vocación dejando atrás el fantasma de la adicción. Allí conoce a Don Carlos\, un anciano músico en horas bajas que\, a pesar de ser autor de algunas de las canciones más famosas del folclore de su país\, apenas consigue pagar sus facturas. Carlos acoge con generosidad al extraño visitante haciendo las veces de maestro Miyagi musical. De su encuentro nace un extravagante dúo quijotesco\, con todos los visos de ser un absoluto fracaso comercial. \n2023: Festival de San Sebastián: Premio de la Juventud\, Premio Cooperación española\n2023: Festival de Sevilla: Nominada a Giraldillo de Oro- Mejor película.\n2023: Festival de Cine Inédito de Mérida: Premio del Público \nEntrada: 1€.\nProgramación de la Filmoteca: http://filmotecaextremadura.juntaex.es
URL:https://merida.es/agenda/cine-filmoteca-la-estrella-azul/
LOCATION:Centro Cultural Santo Domingo Fundación CB\, Plaza de Santo Domingo\, s/n\, Mérida
CATEGORIES:Cine
ATTACH;FMTTYPE=image/jpeg:https://merida.es/wp-content/uploads/2024/04/La_estrella_azul_peq.jpg
END:VEVENT
END:VCALENDAR