﻿BEGIN:VCALENDAR
VERSION:2.0
PRODID:-//Ayuntamiento de Mérida - ECPv6.15.17.1//NONSGML v1.0//EN
CALSCALE:GREGORIAN
METHOD:PUBLISH
X-ORIGINAL-URL:https://merida.es
X-WR-CALDESC:Eventos para Ayuntamiento de Mérida
REFRESH-INTERVAL;VALUE=DURATION:PT1H
X-Robots-Tag:noindex
X-PUBLISHED-TTL:PT1H
BEGIN:VTIMEZONE
TZID:Europe/Madrid
BEGIN:DAYLIGHT
TZOFFSETFROM:+0100
TZOFFSETTO:+0200
TZNAME:CEST
DTSTART:20230326T010000
END:DAYLIGHT
BEGIN:STANDARD
TZOFFSETFROM:+0200
TZOFFSETTO:+0100
TZNAME:CET
DTSTART:20231029T010000
END:STANDARD
BEGIN:DAYLIGHT
TZOFFSETFROM:+0100
TZOFFSETTO:+0200
TZNAME:CEST
DTSTART:20240331T010000
END:DAYLIGHT
BEGIN:STANDARD
TZOFFSETFROM:+0200
TZOFFSETTO:+0100
TZNAME:CET
DTSTART:20241027T010000
END:STANDARD
BEGIN:DAYLIGHT
TZOFFSETFROM:+0100
TZOFFSETTO:+0200
TZNAME:CEST
DTSTART:20250330T010000
END:DAYLIGHT
BEGIN:STANDARD
TZOFFSETFROM:+0200
TZOFFSETTO:+0100
TZNAME:CET
DTSTART:20251026T010000
END:STANDARD
END:VTIMEZONE
BEGIN:VEVENT
DTSTART;VALUE=DATE:20240401
DTEND;VALUE=DATE:20240428
DTSTAMP:20260422T015601
CREATED:20240330T210153Z
LAST-MODIFIED:20240330T210153Z
UID:129422-1711929600-1714262399@merida.es
SUMMARY:Exposición '1994-2024: 30 años sin Toto Estirado'
DESCRIPTION:Fundación CB\, con la colaboración de Manuel Sordo\, está desarrollando una exposición en torno a la figura de Toto Estirado. “1994-2024: 30 años sin Toto Estirado” es el título de esta muestra que pretende poner en valor y homenajear al artista en todas sus facetas: pintor\, torero\, ciclista…con motivo del 30 aniversario de su fallecimiento. Se trata de una antológica compuesta por numerosos materiales inéditos\, tales como fotografías\, diarios\, libros\, obras de todas sus épocas\, recortes de prensa\, fragmentos de videos y textos.
URL:https://merida.es/agenda/exposicion-1994-2024-30-anos-sin-toto-estirado/
LOCATION:Centro Cultural Santo Domingo Fundación CB\, Plaza de Santo Domingo\, s/n\, Mérida
CATEGORIES:Exposición
ATTACH;FMTTYPE=image/jpeg:https://merida.es/wp-content/uploads/2024/03/2024-expo-toto-estirado-peq2.jpg
END:VEVENT
BEGIN:VEVENT
DTSTART;VALUE=DATE:20240404
DTEND;VALUE=DATE:20240501
DTSTAMP:20260422T015601
CREATED:20240410T125724Z
LAST-MODIFIED:20240424T071501Z
UID:129762-1712188800-1714521599@merida.es
SUMMARY:Exposición 'Recuerdos del Mar\, Música y Abstracción' de Gonzalo Almaraz
DESCRIPTION:Durante el mes de abril se podrá visitar\, en el Espacio de Creación Alaudae\, la Exposición de Pintura ‘Recuerdos del Mar\, Música y Abstracción’ de Gonzalo Almaraz. \nEn esta exposición\, Gonzalo Almaraz nos presenta 19 obras donde predominan la abstracción y la geometría\, la textura y el uso equilibrado de los colores. Cuadros muy personales creados con el impulso de recuerdos y silencios\, de la contemplación\, con trazos y pinceladas de música. Testimonios de instantes\, de miradas e historias\, de momentos vividos que se plasman en esta exposición\, en estas obras de pequeño y mediano formato llenos de pasión y soplos de vida\, de sentimientos y emociones\, de lo absolutamente inolvidable.
URL:https://merida.es/agenda/exposicion-recuerdos-del-mar-musica-y-abstraccion-de-gonzalo-almaraz/
LOCATION:Café Alaudae\, Calle José Martínez Ruiz-Azorín\, 41
CATEGORIES:Exposición
ATTACH;FMTTYPE=image/jpeg:https://merida.es/wp-content/uploads/2024/04/2024-exposicion-gonzalo-almaraz-peq2.jpg
END:VEVENT
BEGIN:VEVENT
DTSTART;VALUE=DATE:20240405
DTEND;VALUE=DATE:20240601
DTSTAMP:20260422T015601
CREATED:20240410T071754Z
LAST-MODIFIED:20240410T071754Z
UID:129743-1712275200-1717199999@merida.es
SUMMARY:Exposición 'Eméritos\, 10 años'
DESCRIPTION:El Consorcio de la Ciudad Monumental organiza una exposición fotográfica bajo el título ‘Eméritos\, 10 años’ que podrá visitarse en su sede de la Calle Santa Julia hasta finales de mayo\, de lunes a viernes\, en horario de mañana. Se trata de una exposición que homenajea el proyecto de voluntariado social ‘Eméritos del Patrimonio’ que en este 2024 cumple 10 años desde su puesta en marcha\, reconociendo la labor de divulgación y protección que hacen estos voluntarios con el patrimonio de Mérida.
URL:https://merida.es/agenda/exposicion-emeritos-10-anos/
LOCATION:Convento de Santa Clara (Sede del Consorcio y Festival de Mérida)\, Calle Santa Julia\, 5\, Mérida
CATEGORIES:Exposición
ATTACH;FMTTYPE=image/jpeg:https://merida.es/wp-content/uploads/2024/04/2024-exposicion-emeritos-patrimonio-peq.jpg
END:VEVENT
BEGIN:VEVENT
DTSTART;VALUE=DATE:20240423
DTEND;VALUE=DATE:20240501
DTSTAMP:20260422T015601
CREATED:20240424T065320Z
LAST-MODIFIED:20240424T065320Z
UID:130160-1713830400-1714521599@merida.es
SUMMARY:Exposición de pintura 'Juntas'
DESCRIPTION:Del 23 al 30 de abril\, se puede visitar en el Centro Cultural Alcazaba la exposición ‘Juntas’\, un proyecto que han llevado a cabo durante tres meses el alumnado del Instituto de Educación Secundaria Tamujal\, de Arroyo de San Serván. Estos alumnos y alumnas de las asignaturas de Educación Plástica del curso de 1º de la E.S.O\, junto con las y los de 3º y 4º de la ESO de la asignatura Expresión Artística han creado su propia muestra a través de documentarse con la exposición “Maestras” del Museo Thyssen-Bornemisza\, donde se muestran obras de mujeres artistas. \nSu profesora y comisaria de la exposición\, Celia M.ª Nestares\, ha explicado que “este trabajo es el resultado de la inquietud por mostrar un proyecto\, donde se reconozca el trabajo de las mujeres artistas”. Del mismo modo que “conseguir luchar contra la invisibilidad y el desconocimiento que sufre muchas de estas artistas”\, desde las aulas a través de las armas fundamentales del respeto y la coherencia y que consigan motivar al alumnado y prepararles para su vida futura.
URL:https://merida.es/agenda/exposicion-de-pintura-juntas/
LOCATION:Centro Cultural Alcazaba\, Calle John Lennon\, 5\, Mérida
CATEGORIES:Exposición
ATTACH;FMTTYPE=image/jpeg:https://merida.es/wp-content/uploads/2024/04/2024-expo-mujeres-artistas-peq.jpg
END:VEVENT
BEGIN:VEVENT
DTSTART;VALUE=DATE:20240423
DTEND;VALUE=DATE:20240515
DTSTAMP:20260422T015601
CREATED:20240419T111926Z
LAST-MODIFIED:20240419T111926Z
UID:130056-1713830400-1715731199@merida.es
SUMMARY:Exposición "Cubos de Expresión: Magia en 3D"
DESCRIPTION:Del martes 23 de abril al 14 de mayo\, se podrá visitar en la Biblioteca del Estado Jesús Delgado Valhondo la Exposición Colectiva del alumnado de 1º y 3º E.S.O. del I.E.S. Tierrablanca de La Zarza. En este proyecto se podrá ver e interactuar con personajes tridimensionales fruto del arduo trabajo de los estudiantes\, quienes han explorado el proceso creativo y aprendido conceptos de geometría para dar vida a figuras tridimensionales utilizando hexaedros como base. Se podrá ver el proceso creativo previo\, el trabajo de comunicación en el que el alumnado se convierte en creador y emisor de sus propios mensajes. Además se podrá interactuar y crear nuevos personajes mezclando y creando con los ya existentes. ¡Acércate a conocer la magia en 3D!»
URL:https://merida.es/agenda/exposicion-cubos-de-expresion-magia-en-3d/
LOCATION:Biblioteca Jesús Delgado Valhondo\, Av. de la Libertad\, s/n\, Mérida
CATEGORIES:Exposición
ATTACH;FMTTYPE=image/jpeg:https://merida.es/wp-content/uploads/2024/04/2024-expo-cubos-expresion-peq.jpg
END:VEVENT
BEGIN:VEVENT
DTSTART;VALUE=DATE:20240424
DTEND;VALUE=DATE:20240427
DTSTAMP:20260422T015601
CREATED:20240424T060817Z
LAST-MODIFIED:20240424T060817Z
UID:130151-1713916800-1714175999@merida.es
SUMMARY:44 Congreso Sociedad Española de Medicina y Cirugía de Pie y Tobillo
DESCRIPTION:Del 24 al 26 de abril\, el Palacio de Congresos de Mérida acoge el 44 Congreso Nacional de la Sociedad Española de Medicina y Cirugía de Pie y Tobillo. \nWeb oficial: https://congresos-semcpt.com/semcpt2024
URL:https://merida.es/agenda/44-congreso-sociedad-espanola-de-medicina-y-cirugia-de-pie-y-tobillo/
LOCATION:Palacio de Congresos\, Avda. del Rio s/n\, Mérida
CATEGORIES:Charla-Conferencia
ATTACH;FMTTYPE=image/jpeg:https://merida.es/wp-content/uploads/2024/04/2024-44-congreso-semcpt-peq.jpg
END:VEVENT
BEGIN:VEVENT
DTSTART;VALUE=DATE:20240425
DTEND;VALUE=DATE:20240428
DTSTAMP:20260422T015601
CREATED:20240419T151619Z
LAST-MODIFIED:20240419T151754Z
UID:130072-1714003200-1714262399@merida.es
SUMMARY:Mercado de las Flores de Mérida
DESCRIPTION:Del 25 al 27 de abril\, en horario de 10 a 21 h\, el Paseo de Roma acoge el primer Mercado de las Flores de Mérida\, un evento organizado por la empresa multinacional Leroy Merlin que cuenta con la colaboración del Ayuntamiento de Mérida en el que diferentes puestos expondrán sus artículos a la venta\, donde se podrá encontrar una extensa variedad de plantas de interior y exterior (verdes\, colgantes\, carnívoras etc)\, así como una amplia gama de flores de primavera\, útiles de jardinería y una variedad de productos para su cuidado. \nDurante la celebración del Mercado\, se se realizaran 2 talleres para público adulto\, y 1 para público infantil con inscripción previa y capacidad para 15 participantes. Uno de ellos será de instalación de riego en el que se enseñará a los participantes a instalar un sistema de riego perfecto para el cuidado de tus plantas\, y otro de minihuerto en el que se ofrecerán algunas claves para montar un minihuerto con plantas aromáticas en casa\, así como el proceso que conlleva plantar y cultivar para después usarlo en la cocina. \nPor último\, el taller infantil se destinará a cómo hacer un muñeco con pelo de pasto de manera que las personas participantes se lleven un muñeco para cuidar y mimar\, regándole y cortar su pelo. Inscripciones: https://comunidad.leroymerlin.es
URL:https://merida.es/agenda/mercado-de-las-flores-de-merida/
LOCATION:Paseo de Roma\, Mérida
CATEGORIES:Comercio,Curso-Taller,Otros
ATTACH;FMTTYPE=image/jpeg:https://merida.es/wp-content/uploads/2024/04/2024-mercado-flores-peq.jpg
END:VEVENT
BEGIN:VEVENT
DTSTART;TZID=Europe/Madrid:20240425T080000
DTEND;TZID=Europe/Madrid:20240425T200000
DTSTAMP:20260422T015601
CREATED:20240412T063758Z
LAST-MODIFIED:20240412T063758Z
UID:129803-1714032000-1714075200@merida.es
SUMMARY:Talleres de Moda Romana con Tvlla
DESCRIPTION:De cara a Emerita Lvdica\, los jueves 11\, 18 y 25 de abril\, a las 20:00 horas\, la asociación Emerita Antiqua organiza Talleres de Moda Romana en su sede del MAM impartidos por Tvlla. Entrada libre hasta completar aforo
URL:https://merida.es/agenda/talleres-de-moda-romana-con-tvlla-3/
LOCATION:Museo Abierto de Mérida MAM\, Calle Cabo Verde\, s/n\, Mérida
CATEGORIES:Curso-Taller,Emerita Lvdica
ATTACH;FMTTYPE=image/jpeg:https://merida.es/wp-content/uploads/2024/04/2024-talleres-moda-romana-peq.jpg
END:VEVENT
BEGIN:VEVENT
DTSTART;TZID=Europe/Madrid:20240425T183000
DTEND;TZID=Europe/Madrid:20240425T183000
DTSTAMP:20260422T015601
CREATED:20240422T150303Z
LAST-MODIFIED:20240422T150303Z
UID:130110-1714069800-1714069800@merida.es
SUMMARY:Ciclo Conferencias MNAR Grandes descubrimientos en arqueología II: "El descubrimiento del Tesoro de Guarrazar"
DESCRIPTION:Durante los jueves de los meses enero a mayo\, el Museo Nacional de Arte Romano ofrece la segunda parte del ciclo de conferencias que bajo el título ‘Grandes descubrimientos en arqueología II’ se vuelve la mirada al pasado para recordar esos emocionantes momentos de grandes descubrimientos y su trascendencia en la historia. \nTodas las conferencias se realizarán en el Centro Cultural Santo Domingo de Fundación CB\, con entrada libre hasta completar aforo\, a las 18:30 horas. Se podrá seguir en el canal de Youtube del Museo en diferido. \nPROGRAMA \n25 de enero\nDescubrimiento de Atapuerca y la evolución humana\nDr. Juan Luis Arsuaga. Museo de la Evolución Humana \n1 de febrero\nEl descubrimiento de dama ibérica de Baza. Un viaje en femenino al más allá\nDra. Isabel Izquierdo Peraile. Museo Arqueológico Nacional \n8 de febrero\nWinckelmann y los descubrimientos en las excavaciones de Herculano\nProf. Dra. Marta Carrasco. Universidad Camilo José Cela \n15 de febrero\nLas pinturas etruscas en Tarquinia. Su descubrimiento e interpretación\nProf. Dr. Miguel Ángel Elvira. Universidad Complutense de Madrid \n22 de febrero\nEl Asklepios de Ampurias: el hallazgo de una obra griega en Hispania\nProf. Dra. Isabel Rodá de Llanza. Universidad Autónoma de Barcelona. Institut Catalá d´Arqueología Clássica \n29 de febrero\nEl descubrimiento de Micenas\nProf. Dr. Adolfo Domínguez Monedero. Universidad autónoma de Madrid \n7 de marzo\nNo se puede describir con palabras. Hay que verla. El hallazgo del busto de la reina Nefertiti\nProf. Dr. José Ramón Pérez-Accino. Universidad Complutense de Madrid \n14 de marzo\nCancho Roano: un hallazgo que abrió nuevas hipótesis\nProf. Dr. Sebastián Celestino Pérez. Instituto de Arqueología de Mérida. CSIC-Junta de Extremadura \n4 de abril\nPiazza Armerina: los descubrimientos de una villa con mosaicos excepcionales\nProf. Dra. Luz Neira Jiménez\, Universidad Carlos III de Madrid \n11 de abril\nEl descubrimiento del Teatro Romano de Mérida. El renacimiento de un gigante\nDr. Carlos J. Morán Sánchez. Instituto de Arqueología-Mérida. CSIC Junta de Extremadura \n18 de abril\nEl tesoro de la Aliseda: el hallazgo «más inesperado y extraordinario de Lusitania»\nPorf. Dr. Alonso Rodríguez Díaz\, Universidad de Extremadura \n25 de abril\nEl descubrimiento del Tesoro de Guarrazar\nDra. Beatriz I. Campderá Gutierrez. Museo Arqueológico Nacional \n9 de mayo\nEl descubrimiento del Turuñuelo. Un yacimiento que renovó Tarteso\nProf. Dr. Sebastián Celestino Pérez. Dra. Esther Rodríguez González\, Instituto de Arqueología-Mérida. CSIC Junta de Extremadura
URL:https://merida.es/agenda/ciclo-conferencias-mnar-grandes-descubrimientos-en-arqueologia-ii-el-descubrimiento-del-tesoro-de-guarrazar/
LOCATION:Centro Cultural Santo Domingo Fundación CB\, Plaza de Santo Domingo\, s/n\, Mérida
CATEGORIES:Charla-Conferencia
ATTACH;FMTTYPE=image/jpeg:https://merida.es/wp-content/uploads/2024/01/2024-grandes-descubrimientos-museo-peq.jpg
END:VEVENT
BEGIN:VEVENT
DTSTART;TZID=Europe/Madrid:20240425T193000
DTEND;TZID=Europe/Madrid:20240425T193000
DTSTAMP:20260422T015601
CREATED:20240410T070601Z
LAST-MODIFIED:20240410T070601Z
UID:129739-1714073400-1714073400@merida.es
SUMMARY:Presentación de libro 'Apócrifos y Quimeras' de Pepe Valero
DESCRIPTION:La tercera planta del Centro Cultural Alcazaba acoge la presentación del libro ‘Apócrifos y Quimeras’ de Pepe Valero\, el jueves 25 de abril\, a las 19:30 horas. Organiza la Biblioteca Municipal Juan Pablo Forner
URL:https://merida.es/agenda/presentacion-de-libro-apocrifos-y-quimeras-de-pepe-valero/
LOCATION:Centro Cultural Alcazaba\, Calle John Lennon\, 5\, Mérida
CATEGORIES:Literatura
ATTACH;FMTTYPE=image/jpeg:https://merida.es/wp-content/uploads/2024/04/2024-pepe-valero-peq.jpg
END:VEVENT
BEGIN:VEVENT
DTSTART;TZID=Europe/Madrid:20240425T203000
DTEND;TZID=Europe/Madrid:20240425T203000
DTSTAMP:20260422T015601
CREATED:20240312T231344Z
LAST-MODIFIED:20240312T231344Z
UID:128959-1714077000-1714077000@merida.es
SUMMARY:Teatro: "El rastro del Quijote"
DESCRIPTION:Jueves 25 de abril – 20:30 horas \nEspectáculo: El rastro del Quijote\nCompañía: TAPTC? Teatro \nSinopsis: Un hombre alterado irrumpe en la Sala mientras una mujer realiza una letanía al Quijote cervantino. El caballero desafía a toda persona que no acepte a Dulcinea como la mujer más agraciada sobre la faz de la tierra. Vencido por la belleza de la palabra\, acompañado por otro hombre que\, como él\, está dispuesto a vivir las más grandes hazañas\, sigue su deambular de aventura en aventura\, de verso en verso\, nadando en terreno seco\, confundiendo títeres con guerreros o entrando en hilarante batalla con el caballero blanco que inventara el bachiller famoso. \nEL Rastro del Quijote es una comedia con mucha acción\, mucho humor y mucha poesía\, que recoge las huellas que El Quijote ha dejado en algunos de los más importantes autores de la Literatura Universal\, lo que da aún más relevancia a la magistral obra de Miguel de Cervantes. \nDramaturgia y Dirección: Javier Llanos\nIntérpretes: Francis Lucas\, Jonathan González y Beatriz Solís \nDuración: 60 min.\nPúblico: a partir de 9 años \nEntrada única: 5€\nHorario de taquilla: A partir del lunes 22 de abril en el Centro Cultural Alcazaba (lunes a miércoles\, de 10 a 14 y de 17 a 20 horas) y Centro Cultural Nueva Ciudad (lunes a jueves\, de 10 a 14 horas y mismo día del evento desde una hora antes). \nEl espectáculo cuenta con las Ayudas a la Programación de Artes Escénicas y de Música de la Red de Teatros y Otros Espacios Escénicos de Extremadura de la Consejería de Cultura\, Turismo\, Jóvenes y Deportes\, cofinanciado en un 70%.
URL:https://merida.es/agenda/teatro-el-rastro-del-quijote/
LOCATION:Centro Cultural de Nueva Ciudad\, Calle Antonio Rodríguez Moñino s/n\, Mérida\, 06800\, Spain
CATEGORIES:Teatro
ATTACH;FMTTYPE=image/jpeg:https://merida.es/wp-content/uploads/2024/03/2024-rastro-quijote-peq.jpg
END:VEVENT
BEGIN:VEVENT
DTSTART;TZID=Europe/Madrid:20240425T203000
DTEND;TZID=Europe/Madrid:20240425T203000
DTSTAMP:20260422T015601
CREATED:20240422T145019Z
LAST-MODIFIED:20240423T200634Z
UID:130103-1714077000-1714077000@merida.es
SUMMARY:Cine Filmoteca: "Capitanes de Abril"
DESCRIPTION:Título original: Capitães de abril\nPaís: Portugal\nAño: 2000\nDuración: 123′ \nCiclo: 25 de Abril la Revolución de Portugal \nDirección: María de Medeiros\nGuión: Ève Deboise\, María de Medeiros\nReparto: Stefano Accorsi\, Maria de Medeiros\, Joaquim de Almeida\, Frédéric Pierrot\, Fele Martínez\, Manuel João Vieira \nGénero: Drama \nSinopsis: En la noche del 24 al 25 de abril de 1974\, suboficiales del ejército portugués inician una sublevación contra la dictadura de Oliveira Salazar. Su gesta pasará a la historia como «la revolución de los claveles». La película recrea la historia del capitán Salgueiro Maia\, uno de los protagonistas del levantamiento militar. \nEntrada: 1€. Versión original con subtítulos en castellano\nProgramación de la Filmoteca: http://filmotecaextremadura.juntaex.es
URL:https://merida.es/agenda/cine-filmoteca-capitanes-de-abril/
LOCATION:Centro Cultural Santo Domingo Fundación CB\, Plaza de Santo Domingo\, s/n\, Mérida
CATEGORIES:Cine
ATTACH;FMTTYPE=image/jpeg:https://merida.es/wp-content/uploads/2024/04/capitanes-abril-peq.jpg
END:VEVENT
END:VCALENDAR