﻿BEGIN:VCALENDAR
VERSION:2.0
PRODID:-//Ayuntamiento de Mérida - ECPv6.15.17.1//NONSGML v1.0//EN
CALSCALE:GREGORIAN
METHOD:PUBLISH
X-WR-CALNAME:Ayuntamiento de Mérida
X-ORIGINAL-URL:https://merida.es
X-WR-CALDESC:Eventos para Ayuntamiento de Mérida
REFRESH-INTERVAL;VALUE=DURATION:PT1H
X-Robots-Tag:noindex
X-PUBLISHED-TTL:PT1H
BEGIN:VTIMEZONE
TZID:Europe/Madrid
BEGIN:DAYLIGHT
TZOFFSETFROM:+0100
TZOFFSETTO:+0200
TZNAME:CEST
DTSTART:20230326T010000
END:DAYLIGHT
BEGIN:STANDARD
TZOFFSETFROM:+0200
TZOFFSETTO:+0100
TZNAME:CET
DTSTART:20231029T010000
END:STANDARD
BEGIN:DAYLIGHT
TZOFFSETFROM:+0100
TZOFFSETTO:+0200
TZNAME:CEST
DTSTART:20240331T010000
END:DAYLIGHT
BEGIN:STANDARD
TZOFFSETFROM:+0200
TZOFFSETTO:+0100
TZNAME:CET
DTSTART:20241027T010000
END:STANDARD
BEGIN:DAYLIGHT
TZOFFSETFROM:+0100
TZOFFSETTO:+0200
TZNAME:CEST
DTSTART:20250330T010000
END:DAYLIGHT
BEGIN:STANDARD
TZOFFSETFROM:+0200
TZOFFSETTO:+0100
TZNAME:CET
DTSTART:20251026T010000
END:STANDARD
END:VTIMEZONE
BEGIN:VEVENT
DTSTART;VALUE=DATE:20240405
DTEND;VALUE=DATE:20240601
DTSTAMP:20260422T032115
CREATED:20240410T071754Z
LAST-MODIFIED:20240410T071754Z
UID:129743-1712275200-1717199999@merida.es
SUMMARY:Exposición 'Eméritos\, 10 años'
DESCRIPTION:El Consorcio de la Ciudad Monumental organiza una exposición fotográfica bajo el título ‘Eméritos\, 10 años’ que podrá visitarse en su sede de la Calle Santa Julia hasta finales de mayo\, de lunes a viernes\, en horario de mañana. Se trata de una exposición que homenajea el proyecto de voluntariado social ‘Eméritos del Patrimonio’ que en este 2024 cumple 10 años desde su puesta en marcha\, reconociendo la labor de divulgación y protección que hacen estos voluntarios con el patrimonio de Mérida.
URL:https://merida.es/agenda/exposicion-emeritos-10-anos/
LOCATION:Convento de Santa Clara (Sede del Consorcio y Festival de Mérida)\, Calle Santa Julia\, 5\, Mérida
CATEGORIES:Exposición
ATTACH;FMTTYPE=image/jpeg:https://merida.es/wp-content/uploads/2024/04/2024-exposicion-emeritos-patrimonio-peq.jpg
END:VEVENT
BEGIN:VEVENT
DTSTART;VALUE=DATE:20240502
DTEND;VALUE=DATE:20240531
DTSTAMP:20260422T032115
CREATED:20240515T121749Z
LAST-MODIFIED:20240515T121749Z
UID:130873-1714608000-1717113599@merida.es
SUMMARY:Exposición “Aire\, tierra\, agua y fuego” de Henar Pérez-Zaballos
DESCRIPTION:Del 2 al 30 de mayo se puede visitar en el Centro Cultural Santo Domingo la Exposición “Aire\, tierra\, agua y fuego” de Henar Pérez-Zaballos. En esta exposición la autora extremeña presenta una serie de cuadros en torno a la naturaleza\, su principal fuente de inspiración. Esta arquitecta de profesión y vocación y artista por pasión\, presentará vistas aéreas de diferentes lugares del planeta\, mostrando una perspectiva diferente y buscando trasmitir un sentimiento de libertad. Encontraremos arrozales\, campos de tulipanes\, lagos alcalinos\, ríos serpenteantes\, playas\, salinas…También compondrán esta exposición interpretaciones de paisajes primaverales y otoñales de Extremadura\, en los que pretende transmitir serenidad y esplendor.
URL:https://merida.es/agenda/exposicion-aire-tierra-agua-y-fuego-de-henar-perez-zaballos/
LOCATION:Centro Cultural Santo Domingo Fundación CB\, Plaza de Santo Domingo\, s/n\, Mérida
CATEGORIES:Exposición
ATTACH;FMTTYPE=image/jpeg:https://merida.es/wp-content/uploads/2024/05/2024-expo-henar-peq.jpg
END:VEVENT
BEGIN:VEVENT
DTSTART;VALUE=DATE:20240511
DTEND;VALUE=DATE:20240522
DTSTAMP:20260422T032115
CREATED:20240508T130015Z
LAST-MODIFIED:20240508T151513Z
UID:130673-1715385600-1716335999@merida.es
SUMMARY:Mes de las Aves Mérida 2024
DESCRIPTION:Un año más\, el Ayuntamiento de Mérida realiza esta actividad primaveral que\, desde 2014\, que pone en valor la riqueza del entorno medioambiental de la ciudad\, gracias a su enclave entre los ríos Guadiana y Albarregas. La actividad está financiada por la Delegación del Gobierno para el Plan Nacional sobre Drogas del Ministerio de Sanidad y el propio Ayuntamiento de Mérida. \nA desarrollar a lo largo del mes de mayo\, la programación se dirige por un lado a la población escolar\, con actividades en siete colegios de educación primaria (colegios Dion Casio\, San Luis\, Ntra Sra de Guadalupe\, Ciudad de Mérida\, Paideia\, Maximiliano Macias y Trajano)\, que se realizan con la colaboración de la Dirección General de Sostenibilidad de la Consejería de Agricultura\, Ganadería y Desarrollo Sostenible de la Junta de Extremadura. Talleres de manualidades sobre golondrinas\, comederos de aves\, cajas nido\, huellas y rastros\, plantas aromáticas y rutas por el río Guadiana\, componen la oferta que se realiza a los centros educativos\, y que comienza el próximo viernes día 10 en el colegio Dion Casio. \nPor otro lado\, la programación dirigida a todos los públicos\, organizada de manera conjunta con Adenex (Asociación para la Defensa de la Naturaleza y los recursos de Extremadura) es la siguiente: \nSábado\, 11 de mayo\n10:00 horas. Puente Romano del Albarregas. Observatorio de Aves\n11:00 horas. Plaza Santo Ángel (Sede ADENEX). Talleres infantiles de aves\n11:00 horas. Ruta ornitológica por la orilla del río Guadiana. Salida desde Plaza Santo Ángel (Sede ADENEX)\n12:00 horas. Plaza Santo Ángel (Sede ADENEX). Cuentacuentos de Aves \nDomingo\, 12 de mayo\n09:00 horas. Estación de Aljucen. Anillamiento de Aves con la entidad Aranzadi.  \nMartes\, 14 de mayo\n18:30 horas. Pequeños Ornitólogos. Paseo por el río observando las aves. Salida desde Plaza Santo Ángel (Sede ADENEX).\n20:00 horas. Puente Lusitania. Observatorio de Aves \nJueves\, 16 de mayo\n20:00 horas. Puente Romano. Observatorio de Aves \nMartes\, 21 de mayo\n18:30 horas. Pequeños Ornitólogos. Juegos\, ruta y construcción de nidos. Salida desde Plaza Santo Ángel (Sede ADENEX). \nPara las actividades no es necesaria inscripción.
URL:https://merida.es/agenda/mes-de-las-aves-merida/
LOCATION:Varios puntos de la ciudad\, Mérida
CATEGORIES:Ocio,Otros
ATTACH;FMTTYPE=image/jpeg:https://merida.es/wp-content/uploads/2024/05/2024-mes-aves-peq.jpg
END:VEVENT
BEGIN:VEVENT
DTSTART;VALUE=DATE:20240516
DTEND;VALUE=DATE:20240517
DTSTAMP:20260422T032115
CREATED:20240315T230228Z
LAST-MODIFIED:20240315T230228Z
UID:129079-1715817600-1715903999@merida.es
SUMMARY:Foro Talento Público
DESCRIPTION:El 16 de mayo\, el Centro Cultural Alcazaba acogerá el Foro Talento Público con un programa en el que habrá debates\, talleres y networking que tratarán los principales temas de actualidad que afectan a los gestores públicos de la administración local. Se contará con la presencia de asesores y consultores especializados en el sector público y con el relato de casos prácticos\, ejemplos y referentes de buenas prácticas e innovación que ya aplican en algunos ayuntamientos. El programa del foro en Mérida incluye actividades culturales y gastronómicas en la ciudad. Plazas limitadas \nMás información: https://forotalentopublico.savia.net/
URL:https://merida.es/agenda/foro-talento-publico/
LOCATION:Centro Cultural Alcazaba\, Calle John Lennon\, 5\, Mérida
CATEGORIES:Charla-Conferencia,Jornadas
ATTACH;FMTTYPE=image/jpeg:https://merida.es/wp-content/uploads/2024/03/2024-foro-talento-publico-peq.jpg
END:VEVENT
BEGIN:VEVENT
DTSTART;TZID=Europe/Madrid:20240516T090000
DTEND;TZID=Europe/Madrid:20240516T140000
DTSTAMP:20260422T032115
CREATED:20240506T091141Z
LAST-MODIFIED:20240506T091141Z
UID:130553-1715850000-1715868000@merida.es
SUMMARY:III Congreso Impulso Empresarial 'Ciberseguridad para Pymes'
DESCRIPTION:Por tercer año\, la Asociación Impulso celebra su congreso\, un evento que se ha consolidado ya como una de las citas imprescindibles del Networking Empresarial en la comunidad autónoma de Extremadura. En esta ocasión\, el congreso estará dedicado a la Ciberseguridad aplicada a la PYME. \nEl objetivo del congreso es una oportunidad única para conocer cómo está evolucionando la ciberseguridad y cómo afrontar los retos que presenta. Contará con la participación de diez expertos nacionales y líderes en seguridad digital\, junto a empresas referentes del sector y representantes del ámbito académico y de la administración. Se hará mención al proyecto de Cátedra de Ciberseguridad INCIBE-UEx-CUMe\, que pretende contribuir a la consecución del reto la capacitación en Ciberseguridad y el desarrollo de un ecosistema de ciberseguridad en Extremadura\, desde el Centro Universitario de Mérida (CUMe) de la Universidad de Extremadura (UEx). \nMás información e inscripciones: https://jornadaciberseguridad.com/
URL:https://merida.es/agenda/iii-congreso-impulso-empresarial-ciberseguridad-para-pymes/
LOCATION:Palacio de Congresos\, Avda. del Rio s/n\, Mérida
CATEGORIES:Charla-Conferencia
ATTACH;FMTTYPE=image/jpeg:https://merida.es/wp-content/uploads/2024/05/2024-congreso-ciberseguridad-peq.jpg
END:VEVENT
BEGIN:VEVENT
DTSTART;TZID=Europe/Madrid:20240516T190000
DTEND;TZID=Europe/Madrid:20240516T190000
DTSTAMP:20260422T032115
CREATED:20240521T213001Z
LAST-MODIFIED:20240521T213001Z
UID:131039-1715886000-1715886000@merida.es
SUMMARY:Presentación “Un Van Gogh en el Salón” de ClaraMore
DESCRIPTION:¿Quién dijo que la historia del arte no era divertida? La influencer e historiadora ClaraMore\, como si fuera tu mejor amiga contándote el último cotilleo\, hablará de su libro «Un Van Gogh en el salón»\, en el cual no deja cuadro sin artista para explicarnos las anécdotas y secretos de las obras más icónicas y descubrirnos otras que nadie nos había mostrado hasta hoy \nReservas: https://fundacioncb.es
URL:https://merida.es/agenda/presentacion-un-van-gogh-en-el-salon-de-claramore/
LOCATION:Centro Cultural Santo Domingo Fundación CB\, Plaza de Santo Domingo\, s/n\, Mérida
CATEGORIES:Charla-Conferencia
ATTACH;FMTTYPE=image/jpeg:https://merida.es/wp-content/uploads/2024/05/2024-claramore-peq.jpg
END:VEVENT
BEGIN:VEVENT
DTSTART;TZID=Europe/Madrid:20240516T203000
DTEND;TZID=Europe/Madrid:20240516T203000
DTSTAMP:20260422T032115
CREATED:20240506T054848Z
LAST-MODIFIED:20240506T055001Z
UID:130534-1715891400-1715891400@merida.es
SUMMARY:Cine Filmoteca: "Destello Bravío"
DESCRIPTION:Título original: Destello Bravío\nPaís: España\nAño: 2021\nDuración: 98’ \nCiclo: Una de las nuestras \nDirección: Ainhoa Rodríguez\nGuion: Ainhoa Rodríguez\nMúsica: Paloma Peñarrubia\, Alejandro Lévar\nReparto: Guadalupe Gutiérrez\, Carmen Valverde\, Isabel María Mendoza \nGénero: Drama. Comedia. Fantástico  \nSinopsis: «Va a pasar un destello bravo\, bravío\, y todo va a cambiar…»\, Isa se habla a sí misma dejándose mensajes en su grabadora para cuando desaparezca o pierda la memoria. Cita se siente atrapada en un matrimonio en una casa llena de santos y vírgenes. María regresa a la población donde nació para enfrentarse a su soledad. Las mujeres de una pequeña localidad rural\, suspendida en el tiempo y azotada por la despoblación\, viven entre la apatía de su día a día donde nada extraordinario ocurre y un profundo deseo de experiencias liberadoras que les hagan reencontrarse con el lugar donde fueron felices o soñaron serlo. \nEntrada: 1€.\nProgramación de la Filmoteca: http://filmotecaextremadura.juntaex.es
URL:https://merida.es/agenda/cine-filmoteca-destello-bravio/
LOCATION:Centro Cultural Santo Domingo Fundación CB\, Plaza de Santo Domingo\, s/n\, Mérida
CATEGORIES:Cine
ATTACH;FMTTYPE=image/jpeg:https://merida.es/wp-content/uploads/2024/05/Destello-bravio_peq.jpg
END:VEVENT
END:VCALENDAR