﻿BEGIN:VCALENDAR
VERSION:2.0
PRODID:-//Ayuntamiento de Mérida - ECPv6.15.17.1//NONSGML v1.0//EN
CALSCALE:GREGORIAN
METHOD:PUBLISH
X-WR-CALNAME:Ayuntamiento de Mérida
X-ORIGINAL-URL:https://merida.es
X-WR-CALDESC:Eventos para Ayuntamiento de Mérida
REFRESH-INTERVAL;VALUE=DURATION:PT1H
X-Robots-Tag:noindex
X-PUBLISHED-TTL:PT1H
BEGIN:VTIMEZONE
TZID:Europe/Madrid
BEGIN:DAYLIGHT
TZOFFSETFROM:+0100
TZOFFSETTO:+0200
TZNAME:CEST
DTSTART:20230326T010000
END:DAYLIGHT
BEGIN:STANDARD
TZOFFSETFROM:+0200
TZOFFSETTO:+0100
TZNAME:CET
DTSTART:20231029T010000
END:STANDARD
BEGIN:DAYLIGHT
TZOFFSETFROM:+0100
TZOFFSETTO:+0200
TZNAME:CEST
DTSTART:20240331T010000
END:DAYLIGHT
BEGIN:STANDARD
TZOFFSETFROM:+0200
TZOFFSETTO:+0100
TZNAME:CET
DTSTART:20241027T010000
END:STANDARD
BEGIN:DAYLIGHT
TZOFFSETFROM:+0100
TZOFFSETTO:+0200
TZNAME:CEST
DTSTART:20250330T010000
END:DAYLIGHT
BEGIN:STANDARD
TZOFFSETFROM:+0200
TZOFFSETTO:+0100
TZNAME:CET
DTSTART:20251026T010000
END:STANDARD
END:VTIMEZONE
BEGIN:VEVENT
DTSTART;VALUE=DATE:20240405
DTEND;VALUE=DATE:20240601
DTSTAMP:20260422T032111
CREATED:20240410T071754Z
LAST-MODIFIED:20240410T071754Z
UID:129743-1712275200-1717199999@merida.es
SUMMARY:Exposición 'Eméritos\, 10 años'
DESCRIPTION:El Consorcio de la Ciudad Monumental organiza una exposición fotográfica bajo el título ‘Eméritos\, 10 años’ que podrá visitarse en su sede de la Calle Santa Julia hasta finales de mayo\, de lunes a viernes\, en horario de mañana. Se trata de una exposición que homenajea el proyecto de voluntariado social ‘Eméritos del Patrimonio’ que en este 2024 cumple 10 años desde su puesta en marcha\, reconociendo la labor de divulgación y protección que hacen estos voluntarios con el patrimonio de Mérida.
URL:https://merida.es/agenda/exposicion-emeritos-10-anos/
LOCATION:Convento de Santa Clara (Sede del Consorcio y Festival de Mérida)\, Calle Santa Julia\, 5\, Mérida
CATEGORIES:Exposición
ATTACH;FMTTYPE=image/jpeg:https://merida.es/wp-content/uploads/2024/04/2024-exposicion-emeritos-patrimonio-peq.jpg
END:VEVENT
BEGIN:VEVENT
DTSTART;VALUE=DATE:20240502
DTEND;VALUE=DATE:20240531
DTSTAMP:20260422T032111
CREATED:20240515T121749Z
LAST-MODIFIED:20240515T121749Z
UID:130873-1714608000-1717113599@merida.es
SUMMARY:Exposición “Aire\, tierra\, agua y fuego” de Henar Pérez-Zaballos
DESCRIPTION:Del 2 al 30 de mayo se puede visitar en el Centro Cultural Santo Domingo la Exposición “Aire\, tierra\, agua y fuego” de Henar Pérez-Zaballos. En esta exposición la autora extremeña presenta una serie de cuadros en torno a la naturaleza\, su principal fuente de inspiración. Esta arquitecta de profesión y vocación y artista por pasión\, presentará vistas aéreas de diferentes lugares del planeta\, mostrando una perspectiva diferente y buscando trasmitir un sentimiento de libertad. Encontraremos arrozales\, campos de tulipanes\, lagos alcalinos\, ríos serpenteantes\, playas\, salinas…También compondrán esta exposición interpretaciones de paisajes primaverales y otoñales de Extremadura\, en los que pretende transmitir serenidad y esplendor.
URL:https://merida.es/agenda/exposicion-aire-tierra-agua-y-fuego-de-henar-perez-zaballos/
LOCATION:Centro Cultural Santo Domingo Fundación CB\, Plaza de Santo Domingo\, s/n\, Mérida
CATEGORIES:Exposición
ATTACH;FMTTYPE=image/jpeg:https://merida.es/wp-content/uploads/2024/05/2024-expo-henar-peq.jpg
END:VEVENT
BEGIN:VEVENT
DTSTART;VALUE=DATE:20240520
DTEND;VALUE=DATE:20240523
DTSTAMP:20260422T032111
CREATED:20240503T102608Z
LAST-MODIFIED:20250514T102029Z
UID:130491-1716163200-1716422399@merida.es
SUMMARY:XI Festival Escolar de Teatro Clásico Europeo 'Con letras de oro'
DESCRIPTION:Del 20 al 22 de mayo se celebrará\, en la Sala Trajano de Mérida\, una nueva edición del Festival Escolar de Teatro Clásico Europeo “Con Letras de Oro”\, que anualmente organiza el IES Emérita Augusta de Mérida. Contará con la participación de grupos de teatro de institutos llegados desde diferentes puntos de Extremadura.
URL:https://merida.es/agenda/ix-festival-escolar-de-teatro-clasico-europeo-con-letras-de-oro/
LOCATION:Sala Trajano\, Calle Muza\, 50\, Mérida
CATEGORIES:Juvenil,Teatro
ATTACH;FMTTYPE=image/jpeg:https://merida.es/wp-content/uploads/2024/05/2024-festival-letras-oro-peq-1.jpg
END:VEVENT
BEGIN:VEVENT
DTSTART;VALUE=DATE:20240520
DTEND;VALUE=DATE:20240527
DTSTAMP:20260422T032112
CREATED:20240115T233535Z
LAST-MODIFIED:20240521T104321Z
UID:127516-1716163200-1716767999@merida.es
SUMMARY:XIV Emerita Lvdica
DESCRIPTION:La XIV edición de Emerita Lvdica\, declarada como Fiesta de Interés Turístico Regional\, tendrá lugar del 20 al 26 de mayo de 2024. \nMérida volverá a ofrece la oportunidad de ser testigos (o preferentemente actores y figurantes) de escenas cotidianas del mundo romano\, aproximándonos a sus modos de vida\, utilizando los escenarios originales que conforman el conjunto arqueológico monumental más completo y mejor conservado de Hispania: Avgvsta Emerita\, declarado Patrimonio de la Humanidad por la UNESCO. \nSe disputarán luchas de gladiadores\, se harán ritos en el Templo de Diana\, el foro se llenará de vida recreando escenas de la vida cotidiana de Avgusta Emerita\, los legionarios entrarán por el puente romano en la ciudad\, acampando a sus puertas\, donde harán prácticas de entrenamiento\, y habrá constantes recreaciones de la vida cotidiana de una ciudad romana. Este año\, como novedad\, la Gladiatura será gratuita y se sortearán las entradas (2 por persona) para el que habrá que inscribirse a través del formulario cuyo enlace se encuentra más abajo. \nEn Emerita Lvdica se creará un espacio de ambientación romana donde serán seleccionados puestos de manera rigurosa y exclusiva\, en función del rigor y adecuación históricos de los productos propuestos. Se seleccionarán puestos de artesanía\, de alimentación y restauración que no resulten anacrónicos o desdigan de su relación con la época romana y la recreación histórica romana que cumplan con las bases de participación. Estará\, por un lado el Mercado Romano VI Macellvm Ceres en el entorno del Foro Provincial y la Alcazaba y\, por otro lado\, el Mercado del Templo de Diana\, donde los puestos artesanos serán seleccionados de manera más rigurosa y no se permiten los productos de alimentación. La tabernas y mercados este año también se extienden a la plaza de España. \nTambién se desarrolla la Ruta de la Tapa Romana ‘Sentia Amarantis’ en la que participan diferentes establecimientos de la ciudad siguiendo las recetas del libro de Apicio\, manteniendo el mismo rigor histórico también en la cocina que se exige a otros elementos de la fiesta. \nLos III Premios Agripa han recaído en la categoría Individual en la Técnica de Museología y Difusión de Mérida Consorcio de la Ciudad Monumental\, Raquel Nodar y\, en la categoría de colectivos\, en la Asociación Recreacionista Emerita Antiqua \n\n					Programa XIV Emerita Lvdica\n  \nOrganiza el Ayuntamiento de Mérida con la colaboración del Consorcio de la Ciudad Monumental\, El Museo Nacional de Arte Romano\, la Dirección General de Turismo de la Junta de Extremadura y la Diputación de Badajoz. \nWeb oficial: https://www.emerita-lvdica.es/\n  \n\n					GLADIATURA \n \nEl sábado 25 de mayo de 2024\, a las 20:00 horas\, el Anfiteatro Romano acoge una nueva Gladiatura como parte de las actividades de la XIV edición de Emerita Lvdica \nLa entrada es gratuita y para asistir es necesario inscribirse a través de este formulario rellenando los datos que aparecen más abajo. El formulario permanecerá abierto desde el jueves 16 de mayo\, a las 10:00 horas\, hasta el domingo 19 de mayo\, a las 23:00 horas. Solo se permite una inscripción por persona (obligatorio DNI). En caso de más de una inscripción solo se tendrá en cuenta la última. Una vez termine el plazo\, se publicará aquí el listado con las personas inscritas el lunes 20 de mayo y se realizará un sorteo al día siguiente\, martes 21 de mayo. \nPara dicho sorteo se asignará un número a cada persona por orden de inscripción y se sacará un número aleatorio. A la persona con ese número y las 299 sucesivas se le asignarán dos entradas. El resultado del sorteo también se publicará aquí. \nFormulario de Inscripción para el Sorteo de Entradas\nListado de Inscritos/as para el SorteoResultado del Sorteo \nLas personas que hayan salido elegidas en el sorteo podrán retirar sus entradas\, presentando su DNI\, en el punto de información del Templo de Diana\, el jueves 23 y el viernes 24 de mayo\, de 12:00 a 14:00 y de 18:00 a 22:00 horas. También se podrán retirar el mismo sábado 25 de mayo\, de 12:00 a 14:00 horas en el mismo lugar.\n  \n\n					VISITAS GUIADAS \n \nDurante la celebración de XIV Emerita Lvdica se han organizado diferentes visitas guiadas para las cuales es necesario inscribirse a través de este formulario. Las personas inscritas recibirán una llamada telefónica para confirmar su asistencia a la visita guiada. Máximo de 30 personas por visita. Es necesaria una inscripción por persona. Si se desea realizar más de una visita guiada se necesitará una inscripción diferente por cada una de ellas. Las visitas guiadas son recomendadas para niños y niñas a partir de los 6 años. A partir de esa edad se tiene que rellenar inscripción. Los menores de esa edad puede hacer la visita guiada con las inscripción del padre/madre o tutor. \nEl formulario se abrirá el lunes 20 de mayo\, a las 10:00 horas. Las visitas tienen plazas muy limitadas por lo que se agotarán en pocos minutos. \n\nRECREACIÓN VIRTUAL TEMPLO DE DIANA. Jueves 23 y Viernes 24 de mayo (11:30h.)\nLOS ASTROS DE AVGVSTA EMERITA. Jueves 23 y Sábado 25 de mayo (23:00h.)\nEMERITA SOBRENATURAL: FANTASMAS ROMANOS. Miércoles 22 y Viernes 24 de mayo (22:30h.)\nCREENCIAS Y SUPERSTICIONES ROMANAS. Sábado 25 y Domingo 26 de mayo (10:30h.)\nVISITA A LA CASA DEL ANFITEATRO. Jueves 23 y Sábado 25 de mayo (19:30h.)\nVISITA A LA CASA DEL MITREO. Viernes 24 de mayo y Domingo 26 de mayo (19:30h.)\n\nFormulario de Inscripción para Visitas Guiadas\n  \n\n					III CONCURSO PASARELA CIUDADANA \n \nDentro de la programación de la XIV edición de Emerita Lvdica\, se ha organizado el III Concurso PASARELA CIUDADANA con el objetivo de difundir y dar visibilidad a la indumentaria romana de la época\, así como acrecentar el interés en ciudadanos y turistas recreando de forma fidedigna tramas\, escenas\, gastronomía y por supuesto vestimenta romana\, guardando el rigor histórico que la fiesta merece. \nLa Pasarela tendrá lugar el próximo sábado\, 25 de mayo de 2024\, a las 22:45h\, en el Templo de Diana. Podrán participar en el concurso\, todas las personas que lo deseen\, de cualquier edad\, en la modalidad de masculino o femenino\, provistos de atuendo romano. Para la dos modalidades\, el primer premio es un abono al Festival de Teatro Clásico de Mérida; el segundo premio es el juego “La Tumba de Alejandro Magno”\, un escape room urbano que se juega por las calles de la ciudad y el tercer premio\, una insignia. \nEl plazo para inscribirse será desde el lunes 20 de mayo\, a las 10:00 horas\, hasta el jueves 23 de mayo\, a las 22:00 horas. \nFormulario de Inscripción para la III Pasarela Ciudadana\n  \n\n					BASES \nVI Mercado Macellvm CeresMercado Templo de DianaIX Ruta de la Tapa Romana ‘Sentia Amarantis’Ambientación RomanaIII Pasarela Ciudadana
URL:https://merida.es/agenda/xiv-emerita-lvdica/
LOCATION:Varios puntos de la ciudad\, Mérida
CATEGORIES:Emerita Lvdica,Recreación
ATTACH;FMTTYPE=image/jpeg:https://merida.es/wp-content/uploads/2024/01/2024-emerita-lvdica-peq.jpg
END:VEVENT
BEGIN:VEVENT
DTSTART;VALUE=DATE:20240521
DTEND;VALUE=DATE:20240523
DTSTAMP:20260422T032112
CREATED:20240521T062156Z
LAST-MODIFIED:20240521T062156Z
UID:131008-1716249600-1716422399@merida.es
SUMMARY:Teatro: "¡Por todos los Dioses!"
DESCRIPTION:El programa “La Escuela adopta un monumento”\, promovido por el Ayuntamiento\, el Consorcio de la Ciudad Monumental y el Centro de Profesores y Recursos (CPR)\, celebrará su actividad final con la actividad teatral “¡POR TODOS LOS DIOSES!”\, que se celebrará en el teatro romano de Mérida los días 21 y 22 de mayo\, a las 10\,00 horas\, enmarcada dentro de las actividades de la XIV edición de Emerita Lvdica. En total participarán unos 400 escolares. \nEl día 21 de mayo participarán\, representando distintos papeles en la obra\, el CEIP Federico García Lorca\, CEIP Trajano\, Atenea y Salesianos. Ya el 22 de mayo participarán Atena\, CEE Casa de la Madre\, CEIP Ciudad de Mérida\, CEIP Dion Casio\, CEIP Maximiliano Macías\, CEIP de La Antigua\, CEIP Octavio Augusto y CEIP Suárez Somonte.
URL:https://merida.es/agenda/teatro-por-todos-los-dioses/
LOCATION:Teatro Romano\, Plaza de Margarita Xirgú\, Mérida
CATEGORIES:Educación,Emerita Lvdica,Teatro
ATTACH;FMTTYPE=image/jpeg:https://merida.es/wp-content/uploads/2024/05/2024-teatro-por-todos-los-dioses-peq.jpg
END:VEVENT
BEGIN:VEVENT
DTSTART;VALUE=DATE:20240522
DTEND;VALUE=DATE:20240527
DTSTAMP:20260422T032112
CREATED:20240516T114158Z
LAST-MODIFIED:20240516T115147Z
UID:130905-1716336000-1716767999@merida.es
SUMMARY:IX Ruta de la Tapa Romana Sentia Amarantis
DESCRIPTION:Durante la celebración de XIV Emerita Lvdica\, del 22 al 26 de mayo\, 14 establecimientos hosteleros de la ciudad ofrecerán tapas ‘romanas’\, a un precio fijo de 5€\, en la IX edición de Sentia Amarantis. \nEsta Ruta de la Tapa Romana lleva por nombre ‘Sentia Amarantis’ con motivo del Epitafio de la Tabernera Sentia Amarantis\, que se conserva en el Museo Nacional de Arte Romano\, iconografía emeritense que todos conocemos por La Tabernera. \nPara la elaboración de las tapas que componen la ruta se utiliza el libro de recetas de Apicio\, que es el texto de referencia para la gastronomía de la época\, y cuyos productos e ingredientes podemos encontrar en Extremadura. \nLos establecimientos participantes son:\nAyre\, Vía de la Tapa\, Natura Gastroart\, Mesón El Lebrel\, Capriccio Italiano Senso Único\, Dakkon\, Las Extremañas\, Catalina Plaza\, Serendipity\, Espezia\, Agallas\, De Tripas Corazón\, The Kraft Bar y Cafetería Pizarrín. \nFolleto IX Ruta de la Tapa Sentia Amarantis\n 
URL:https://merida.es/agenda/ix-ruta-de-la-tapa-romana-sentia-amarantis/
LOCATION:Varios establecimientos de la ciudad
CATEGORIES:Gastronomía
ATTACH;FMTTYPE=image/jpeg:https://merida.es/wp-content/uploads/2024/05/2024-ruta-tapa-romana-peq.jpg
END:VEVENT
BEGIN:VEVENT
DTSTART;TZID=Europe/Madrid:20240522T193000
DTEND;TZID=Europe/Madrid:20240522T193000
DTSTAMP:20260422T032112
CREATED:20240520T151940Z
LAST-MODIFIED:20240520T152117Z
UID:131002-1716406200-1716406200@merida.es
SUMMARY:Concierto 'En Femenino' del Conservatorio Esteban Sánchez
DESCRIPTION:El Conservatorio Profesional de Música Esteban Sánchez de Mérida vuelve a unirse al proyecto M.A.L.A. con el propósito de difundir la música compuesta por mujeres compositoras de cualquier época. Para ello\, ofrecerá el concierto ‘En Femenino’ el miércoles 22 de mayo\, a las 19:30 horas\, en el Centro Cultural Santo Domingo\, con un programa variado y exquisito\, que incluirá obras de Cécile Chaminade\, Mélanie Chasselon\, Clara Schumann\, Fanny Mendelssohn\, Rebeca Clarke \, Christine Donkin y Mercedes Zavala. Entrada libre
URL:https://merida.es/agenda/concierto-en-femenino-del-conservatorio-esteban-sanchez/
LOCATION:Centro Cultural Santo Domingo Fundación CB\, Plaza de Santo Domingo\, s/n\, Mérida
CATEGORIES:Música
ATTACH;FMTTYPE=image/jpeg:https://merida.es/wp-content/uploads/2024/05/2024-conservatorio-en-femenino-peq.jpg
END:VEVENT
BEGIN:VEVENT
DTSTART;TZID=Europe/Madrid:20240522T200000
DTEND;TZID=Europe/Madrid:20240522T200000
DTSTAMP:20260422T032112
CREATED:20240520T145805Z
LAST-MODIFIED:20240520T145805Z
UID:131001-1716408000-1716408000@merida.es
SUMMARY:Ciclo de Conferencias Instituto de Arqueología de Mérida: "Reforma por sorpresa: eligiendo el mosaico ideal para tu casa en Augusta Emerita"
DESCRIPTION:Todos los miércoles del 8 de mayo hasta el 26 de junio\, a las 20:00 horas\, el Liceo de Mérida acoge el Ciclo de Conferencias del Instituto de Arqueología de Mérida cuyo programa se centra fundamentalmente en presentar algunos de los trabajos de investigación que realizan los investigadores del Instituto que tiene como objetivo fomentar la investigación tanto en Extremadura como en el resto de la arqueología peninsular. Algunas de las intervenciones se centrarán en el yacimiento emeritense y otras\, sin embargo\, abarcarán otros estudios vinculados con la Comunidad Autónoma \nPrograma \n8 de Mayo. Ángel Ventura Villanueva:\nEl nacimiento de la colonia Augusta Emerita (21 de abril del año VI a.C.) \n15 de Mayo. Pedro Mateos Cruz:\nLa ciudad de Augusta Emerita en la época de los primeros cristianos \n22 de Mayo. Isabel Granados Chiguer:\nReforma por sorpresa: eligiendo el mosaico ideal para tu casa en Augusta Emerita \n29 de Mayo. Trinidad Tortosa y Carlos J. Morán:\nArqueología extremeña fuera de Extremadura: biografías de unos objetos viajeros \n5 de junio. Elías López-Romero:\nEl megalitismo en Extremadura. La primera arquitectura monumental de la Prehistoria \n12 de Junio. Sebastián Celestino Pérez y Esther Rodríguez González:\n¿Qué sabemos sobre Tarteso? \n19 de Junio. Victorino Mayoral Herrera:\nUna arqueología sin (solo) excavaciones en Mérida. ¿Cómo la podemos hacer? \n26 de Junio. Mª de los Ángeles Utrera Agudo:\nConstruir un convento no es tarea fácil. Las Freylas de Mérida como ejemplo
URL:https://merida.es/agenda/ciclo-de-conferencias-instituto-de-arqueologia-de-merida-reforma-por-sorpresa-eligiendo-el-mosaico-ideal-para-tu-casa-en-augusta-emerita/
LOCATION:Liceo de Mérida\, Calle Moreno de Vargas\, Mérida\, Badajoz\, 06800\, España
CATEGORIES:Charla-Conferencia
ATTACH;FMTTYPE=image/jpeg:https://merida.es/wp-content/uploads/2024/05/2024-ciclo-conferencias-iam-liceo-peq.jpg
END:VEVENT
BEGIN:VEVENT
DTSTART;TZID=Europe/Madrid:20240522T203000
DTEND;TZID=Europe/Madrid:20240522T203000
DTSTAMP:20260422T032112
CREATED:20240521T125818Z
LAST-MODIFIED:20240521T125818Z
UID:131029-1716409800-1716409800@merida.es
SUMMARY:Lectura Dramatizada de 'Tyestes'
DESCRIPTION:Dirigida por Raquel Bazo y producida por el Consorcio Patronato Festival de Mérida y TAPTC? teatro\, cuenta con un amplio reparto integrado por Victor Álvarez\, Nuria Machío\, Patricia Muñoz\, Mar Medrano\, Marisa García\, MªJosé Frías\, Jesús Torres\, Pedro Romero\, Sara de la Rubia\, Susana García\, Coselete Yuste\, Santiago Perea y Helena Alonso. \nOrganiza la Sociedad Científica de Mérida – Club de lectura del I.E.S. Albarregas – que dirige el escritor y profesor Jaime Covarsí.  \nEl texto original\, publicado por la editorial Alfil – Colección Teatro nº 182 en 1958\, fue reeditado en “Versiones representables de Teatro Griego”. En enero de 2022\, la Editorial VdB (Grupo ERIDE\, Madrid) lo ha reeditado dentro de la colección “Teatro de Mérida” de la que es facilitador Javier Llanos.  \nOacex (Oficina de accesibilidad cognitiva de Extremadura) y Plena inclusión Extremadura ha realizado una versión de fácil lectura que será presentada previamente a la lectura dramatizada.   \nTYESTES es una tragedia escrita por José María Pemán\, a partir del original de  Séneca\, que el 17 de junio de 1956 estrenó en el Teatro Romano de Mérida la compañía Lope de Vega\, bajo la dirección de José Tamayo. En el reparto estaban Francisco Rabal\, Andrés Mejuto\, Julieta Serrano\, Paolo Graziosi\, Carlos Lemos\, Aurora Bautista\, José Suárez\, Paola Pitagora\, Alfredo Mayo\, Antonio Casas\, Antonio Aceval\, Guido Alberti y Asunción Balaguer.  \nDel espacio escénico se encargó Sigfrido Burmann.
URL:https://merida.es/agenda/lectura-dramatizada-de-tyestes/
LOCATION:Centro Cultural Alcazaba\, Calle John Lennon\, 5\, Mérida
CATEGORIES:Literatura,Teatro
ATTACH;FMTTYPE=image/jpeg:https://merida.es/wp-content/uploads/2024/05/2024-lectura-dramatizada-tyestes-peq.jpeg
END:VEVENT
END:VCALENDAR