﻿BEGIN:VCALENDAR
VERSION:2.0
PRODID:-//Ayuntamiento de Mérida - ECPv6.15.17.1//NONSGML v1.0//EN
CALSCALE:GREGORIAN
METHOD:PUBLISH
X-WR-CALNAME:Ayuntamiento de Mérida
X-ORIGINAL-URL:https://merida.es
X-WR-CALDESC:Eventos para Ayuntamiento de Mérida
REFRESH-INTERVAL;VALUE=DURATION:PT1H
X-Robots-Tag:noindex
X-PUBLISHED-TTL:PT1H
BEGIN:VTIMEZONE
TZID:Europe/Madrid
BEGIN:DAYLIGHT
TZOFFSETFROM:+0100
TZOFFSETTO:+0200
TZNAME:CEST
DTSTART:20230326T010000
END:DAYLIGHT
BEGIN:STANDARD
TZOFFSETFROM:+0200
TZOFFSETTO:+0100
TZNAME:CET
DTSTART:20231029T010000
END:STANDARD
BEGIN:DAYLIGHT
TZOFFSETFROM:+0100
TZOFFSETTO:+0200
TZNAME:CEST
DTSTART:20240331T010000
END:DAYLIGHT
BEGIN:STANDARD
TZOFFSETFROM:+0200
TZOFFSETTO:+0100
TZNAME:CET
DTSTART:20241027T010000
END:STANDARD
BEGIN:DAYLIGHT
TZOFFSETFROM:+0100
TZOFFSETTO:+0200
TZNAME:CEST
DTSTART:20250330T010000
END:DAYLIGHT
BEGIN:STANDARD
TZOFFSETFROM:+0200
TZOFFSETTO:+0100
TZNAME:CET
DTSTART:20251026T010000
END:STANDARD
END:VTIMEZONE
BEGIN:VEVENT
DTSTART;VALUE=DATE:20240405
DTEND;VALUE=DATE:20240601
DTSTAMP:20260422T045146
CREATED:20240410T071754Z
LAST-MODIFIED:20240410T071754Z
UID:129743-1712275200-1717199999@merida.es
SUMMARY:Exposición 'Eméritos\, 10 años'
DESCRIPTION:El Consorcio de la Ciudad Monumental organiza una exposición fotográfica bajo el título ‘Eméritos\, 10 años’ que podrá visitarse en su sede de la Calle Santa Julia hasta finales de mayo\, de lunes a viernes\, en horario de mañana. Se trata de una exposición que homenajea el proyecto de voluntariado social ‘Eméritos del Patrimonio’ que en este 2024 cumple 10 años desde su puesta en marcha\, reconociendo la labor de divulgación y protección que hacen estos voluntarios con el patrimonio de Mérida.
URL:https://merida.es/agenda/exposicion-emeritos-10-anos/
LOCATION:Convento de Santa Clara (Sede del Consorcio y Festival de Mérida)\, Calle Santa Julia\, 5\, Mérida
CATEGORIES:Exposición
ATTACH;FMTTYPE=image/jpeg:https://merida.es/wp-content/uploads/2024/04/2024-exposicion-emeritos-patrimonio-peq.jpg
END:VEVENT
BEGIN:VEVENT
DTSTART;VALUE=DATE:20240502
DTEND;VALUE=DATE:20240531
DTSTAMP:20260422T045146
CREATED:20240515T121749Z
LAST-MODIFIED:20240515T121749Z
UID:130873-1714608000-1717113599@merida.es
SUMMARY:Exposición “Aire\, tierra\, agua y fuego” de Henar Pérez-Zaballos
DESCRIPTION:Del 2 al 30 de mayo se puede visitar en el Centro Cultural Santo Domingo la Exposición “Aire\, tierra\, agua y fuego” de Henar Pérez-Zaballos. En esta exposición la autora extremeña presenta una serie de cuadros en torno a la naturaleza\, su principal fuente de inspiración. Esta arquitecta de profesión y vocación y artista por pasión\, presentará vistas aéreas de diferentes lugares del planeta\, mostrando una perspectiva diferente y buscando trasmitir un sentimiento de libertad. Encontraremos arrozales\, campos de tulipanes\, lagos alcalinos\, ríos serpenteantes\, playas\, salinas…También compondrán esta exposición interpretaciones de paisajes primaverales y otoñales de Extremadura\, en los que pretende transmitir serenidad y esplendor.
URL:https://merida.es/agenda/exposicion-aire-tierra-agua-y-fuego-de-henar-perez-zaballos/
LOCATION:Centro Cultural Santo Domingo Fundación CB\, Plaza de Santo Domingo\, s/n\, Mérida
CATEGORIES:Exposición
ATTACH;FMTTYPE=image/jpeg:https://merida.es/wp-content/uploads/2024/05/2024-expo-henar-peq.jpg
END:VEVENT
BEGIN:VEVENT
DTSTART;TZID=Europe/Madrid:20240530T093000
DTEND;TZID=Europe/Madrid:20240530T093000
DTSTAMP:20260422T045146
CREATED:20240415T055651Z
LAST-MODIFIED:20240415T055922Z
UID:129869-1717061400-1717061400@merida.es
SUMMARY:XXXIV Congreso Anual de la Asociación Española de Derecho del Trabajo y de la Seguridad Social (AEDTSS)
DESCRIPTION:La Asociación Española de Derecho del Trabajo y de la Seguridad Social (AEDTSS) celebra su congreso anual en Mérida\, el día 30 de mayo\, a partir de las 9:30 horas\, en el Palacio de Congresos. \nWeb oficial: https://www.aedtss.com/congresos-de-la-aedtss/xxxiv-congreso/
URL:https://merida.es/agenda/xxxiv-congreso-anual-aedtss/
LOCATION:Palacio de Congresos\, Avda. del Rio s/n\, Mérida
CATEGORIES:Charla-Conferencia
ATTACH;FMTTYPE=image/jpeg:https://merida.es/wp-content/uploads/2024/04/2024-congreso-trabajo-peq.jpg
END:VEVENT
BEGIN:VEVENT
DTSTART;TZID=Europe/Madrid:20240530T200000
DTEND;TZID=Europe/Madrid:20240530T200000
DTSTAMP:20260422T045146
CREATED:20240528T111327Z
LAST-MODIFIED:20240528T111327Z
UID:131137-1717099200-1717099200@merida.es
SUMMARY:25 aniversario Biblioteca Jesús Delgado Valhondo
DESCRIPTION:La Biblioteca Pública del Estado en Mérida «Jesús Delgado Valhondo» se inauguró el día 5 de mayo de 1999 y con motivo del 25 aniversario tendrá lugar un acto conmemorativo con la presencia del escritor Jesús Carrasco como invitado especial\, el jueves 30 de mayo de 2024\, a las 20:00 horas\, en el Salón de Actos de la Biblioteca.
URL:https://merida.es/agenda/25-aniversario-biblioteca-jesus-delgado-valhondo/
LOCATION:Biblioteca Jesús Delgado Valhondo\, Av. de la Libertad\, s/n\, Mérida
CATEGORIES:Institucional,Literatura
ATTACH;FMTTYPE=image/jpeg:https://merida.es/wp-content/uploads/2024/05/2024-25-aniversario-biblioteca-jesus-delgado-valhondo-peq.jpg
END:VEVENT
BEGIN:VEVENT
DTSTART;TZID=Europe/Madrid:20240530T203000
DTEND;TZID=Europe/Madrid:20240530T203000
DTSTAMP:20260422T045146
CREATED:20240506T062313Z
LAST-MODIFIED:20240506T062313Z
UID:130540-1717101000-1717101000@merida.es
SUMMARY:Cine Filmoteca: "Yo Capitan"
DESCRIPTION:Título original: Io capitano\nPaís: Italia\nAño: 2023\nDuración: 121’ \nCiclo: FOCO Festivales \nDirección: Matteo Garrone\nGuion: Massimo Ceccherini\, Matteo Garrone\, Massimo Gaudioso\, Andrea Tagliaferri\nMúsica: Andrea Farri\nReparto: Seydou Sarr\, Moustapha Fall\, Bamar Kane\, Hichem Yacoubi \nGénero: Drama \nSinopsis: Seydou y Moussa son dos jóvenes que abandonan Dakar para emprender camino a Europa. Una odisea contemporánea a través de los peligros del desierto\, los horrores de los centros de detención en Libia y los peligros del mar. \n2023: Premios Oscar: Nominada a mejor película internacional\n2023: Premios Globos de Oro: Nominada a mejor película de habla no inglesa.\n2023: Festival de Venecia: 2 premios. 3 nominaciones\n2023: Premios del Cine Europeo (EFA): 2 nominaciones\n2023: Festival de San Sebastián: Premio del Público (mejor film europeo) \nEntrada: 1€. Se emite en versión original con subtítulos en español\nProgramación de la Filmoteca: http://filmotecaextremadura.juntaex.es
URL:https://merida.es/agenda/cine-filmoteca-yo-capitan/
LOCATION:Centro Cultural Santo Domingo Fundación CB\, Plaza de Santo Domingo\, s/n\, Mérida
CATEGORIES:Cine
ATTACH;FMTTYPE=image/jpeg:https://merida.es/wp-content/uploads/2024/05/Yo_capitan_peq.jpg
END:VEVENT
END:VCALENDAR