﻿BEGIN:VCALENDAR
VERSION:2.0
PRODID:-//Ayuntamiento de Mérida - ECPv6.15.17.1//NONSGML v1.0//EN
CALSCALE:GREGORIAN
METHOD:PUBLISH
X-ORIGINAL-URL:https://merida.es
X-WR-CALDESC:Eventos para Ayuntamiento de Mérida
REFRESH-INTERVAL;VALUE=DURATION:PT1H
X-Robots-Tag:noindex
X-PUBLISHED-TTL:PT1H
BEGIN:VTIMEZONE
TZID:Europe/Madrid
BEGIN:DAYLIGHT
TZOFFSETFROM:+0100
TZOFFSETTO:+0200
TZNAME:CEST
DTSTART:20230326T010000
END:DAYLIGHT
BEGIN:STANDARD
TZOFFSETFROM:+0200
TZOFFSETTO:+0100
TZNAME:CET
DTSTART:20231029T010000
END:STANDARD
BEGIN:DAYLIGHT
TZOFFSETFROM:+0100
TZOFFSETTO:+0200
TZNAME:CEST
DTSTART:20240331T010000
END:DAYLIGHT
BEGIN:STANDARD
TZOFFSETFROM:+0200
TZOFFSETTO:+0100
TZNAME:CET
DTSTART:20241027T010000
END:STANDARD
BEGIN:DAYLIGHT
TZOFFSETFROM:+0100
TZOFFSETTO:+0200
TZNAME:CEST
DTSTART:20250330T010000
END:DAYLIGHT
BEGIN:STANDARD
TZOFFSETFROM:+0200
TZOFFSETTO:+0100
TZNAME:CET
DTSTART:20251026T010000
END:STANDARD
END:VTIMEZONE
BEGIN:VEVENT
DTSTART;VALUE=DATE:20240601
DTEND;VALUE=DATE:20240914
DTSTAMP:20260422T045128
CREATED:20231228T234119Z
LAST-MODIFIED:20240628T084024Z
UID:127193-1717200000-1726271999@merida.es
SUMMARY:Stone & Music Festival 2024
DESCRIPTION:En el año 2024\, el Stone Music Festival celebrará su novena edición para el que volverá a contar con artistas nacionales e internacionales de primer nivel. Como novedad\, este año\, el Festival programará conciertos en el mes de junio. \nTodos los espectáculos presentados se llevarán a cabo en el marco del Teatro Romano de Mérida volviendo a unir patrimonio\, cultura y ocio en este monumento señero de Extremadura. \n• ISABEL PANTOJA – 1 de junio\n• RAPHAEL – 2 de junio\n• AMARAL – 7 de junio\n• THE BLACK CROWES – 9 de junio\n• STATUS QUO – 14 de junio\n• TOM JONES – 21 de junio\n• VÍCTOR MANUEL – 30 de agosto\n• MIKEL IZAL – 31 de agosto\n• LOS CHICHOS – 1 de septiembre\n• ARA MALIKIAN – 8 de septiembre\n• ÁLVARO DE LUNA Y MARLON – 13 de septiembre\n• MANUEL TURIZO – 14 de septiembre \nLas entradas para todos los espectáculos se pueden adquirir a través de la web oficial: stoneandmusicfestival.com.
URL:https://merida.es/agenda/stone-music-festival-2024/
LOCATION:Teatro Romano\, Plaza de Margarita Xirgú\, Mérida
CATEGORIES:Música
ATTACH;FMTTYPE=image/jpeg:https://merida.es/wp-content/uploads/2023/12/2024-stone-music-peq.jpg
END:VEVENT
BEGIN:VEVENT
DTSTART;TZID=Europe/Madrid:20240601T093000
DTEND;TZID=Europe/Madrid:20240601T093000
DTSTAMP:20260422T045128
CREATED:20240530T115143Z
LAST-MODIFIED:20240530T115143Z
UID:131224-1717234200-1717234200@merida.es
SUMMARY:Copa Escuelas Diputación de Ciclismo
DESCRIPTION:El sábado 1 de junio\, a partir de las 9:30 horas\, el Velódromo Municipal José María Lozano acoge la Copa Escuelas de Ciclismo patrocinada por la Diputación de Badajoz. Categorías Junior Fem.\, Escuelas Fem.\, Escuelas\, Cadete Fem.\, Cadete y Junior
URL:https://merida.es/agenda/copa-escuelas-diputacion-de-ciclismo/
LOCATION:Velódromo Municipal Jose María Lozano\, Camino Viejo de Mirandilla s/n\, Mérida\, Badajoz\, 06800\, España
CATEGORIES:Deporte
ATTACH;FMTTYPE=image/png:https://merida.es/wp-content/uploads/2024/05/2024-copa-escuelas-diputacion-ciclismo-peq.png
END:VEVENT
BEGIN:VEVENT
DTSTART;TZID=Europe/Madrid:20240601T110000
DTEND;TZID=Europe/Madrid:20240601T200000
DTSTAMP:20260422T045128
CREATED:20240513T124903Z
LAST-MODIFIED:20240513T125004Z
UID:130787-1717239600-1717272000@merida.es
SUMMARY:VI edición Extremadura Despierta
DESCRIPTION:El sábado 1 de junio\, el Centro Cultural Alcazaba acoge la VI edición de ‘Extremadura Despierta’ que contará con diferentes charlas y ponencias. Entrada libre sin inscripción hasta completar aforo.
URL:https://merida.es/agenda/vi-edicion-extremadura-despierta/
LOCATION:Centro Cultural Alcazaba\, Calle John Lennon\, 5\, Mérida
CATEGORIES:Charla-Conferencia
ATTACH;FMTTYPE=image/png:https://merida.es/wp-content/uploads/2024/05/2024-extremadura-despierta-peq.png
END:VEVENT
BEGIN:VEVENT
DTSTART;TZID=Europe/Madrid:20240601T123000
DTEND;TZID=Europe/Madrid:20240601T233000
DTSTAMP:20260422T045128
CREATED:20240530T110727Z
LAST-MODIFIED:20240530T110727Z
UID:131216-1717245000-1717284600@merida.es
SUMMARY:Gala Benéfica 'Quiero\, puedo y lo haré'
DESCRIPTION:El sábado 1 de junio tendrá lugar en IFEME la gala ‘Quiero\, puedo y lo haré’ con un fin benéfico a favor del joven Hugo Serrano Álvarez\, enfermo de cáncer. Habrá diferentes actuaciones de música\, baile y de agrupaciones carnavaleras. Barra con precios populares.
URL:https://merida.es/agenda/gala-benefica-quiero-puedo-y-lo-hare-2024/
LOCATION:Instituto Ferial de Mérida IFEME\, C/ Manuel Nuñez (Urbanización El Prado)\, Mérida\, 06800\, España
CATEGORIES:Benéfico,Danza,Gala,Música
ATTACH;FMTTYPE=image/jpeg:https://merida.es/wp-content/uploads/2024/05/2024-gala-benefica-quiero-puedo-hare-peq.jpg
END:VEVENT
BEGIN:VEVENT
DTSTART;TZID=Europe/Madrid:20240601T200000
DTEND;TZID=Europe/Madrid:20240601T200000
DTSTAMP:20260422T045128
CREATED:20240415T060432Z
LAST-MODIFIED:20240415T060547Z
UID:129873-1717272000-1717272000@merida.es
SUMMARY:II Desfile Solidario de Modas La Ele a beneficio de la Asociación ANDADE
DESCRIPTION:Por primera vez en Mérida se realizará un desfile de moda inclusivo con personas amputadas. Concretamente la II edición del desfile solidario para la Asociación ANDADE de Modas la Ele. \nTras el éxito de la I edición celebrada el pasado 21 de octubre de 2023 en Badajoz\, la capital extremeña recoge el testigo de este evento\, que tiene como objetivo dar visibilidad a las personas que han sufrido alguna amputación y dar a conocer la realidad de ellas\, recaudando fondos que permitan sostener las actividades que realiza esta asociación. Un evento donde desfilarán mujeres de distintas edades y otras que han sufrido alguna amputación\, la mayoría de Extremadura pero también con algunas participantes de otras comunidades ( Baleares\, Cataluña\, Madrid\, Andalucía\, Castilla y León…) \nSe celebrará el próximo sábado 01 de junio a las 20:00 horas en la Terraza del Palacio de Congresos de Mérida.  \nEl precio de las entradas es de 5€\, donde todo lo recaudado será a favor de ANDADE. Las entradas se pueden adquirir en el Palacio Congresos de Mérida (de lunes a viernes de 9:00 a 14:00) y en la tienda física Modas la Ele en Badajoz\, a partir del viernes 12 de abril. El aforo será limitado y para las personas que no puedan asistir y quieran colaborar se dispone de una fila 0 para cualquier donación. \nWeb oficial: https://www.desfilesolidarioandade.es/
URL:https://merida.es/agenda/ii-desfile-solidario-de-modas-la-ele-a-beneficio-de-la-asociacion-andade/
LOCATION:Palacio de Congresos\, Avda. del Rio s/n\, Mérida
CATEGORIES:Benéfico,Diseño
ATTACH;FMTTYPE=image/jpeg:https://merida.es/wp-content/uploads/2024/04/2024-desfile-solidario-andade-peq.jpg
END:VEVENT
BEGIN:VEVENT
DTSTART;TZID=Europe/Madrid:20240601T221500
DTEND;TZID=Europe/Madrid:20240601T221500
DTSTAMP:20260422T045128
CREATED:20240126T234756Z
LAST-MODIFIED:20240126T234756Z
UID:127823-1717280100-1717280100@merida.es
SUMMARY:Stone & Music Festival: "Isabel Pantoja"
DESCRIPTION:Isabel Pantoja será la encargada de abrir la novena edición del STONE&MUSIC Festival el 1 de septiembre. La tonadillera llegará al Teatro Romano con su ‘Gira 50 Años’ para celebrar medio siglo de carrera en la industria musical. \nUna de las voces femeninas más icónicas de la música en español que interpretará sus éxitos más emblemáticos sobre el escenario\, en una gira que es “un tributo a su increíble carrera y un regalo para todos aquellos que han disfrutado de su música a lo largo de los años”. \nEntradas: https://www.eventsentradas.com
URL:https://merida.es/agenda/stone-music-festival-isabel-pantoja/
LOCATION:Teatro Romano\, Plaza de Margarita Xirgú\, Mérida
CATEGORIES:Música
ATTACH;FMTTYPE=image/jpeg:https://merida.es/wp-content/uploads/2024/01/2024-stone-isabel-pantoja-peq.jpg
END:VEVENT
END:VCALENDAR