﻿BEGIN:VCALENDAR
VERSION:2.0
PRODID:-//Ayuntamiento de Mérida - ECPv6.15.17.1//NONSGML v1.0//EN
CALSCALE:GREGORIAN
METHOD:PUBLISH
X-WR-CALNAME:Ayuntamiento de Mérida
X-ORIGINAL-URL:https://merida.es
X-WR-CALDESC:Eventos para Ayuntamiento de Mérida
REFRESH-INTERVAL;VALUE=DURATION:PT1H
X-Robots-Tag:noindex
X-PUBLISHED-TTL:PT1H
BEGIN:VTIMEZONE
TZID:Europe/Madrid
BEGIN:DAYLIGHT
TZOFFSETFROM:+0100
TZOFFSETTO:+0200
TZNAME:CEST
DTSTART:20230326T010000
END:DAYLIGHT
BEGIN:STANDARD
TZOFFSETFROM:+0200
TZOFFSETTO:+0100
TZNAME:CET
DTSTART:20231029T010000
END:STANDARD
BEGIN:DAYLIGHT
TZOFFSETFROM:+0100
TZOFFSETTO:+0200
TZNAME:CEST
DTSTART:20240331T010000
END:DAYLIGHT
BEGIN:STANDARD
TZOFFSETFROM:+0200
TZOFFSETTO:+0100
TZNAME:CET
DTSTART:20241027T010000
END:STANDARD
BEGIN:DAYLIGHT
TZOFFSETFROM:+0100
TZOFFSETTO:+0200
TZNAME:CEST
DTSTART:20250330T010000
END:DAYLIGHT
BEGIN:STANDARD
TZOFFSETFROM:+0200
TZOFFSETTO:+0100
TZNAME:CET
DTSTART:20251026T010000
END:STANDARD
END:VTIMEZONE
BEGIN:VEVENT
DTSTART;VALUE=DATE:20240601
DTEND;VALUE=DATE:20240914
DTSTAMP:20260422T015412
CREATED:20231228T234119Z
LAST-MODIFIED:20240628T084024Z
UID:127193-1717200000-1726271999@merida.es
SUMMARY:Stone & Music Festival 2024
DESCRIPTION:En el año 2024\, el Stone Music Festival celebrará su novena edición para el que volverá a contar con artistas nacionales e internacionales de primer nivel. Como novedad\, este año\, el Festival programará conciertos en el mes de junio. \nTodos los espectáculos presentados se llevarán a cabo en el marco del Teatro Romano de Mérida volviendo a unir patrimonio\, cultura y ocio en este monumento señero de Extremadura. \n• ISABEL PANTOJA – 1 de junio\n• RAPHAEL – 2 de junio\n• AMARAL – 7 de junio\n• THE BLACK CROWES – 9 de junio\n• STATUS QUO – 14 de junio\n• TOM JONES – 21 de junio\n• VÍCTOR MANUEL – 30 de agosto\n• MIKEL IZAL – 31 de agosto\n• LOS CHICHOS – 1 de septiembre\n• ARA MALIKIAN – 8 de septiembre\n• ÁLVARO DE LUNA Y MARLON – 13 de septiembre\n• MANUEL TURIZO – 14 de septiembre \nLas entradas para todos los espectáculos se pueden adquirir a través de la web oficial: stoneandmusicfestival.com.
URL:https://merida.es/agenda/stone-music-festival-2024/
LOCATION:Teatro Romano\, Plaza de Margarita Xirgú\, Mérida
CATEGORIES:Música
ATTACH;FMTTYPE=image/jpeg:https://merida.es/wp-content/uploads/2023/12/2024-stone-music-peq.jpg
END:VEVENT
BEGIN:VEVENT
DTSTART;VALUE=DATE:20240602
DTEND;VALUE=DATE:20240616
DTSTAMP:20260422T015412
CREATED:20240529T083951Z
LAST-MODIFIED:20240529T084249Z
UID:131153-1717286400-1718495999@merida.es
SUMMARY:Festival Nacional de Teatro Amateur 'Mérida en Escena'
DESCRIPTION:Mérida acogerá del 2 al 15 de junio la primera edición del Festival Nacional de Teatro Amateur ‘Mérida en Escena’ en el que se pondrán en escena un total de cuatro obras teatrales contemporáneas de las 97 que se presentaron a la preselección.  \nEl domingo 2 de junio se representará la obra ‘Los 80 son nuestros’ de Ana Diosdado. Será en el Centro Cultural de La Antigua a cargo de la compañía ‘Platea’ de Castilla la Mancha. Es un drama de 90’ de duración que arranca en la Nochevieja de 1.989. Es una historia sobre la juventud en el momento más dulce\, más vibrante y más vulnerable de la vida. Se trata de un retrato de una generación en nuestro país. \nEl miércoles 5 de junio el Centro Cultural de Nueva ciudad acoge ‘De tripas corazón’ de María José Stefanía. Una comedia negra de ‘Garnacha Teatro’ de 75’ de duración que versa sobre la partición y repartición de los restos mortales de Teresa de Cepeda y Ahumada. Las Hermanas de Teresa lucharán para evitar el desmembramiento de su cadáver\, y los personajes de Abadesa\, Cirujano y Mercader que encarnarán toda la codicia de la que somos capaces. Ambientada tres años después de su muerte\, presenta varios espacios\, a los que transitarán ágilmente mediante proyecciones sobre un ciclorama\, creando toda la frialdad y la incertidumbre que precisa el montaje.  \nEl sábado 8 de junio se estrena en el Centro Cultural La Antigua ‘Losers’ de Marta Buchaca de la compañía ‘A la Tardada’ de Aragón. Es una comedia de 60’ que relata de una forma sarcástica repleta de buen humor la situación a la que muchas personas se pueden encontrar en algún momento de sus vidas por culpa de la presión social. Cuenta la sinopsis que estar soltero a los veinte está bien visto\, pero a los cuarenta es sinónimo de que hay algo en ti que no funciona del todo bien. \nEl domingo 9 de junio le toca el turno a ‘Enemigo del Pueblo’ de Florián Recio. Comedia extremeña de ‘De la Burla Teatro’ que tiene una duración de 62’. Se representará en el Centro Cultural de Nueva Ciudad. ¡Hacer un juicio a Dios? Es ridículo\, gracioso\, irrespetuoso para según quién\, caricaturesco\, loco y raro\, muy raro. Y para más “inri”\, fue un hecho real\, el juicio se celebró en su día\, con todos los componentes reales de un juicio\, menos el acusado\, claro\, que no se presentó\, ¿puede haber algo más surrealista que este juicio? Por eso ‘De la Burla’ representa esta locura\, el reto de lo absurdo nos invoca. \nPor último\, habrá una Gala de Clausura el sábado 15 de junio en el Teatro María Luisa. En dicha gala\, que será presentada por ‘Emerita Theatrum’ y dirigida por Jesús Manchón\, se entregarán los premios a Mejor Grupo\, Mejor Dirección\, Mejor Interpretación\, Mejor Escenografía y Ambientación Técnica\, Premio Especial del Público y Mejor autoría y accésit. \nEl festival está organizado por la Federación Extremeña de Teatro de Extremadura (FATEX) junto al Ayuntamiento de Mérida y cuenta con la colaboración del Instituto Nacional de las Artes Escénicas y de la Música\, INAEM\, y de EscenaAmateur. \nMás información: https://meridaenescena.es/
URL:https://merida.es/agenda/festival-nacional-teatro-amateur-merida-en-escena/
LOCATION:Varios puntos de la ciudad\, Mérida
CATEGORIES:Teatro
ATTACH;FMTTYPE=image/jpeg:https://merida.es/wp-content/uploads/2024/05/2024-festival-teatro-amateur-peq.jpg
END:VEVENT
BEGIN:VEVENT
DTSTART;TZID=Europe/Madrid:20240602T203000
DTEND;TZID=Europe/Madrid:20240602T203000
DTSTAMP:20260422T015412
CREATED:20240529T092938Z
LAST-MODIFIED:20240529T094231Z
UID:131155-1717360200-1717360200@merida.es
SUMMARY:Festival Nacional de Teatro Amateur: "Los 80 son nuestros"
DESCRIPTION:LOS 80 SON NUESTROS \nTexto: Ana Diosdado\nCompañia: Platea Teatro de FETEACLM (Castilla La Mancha) \nGénero: Drama\nDuración: 90 minutos \nDirección: Alberto Palacios\nReparto: Cristina Carrasco\, Carlos González\, Alejandra Bonillo\, Sergio Piedra\, Alba Crespo\, Fernando Redondo\, Julián Descalzo\, Alberto Redondo \nNochevieja de 1989. Una historia sobre la juventud en el momento más dulce\, más vibrante y más vulnerable de la vida. \nClásico contemporáneo\, retrato de una generación en nuestro país\, un país que se creía adulto y maduro\, pero era apenas un iniciado en la convivencia libre\, diversa y pacífica que se supone conlleva la democracia. \nDomingo 2 de junio. 20:30 horas. Centro Cultural La Antigua. Entrada libre hasta completar aforo. \nRepresentación perteneciente a la primera edición del Festival Nacional de Teatro Amateur ‘Mérida en Escena’
URL:https://merida.es/agenda/festival-nacional-de-teatro-amateur-los-80-son-nuestros/
LOCATION:Centro Cultural La Antigua\, Calle Nerja s/n\, Mérida\, Badajoz\, 06800\, Spain
CATEGORIES:Teatro
ATTACH;FMTTYPE=image/jpeg:https://merida.es/wp-content/uploads/2024/05/2024-teatro-los80-son-nuestros-peq.jpg
END:VEVENT
BEGIN:VEVENT
DTSTART;TZID=Europe/Madrid:20240602T221500
DTEND;TZID=Europe/Madrid:20240602T221500
DTSTAMP:20260422T015412
CREATED:20240126T235358Z
LAST-MODIFIED:20240126T235358Z
UID:127826-1717366500-1717366500@merida.es
SUMMARY:Stone & Music Festival: "Raphael"
DESCRIPTION:Poco se puede decir ya de una leyenda como Raphael. La relación entre el artista linarense y el Stone comenzó en la primera edición del festival\, en 2016\, y desde entonces son ya cuatro las noches en la que el público del Teatro Romano ha podido disfrutar de su talento y amor por la música. \nRaphael volverá el 2 de junio a su casa\, el Teatro Romano de Mérida\, con su ‘Tour Victoria 2024’ para repasar los grandes éxitos de su extenso y aclamado repertorio. Acaba de publicar su último disco\, que reúne las 30 canciones de la ‘Gira Victoria’ en su versión de estudio\, además de otros tres temas inéditos escritos y producidos por Pablo López. \nEntradas: https://www.eventsentradas.com
URL:https://merida.es/agenda/stone-music-festival-raphael-2/
LOCATION:Teatro Romano\, Plaza de Margarita Xirgú\, Mérida
CATEGORIES:Música
ATTACH;FMTTYPE=image/jpeg:https://merida.es/wp-content/uploads/2024/01/2024-stone-raphael-peq.jpg
END:VEVENT
END:VCALENDAR