﻿BEGIN:VCALENDAR
VERSION:2.0
PRODID:-//Ayuntamiento de Mérida - ECPv6.15.17.1//NONSGML v1.0//EN
CALSCALE:GREGORIAN
METHOD:PUBLISH
X-WR-CALNAME:Ayuntamiento de Mérida
X-ORIGINAL-URL:https://merida.es
X-WR-CALDESC:Eventos para Ayuntamiento de Mérida
REFRESH-INTERVAL;VALUE=DURATION:PT1H
X-Robots-Tag:noindex
X-PUBLISHED-TTL:PT1H
BEGIN:VTIMEZONE
TZID:Europe/Madrid
BEGIN:DAYLIGHT
TZOFFSETFROM:+0100
TZOFFSETTO:+0200
TZNAME:CEST
DTSTART:20230326T010000
END:DAYLIGHT
BEGIN:STANDARD
TZOFFSETFROM:+0200
TZOFFSETTO:+0100
TZNAME:CET
DTSTART:20231029T010000
END:STANDARD
BEGIN:DAYLIGHT
TZOFFSETFROM:+0100
TZOFFSETTO:+0200
TZNAME:CEST
DTSTART:20240331T010000
END:DAYLIGHT
BEGIN:STANDARD
TZOFFSETFROM:+0200
TZOFFSETTO:+0100
TZNAME:CET
DTSTART:20241027T010000
END:STANDARD
BEGIN:DAYLIGHT
TZOFFSETFROM:+0100
TZOFFSETTO:+0200
TZNAME:CEST
DTSTART:20250330T010000
END:DAYLIGHT
BEGIN:STANDARD
TZOFFSETFROM:+0200
TZOFFSETTO:+0100
TZNAME:CET
DTSTART:20251026T010000
END:STANDARD
END:VTIMEZONE
BEGIN:VEVENT
DTSTART;VALUE=DATE:20240601
DTEND;VALUE=DATE:20240914
DTSTAMP:20260422T045145
CREATED:20231228T234119Z
LAST-MODIFIED:20240628T084024Z
UID:127193-1717200000-1726271999@merida.es
SUMMARY:Stone & Music Festival 2024
DESCRIPTION:En el año 2024\, el Stone Music Festival celebrará su novena edición para el que volverá a contar con artistas nacionales e internacionales de primer nivel. Como novedad\, este año\, el Festival programará conciertos en el mes de junio. \nTodos los espectáculos presentados se llevarán a cabo en el marco del Teatro Romano de Mérida volviendo a unir patrimonio\, cultura y ocio en este monumento señero de Extremadura. \n• ISABEL PANTOJA – 1 de junio\n• RAPHAEL – 2 de junio\n• AMARAL – 7 de junio\n• THE BLACK CROWES – 9 de junio\n• STATUS QUO – 14 de junio\n• TOM JONES – 21 de junio\n• VÍCTOR MANUEL – 30 de agosto\n• MIKEL IZAL – 31 de agosto\n• LOS CHICHOS – 1 de septiembre\n• ARA MALIKIAN – 8 de septiembre\n• ÁLVARO DE LUNA Y MARLON – 13 de septiembre\n• MANUEL TURIZO – 14 de septiembre \nLas entradas para todos los espectáculos se pueden adquirir a través de la web oficial: stoneandmusicfestival.com.
URL:https://merida.es/agenda/stone-music-festival-2024/
LOCATION:Teatro Romano\, Plaza de Margarita Xirgú\, Mérida
CATEGORIES:Música
ATTACH;FMTTYPE=image/jpeg:https://merida.es/wp-content/uploads/2023/12/2024-stone-music-peq.jpg
END:VEVENT
BEGIN:VEVENT
DTSTART;VALUE=DATE:20240627
DTEND;VALUE=DATE:20240826
DTSTAMP:20260422T045145
CREATED:20240313T194137Z
LAST-MODIFIED:20240313T194156Z
UID:128991-1719446400-1724630399@merida.es
SUMMARY:70 Festival Internacional de Teatro Clásico 2024
DESCRIPTION:Entre el 27 de junio y el 25 de agosto de 2024 tendrá lugar la 70 edición del Festival Internacional de Teatro Clásico de Mérida que acogerá 9 espectáculos (7 estrenos) en el Teatro Romano y en el que volverá a repetir el Teatro María Luisa como extensión. \nEn esta ocasión\, el Festival se inaugurará los próximos días 27 y 29 de junio con una ópera: ‘Medea’\, una coproducción del Festival junto al Teatro Real\, con dirección de Paco Azorín y dirección musical de Andrés Salado (Orquesta de Extremadura). Esta obra supondrá el debut del Teatro Real en el Festival de Mérida. \nDel 3 al 7 de julio\, la comedia llegará de la mano de una producción del Festival con la compañía extremeña Verbo Producciones\, con una versión de Florián Recio sobre ‘La aparición’ de Menandro. \nRafael Álvarez “El Brujo” vuelve al Festival de Mérida del 10 al 14 de julio\, con ‘Iconos o la exploración del destino’\, que\, en palabras del propio autor\, “podría considerarse la tercera parte de una trilogía formada por Esquilo\, nacimiento y muerte de la tragedia y Los dioses y dios”\, que también se estrenaron en el Festival. \nUna versión de Francisco Nieva sobre ‘La Paz’ de Aristófanes\, del 17 al 21 de julio\, celebra el 100 aniversario del nacimiento del escritor y estará dirigida por Rakel Camacho. \nCerrando la programación de julio en el Teatro Romano\, Roberto Enríquez protagonizará junto a Carmen Conesa\, Alex Barahona\, Juan Díaz y María Ordóñez del 24 al 28 de julio\, ‘Coriolano’ de Shakespeare\, con adaptación y dirección de Antonio Simón. \nVictoria Abril se estrenará en el Teatro Romano de Mérida protagonizando una versión de ‘Medusa’\, del 31 de julio al 4 de agosto y del 7 al 11 de agosto. La gran intérprete se subirá al escenario junto a Natalia Millán\, Adrián Lastra y Ruth Lorenzo\, dirigidos por José María del Castillo. \nLa danza estará presente también en esta 70ª edición con el Ballet de Blanca Li y su espectáculo ‘Dido y Eneas’\, que se representará el próximo 6 de agosto en el Teatro Romano. \nLa programación de agosto continuará con Eusebio Poncela\, Óscar de la Fuente y Ana Fernández protagonizando ‘Tiresias’ del 14 al 18 de agosto con dirección de Carlota Ferrer\, en una coproducción entre Draft.inn Producciones y el Festival de Mérida. \nFinalmente\, para cerrar la programación del Teatro Romano\, llegará ‘Ifigenia’ del 21 al 25 de agosto con María Garralón y Juanjo Artero dirigidos por Eva Romero en esta coproducción del Festival de Mérida y Maribel Masón. \nEn esta tercera edición de la programación del Festival de Mérida en el Teatro María Luisa se acogerán un total de 7 espectáculos: ‘Monstruos. El prodigio de los dioses’ (6 de julio)\, una producción de la Prodigio Teatro con dirección de David Boceta y dramaturgia de Aurora Parrilla; ‘Coriolano’ (13 de julio) con dirección de Emilio del Valle\, una producción de Inconstantes Teatro; ‘Barrabás’ (20 de julio)\, con dirección de Armando del Río; ‘Lisístrata Montoya’ (27 de julio)\, un espectáculo de Gitanas A Escena; ‘Cassandra’ (28 de julio)\, una ópera de cámara con texto de Iñigo Guardamino y María Herrero; y\, finalmente\, para cerrar la programación del Teatro María Luisa\, el 3 de agosto llegará una versión de ‘Edipo Rey’ de la mano de la Compañía Bambalina Teatre (Valencia) y\, el 4 de agosto\, ‘Elektra 25’\, una producción de la Compañía Atalaya\, con dirección de Ricardo Iniesta. \nEste año disfrutaremos de nuevo con numerosas y diferentes actividades como cursos\, exposiciones y talleres\, propuestas infantiles y familiares\, como el pasacalles Dionisio y los cuentacuentos de Héroes y Heroínas\, que se celebrarán en distintos espacios de la ciudad emeritense\, e incluso\, del mundo\, como la exposición Theatrum Mundi que llevará en esta ocasión el nombre del Festival de Mérida hasta Nueva York. \nAdemás\, el Festival volverá a ser accesible\, con funciones audiodescritas\, subtituladas\, con bucle magnético y amplificadas con auriculares en el Teatro Romano y sus otras sedes. \nWeb oficial: https://www.festivaldemerida.es/
URL:https://merida.es/agenda/70-festival-internacional-de-teatro-clasico-2024/
LOCATION:Teatro Romano\, Plaza de Margarita Xirgú\, Mérida
CATEGORIES:Teatro
ATTACH;FMTTYPE=image/jpeg:https://merida.es/wp-content/uploads/2024/03/2024-festival-teatro-peq.jpg
END:VEVENT
BEGIN:VEVENT
DTSTART;VALUE=DATE:20240701
DTEND;VALUE=DATE:20240820
DTSTAMP:20260422T045145
CREATED:20240626T064939Z
LAST-MODIFIED:20240628T234624Z
UID:132016-1719792000-1724111999@merida.es
SUMMARY:Ciclo de cine 'Cinema Aestas 2024'
DESCRIPTION:El Pórtico del Foro volverá a acoger este año una nueva edición del ciclo de cine ‘Cinema Aestas’ como parte de la programación paralela del Festival de Teatro Clásico de Mérida que cuenta con la colaboración del Cine Club Forum. Todos los lunes de julio y agosto\, a partir de las 22:30 horas. Entrada: 3€ \nLa programación empezará el lunes 1 de julio con la película de animación ‘Robot Dreams’ a la que le seguirá el lunes 8 de julio el documental ‘Mapa a Pandataria’. El lunes 15 de julio\, podremos disfrutar del film argentino ‘Puan’ y el lunes 22 de julio de la película española\, ‘Teresa’. La programación de julio se cierra el lunes 29 con la película italiana ‘Yo\, capitán’ que se emitirá en VOSE. En agosto se podrán ver las películas ‘La casa’ el lunes 5 de agosto\, ‘Hasta el fin del mundo’ el lunes 12 de agosto (también en VOSE)\, cerrando la programación el clásico ‘La caída del Imperio Romano’ que debido a su duración adelanta el horario a las 21:30 horas. Esta última también se proyectará en VOSE. \nMás información: https://festivalcinemerida.com/cineclub/
URL:https://merida.es/agenda/ciclo-de-cine-cinema-aestas-2024/
LOCATION:Pórtico del Foro\, Calle Sagasta s/n\, Mérida\, Badajoz\, 06800\, Spain
CATEGORIES:Cine
ATTACH;FMTTYPE=image/jpeg:https://merida.es/wp-content/uploads/2024/06/2024-cinema-aestas-peq.jpg
END:VEVENT
BEGIN:VEVENT
DTSTART;VALUE=DATE:20240701
DTEND;VALUE=DATE:20240824
DTSTAMP:20260422T045145
CREATED:20240628T121610Z
LAST-MODIFIED:20240821T083701Z
UID:132103-1719792000-1724457599@merida.es
SUMMARY:Agusto en Mérida 2024
DESCRIPTION:Un año más\, el Festival de Teatro Clásico de Mérida apuesta por extender la cultura clásica a través de acciones lúdicas y artísticas que forman la programación de ‘Agusto en Mérida’\, que volverá a desarrollarse en múltiples espacios de la ciudad vinculados a su patrimonio arqueológico e histórico como son el Templo de Diana\, Parador de Mérida\, las Termas de Pontezuelas\, el Patio de los Naranjos de la Asamblea de Extremadura o el Pórtico del Foro. Este año\, además\, se incorpora el Teatro María Luisa. La programación de Agusto en Mérida 2024 está dirigida y gestionada por TAPTC? TEATRO \nMás información y venta de entradas: https://taptcteatro.com/
URL:https://merida.es/agenda/agusto-en-merida-2024/
LOCATION:Varios puntos de la ciudad\, Mérida
CATEGORIES:Danza,Teatro
ATTACH;FMTTYPE=image/jpeg:https://merida.es/wp-content/uploads/2024/06/2024-agusto-merida-peq.jpg
END:VEVENT
BEGIN:VEVENT
DTSTART;VALUE=DATE:20240701
DTEND;VALUE=DATE:20240826
DTSTAMP:20260422T045145
CREATED:20240703T094534Z
LAST-MODIFIED:20240703T094534Z
UID:132215-1719792000-1724630399@merida.es
SUMMARY:Exposición 'Ars Fatum. Diez años caminando por el destino del arte'
DESCRIPTION:Diseño y artesanía\, artesanía y diseño: el orden de los factores\, aquí\, no altera el producto. En este caso\, se presenta una colección de cerámica diseñada por Terracota Mérida y Samuel López-Lago\, que cumple diez años\, una década\, de la mano del Festival de Teatro Clásico de Mérida. \nArs Fatum es una colección que ha cosechado numerosos éxitos\, entre ellos\, la venta en el Museo Nacional Centro de Arte Reina Sofía\, ser finalista en los Premios Nacionales de Artesanía o su presencia en la Expo Internacional de Dubai 2020. Pero\, sin duda\, el logro más destacado es su vinculación durante siete años al Festival de Teatro Clásico de Mérida\, creando una máscara personalizada que refleja\, en cada edición\, el espíritu del festival. \nEsta exposición constituye una oportunidad única para adentrarse en la colección Ars Fatum\, con documentos inéditos hasta ahora\, incluyendo conversaciones y bocetos originales. Además\, se podrá admirar la colección completa de las quince venus originales con sus correspondientes láminas\, así como las siete venus de edición especial del festival. \nLa exposición se podrá ver en la Sede del Festival (Calle Santa Julia\, 5) del 1 de julio al 25 de agosto.
URL:https://merida.es/agenda/exposicion-ars-fatum-diez-anos-caminando-por-el-destino-del-arte/
LOCATION:Convento de Santa Clara (Sede del Consorcio y Festival de Mérida)\, Calle Santa Julia\, 5\, Mérida
CATEGORIES:Exposición
ATTACH;FMTTYPE=image/jpeg:https://merida.es/wp-content/uploads/2024/07/2024-expo-ars-fatum-peq.jpg
END:VEVENT
BEGIN:VEVENT
DTSTART;TZID=Europe/Madrid:20240819T213000
DTEND;TZID=Europe/Madrid:20240819T213000
DTSTAMP:20260422T045145
CREATED:20240715T070754Z
LAST-MODIFIED:20240715T070754Z
UID:132533-1724103000-1724103000@merida.es
SUMMARY:Cinema Aestas: "La caída del Imperio Romano"
DESCRIPTION:Título original: The Fall of the Roman Empire\nPaís: Estados Unidos\nAño: 1964\nDuración: 173’ \nDirección: Anthony Mann\nGuion: Ben Barzman\, Basilio Franchina\, Philip Yordan \nReparto: Sophia Loren\, Stephen Boyd\, Christopher Plummer\, Alec Guinness\, John Mason\, Mel Ferrer\, Omar Shariff \nGénero: Western \nSinopsis: Imperio Romano\, siglo II d.C. Marco Aurelio (160-181)\, el emperador filósofo\, fue el último gobernante de la Edad de Oro romana. Muy a su pesar\, tuvo que luchar contra diversos pueblos para defender las fronteras del Imperio. En política interior\, su sueño era restaurar las instituciones republicanas\, razón por la cual nombró sucesor a su protegido Livio\, en detrimento de su ambicioso y corrupto hijo Cómodo. Pero éste no aceptó la decisión de su padre y se apoderó del trono. (FILMAFFINITY) \nEntrada: 3€. \nSe emite en versión original con subtítulos. Apta para todos los públicos \nPelícula que forma parte del Ciclo ‘Cinema Aestas’ dentro de las actividades paralelas del Festival de Teatro Clásico de Mérida. Organiza Cine Club Forum
URL:https://merida.es/agenda/cinema-aestas-la-caida-del-imperio-romano/
LOCATION:Pórtico del Foro\, Calle Sagasta s/n\, Mérida\, Badajoz\, 06800\, Spain
CATEGORIES:Cine
ATTACH;FMTTYPE=image/jpeg:https://merida.es/wp-content/uploads/2024/07/caida-imperio-romano-peq.jpg
END:VEVENT
END:VCALENDAR