﻿BEGIN:VCALENDAR
VERSION:2.0
PRODID:-//Ayuntamiento de Mérida - ECPv6.15.17.1//NONSGML v1.0//EN
CALSCALE:GREGORIAN
METHOD:PUBLISH
X-ORIGINAL-URL:https://merida.es
X-WR-CALDESC:Eventos para Ayuntamiento de Mérida
REFRESH-INTERVAL;VALUE=DURATION:PT1H
X-Robots-Tag:noindex
X-PUBLISHED-TTL:PT1H
BEGIN:VTIMEZONE
TZID:Europe/Madrid
BEGIN:DAYLIGHT
TZOFFSETFROM:+0100
TZOFFSETTO:+0200
TZNAME:CEST
DTSTART:20230326T010000
END:DAYLIGHT
BEGIN:STANDARD
TZOFFSETFROM:+0200
TZOFFSETTO:+0100
TZNAME:CET
DTSTART:20231029T010000
END:STANDARD
BEGIN:DAYLIGHT
TZOFFSETFROM:+0100
TZOFFSETTO:+0200
TZNAME:CEST
DTSTART:20240331T010000
END:DAYLIGHT
BEGIN:STANDARD
TZOFFSETFROM:+0200
TZOFFSETTO:+0100
TZNAME:CET
DTSTART:20241027T010000
END:STANDARD
BEGIN:DAYLIGHT
TZOFFSETFROM:+0100
TZOFFSETTO:+0200
TZNAME:CEST
DTSTART:20250330T010000
END:DAYLIGHT
BEGIN:STANDARD
TZOFFSETFROM:+0200
TZOFFSETTO:+0100
TZNAME:CET
DTSTART:20251026T010000
END:STANDARD
END:VTIMEZONE
BEGIN:VEVENT
DTSTART;VALUE=DATE:20240601
DTEND;VALUE=DATE:20240914
DTSTAMP:20260422T015717
CREATED:20231228T234119Z
LAST-MODIFIED:20240628T084024Z
UID:127193-1717200000-1726271999@merida.es
SUMMARY:Stone & Music Festival 2024
DESCRIPTION:En el año 2024\, el Stone Music Festival celebrará su novena edición para el que volverá a contar con artistas nacionales e internacionales de primer nivel. Como novedad\, este año\, el Festival programará conciertos en el mes de junio. \nTodos los espectáculos presentados se llevarán a cabo en el marco del Teatro Romano de Mérida volviendo a unir patrimonio\, cultura y ocio en este monumento señero de Extremadura. \n• ISABEL PANTOJA – 1 de junio\n• RAPHAEL – 2 de junio\n• AMARAL – 7 de junio\n• THE BLACK CROWES – 9 de junio\n• STATUS QUO – 14 de junio\n• TOM JONES – 21 de junio\n• VÍCTOR MANUEL – 30 de agosto\n• MIKEL IZAL – 31 de agosto\n• LOS CHICHOS – 1 de septiembre\n• ARA MALIKIAN – 8 de septiembre\n• ÁLVARO DE LUNA Y MARLON – 13 de septiembre\n• MANUEL TURIZO – 14 de septiembre \nLas entradas para todos los espectáculos se pueden adquirir a través de la web oficial: stoneandmusicfestival.com.
URL:https://merida.es/agenda/stone-music-festival-2024/
LOCATION:Teatro Romano\, Plaza de Margarita Xirgú\, Mérida
CATEGORIES:Música
ATTACH;FMTTYPE=image/jpeg:https://merida.es/wp-content/uploads/2023/12/2024-stone-music-peq.jpg
END:VEVENT
BEGIN:VEVENT
DTSTART;VALUE=DATE:20240827
DTEND;VALUE=DATE:20240903
DTSTAMP:20260422T015717
CREATED:20240319T231019Z
LAST-MODIFIED:20240826T073510Z
UID:129186-1724716800-1725321599@merida.es
SUMMARY:Feria y Fiestas de Mérida 2024
DESCRIPTION:Del martes 27 de agosto al lunes 2 de septiembre se celebrará la Feria y Fiestas de Mérida 2024 que volverá a contar\, en el recinto ferial\, con las casetas de diferentes colectivos y asociaciones de la ciudad\, discotecas\, atracciones infantiles y de mayores\, tómbolas\, puestos de comida y juguetes\, etc. \nLa inauguración tendrá lugar el martes 27 de agosto\, a las 21:30 horas\, con el encendido extraordinario de la Portada del Recinto Ferial a cargo del presidente de la Asociación Asociación Virgen y Mártir Santa Eulalia\, Luis Miguel González \nHay que destacar la Caseta Municipal que con más de 2.000 m2\, concentra diferentes actuaciones musicales y actividades todos los días tanto al mediodía como por la noche; y El Cortijo Extremeño\, donde se muestra Folklore de la región. \nEntre los conciertos de la Feria hay que destacar los de Antílopez\, el miércoles 28 de agosto; María Peláe el jueves 29 de agosto; y En Guardia\, el viernes 30\, todos ellos\, en la Plaza de España\, con entrada gratuita. A ellos hay que sumarles los conciertos de Victor Manuel junto a la Orquesta de Extremadura (30 de agosto)\, Mikel Izal (31 de agosto) y Los Chichos (1 de septiembre) correspondientes al Stone Music Festival. \nEntre las actividades deportivas se encuentran el clásico Día de la Bicicleta que tendrá lugar el domingo 1 de septiembre\, a partir de las 18:30 horas\, los Torneos de Tenis\, Tenis de Mesa y Golf y el tradicional Fondo Popular que tendrá lugar unos días más tarde\, el sábado 14 de septiembre. \nLa Feria contará con Tramo sin Ruidos todos los días de 20:00 a 22:00 horas y la presencia de Cruz Roja que facilitará pulseras con los nombres para los más pequeños. El miércoles 28 de agosto se celebrará el Día de la Infancia con descuentos en las atracciones \nLa Feria termina con una exhibición de fuegos artificiales el último día\, lunes 2 de septiembre\, a las 24:00 horas. \n\n					ProgramaPrograma Lectura FácilRevista OficialPlano Cognitivo Recinto Ferial
URL:https://merida.es/agenda/feria-merida-2024/
LOCATION:Recinto Ferial\, Mérida
CATEGORIES:Feria,Ocio
ATTACH;FMTTYPE=image/jpeg:https://merida.es/wp-content/uploads/2024/03/2024-feria-peq.jpg
END:VEVENT
BEGIN:VEVENT
DTSTART;TZID=Europe/Madrid:20240901T100000
DTEND;TZID=Europe/Madrid:20240901T100000
DTSTAMP:20260422T015717
CREATED:20240816T103632Z
LAST-MODIFIED:20240816T103632Z
UID:133155-1725184800-1725184800@merida.es
SUMMARY:Torneo Tenis de Mesa Feria de Mérida
DESCRIPTION:El 1 de septiembre\, a partir de las 10:00 horas\, el Pabellón Diocles acoge el Torneo Tenis de Mesa de Feria. Inscripción: 10€.\nOrganiza Merida Tenis De Mesa
URL:https://merida.es/agenda/torneo-tenis-de-mesa-feria-de-merida/
LOCATION:Complejo Polideportivo Diocles\, Calle Luis Buñuel\, s/n\, Mérida\, 06800
ATTACH;FMTTYPE=image/jpeg:https://merida.es/wp-content/uploads/2024/08/2024-tenis-mesa-peq.jpg
END:VEVENT
BEGIN:VEVENT
DTSTART;TZID=Europe/Madrid:20240901T120000
DTEND;TZID=Europe/Madrid:20240901T200000
DTSTAMP:20260422T015717
CREATED:20240819T091742Z
LAST-MODIFIED:20240821T094011Z
UID:133162-1725192000-1725220800@merida.es
SUMMARY:VII Patas al Agua
DESCRIPTION:El domingo 1 de septiembre\, de 12 a 20 horas\, la piscina del Complejo Polideportivo Guadiana acogerá el ‘VII Patas al Agua’ que organiza la asociación ACUDAME con la colaboración del Ayuntamiento. El precio de la entrada para adultos es de 4 euros\, los perros 3 euros\, los menores de entre 2 y 14 años pagan 2 euros y menores de 2 años gratis. \nCada persona mayor de 18 años podrá asistir o bien solo o con un máximo de dos perros\, además\, deberá llevar la cartilla sanitaria del perro\, no permitiéndose la entrada sin presentar el documento. En la entrada\, se comprobará que el animal tenga microchip\, que se encuentre al día de la vacuna de la rabia\, enfermedades y su desparasitación; y estará prohibida la entrada de hembras en celo y perros no sociables con otros perros.
URL:https://merida.es/agenda/vii-patas-al-agua/
LOCATION:Complejo Polideportivo Guadiana\, Avenida de la Constitución\, s/n\, Mérida
CATEGORIES:Ocio,Otros
ATTACH;FMTTYPE=image/jpeg:https://merida.es/wp-content/uploads/2024/08/2024-patas-al-agua-peq.jpg
END:VEVENT
BEGIN:VEVENT
DTSTART;TZID=Europe/Madrid:20240901T183000
DTEND;TZID=Europe/Madrid:20240901T183000
DTSTAMP:20260422T015717
CREATED:20240813T092752Z
LAST-MODIFIED:20240813T092752Z
UID:133085-1725215400-1725215400@merida.es
SUMMARY:Día de la Bicicleta 2024
DESCRIPTION:La Feria de Mérida celebra\, el próximo domingo 1 de septiembre de 2024\, a las 18:30 horas\, el tradicional Día de la bicicleta\, actividad de carácter familiar lúdica-festiva. La misma tendrá la salida y meta en la Plaza Margarita Xirgu \nLas inscripciones gratuitas se podrán realizar hasta el viernes 30 de agosto\, a las 14:00 horas\, en www.ciclismoextremadura.es \nLa recogida de dorsales se podrá realizar del 26 al 30 de agosto en la sede de la Federación Extremeña de Ciclismo\, en la calle Platón s/n en horario de 9\,30 a 13\,30 horas y el mismo 1 de septiembre\, día de la carrera\, de 16:45 a 18:15 horas\, en la Plaza Margarita Xirgu. \nEl recorrido\, de 5 kilómetros de longitud\, será por la calle Cabo Verde\, San Lázaro\, Parque de Albarregas\, Parque del Guadiana hasta la isla y vuelta\, Puente Romano\, calle Cava\, Plaza de\, Rastro\, Romero Leal\, Sagasta\, José Ramón Mélida y plaza de Margarita Xirgu. \nEs obligatorio que los participantes lleven el casco reglamentario. Además\, el ayuntamiento sorteará 2 bicicletas al finalizar la carrera. \nOrganizan el Club Ciclista de Mérida y Ayuntamiento de Mérida con la colaboración de la Federación Extremeña de Ciclismo.
URL:https://merida.es/agenda/dia-de-la-bicicleta-2024/
LOCATION:Recorrido Urbano\, Mérida
CATEGORIES:Deporte
ATTACH;FMTTYPE=image/jpeg:https://merida.es/wp-content/uploads/2024/08/2024-dia-bicicleta-feria-peq.jpg
END:VEVENT
BEGIN:VEVENT
DTSTART;TZID=Europe/Madrid:20240901T221500
DTEND;TZID=Europe/Madrid:20240901T221500
DTSTAMP:20260422T015717
CREATED:20240127T002742Z
LAST-MODIFIED:20240127T002742Z
UID:127844-1725228900-1725228900@merida.es
SUMMARY:Stone & Music Festival: "Los Chichos"
DESCRIPTION:El icónico trío es otro de esos grupos referentes para varias generaciones. Los Chichos llegarán a Mérida con su gira de despedida para decir adiós a una andadura musical que comenzaron en 1974 con la publicación de su primer disco ‘Ni más ni menos’. \nUna jornada\, la del 1 de septiembre\, en la que el público del STONE&MUSIC Festival disfrutará de un concierto que promete ser una fiesta y que a buen seguro pondrá a bailar a todo el graderío del Teatro Romano. \nEntradas: https://www.eventsentradas.com
URL:https://merida.es/agenda/stone-music-festival-los-chichos/
LOCATION:Teatro Romano\, Plaza de Margarita Xirgú\, Mérida
CATEGORIES:Música
ATTACH;FMTTYPE=image/jpeg:https://merida.es/wp-content/uploads/2024/01/2024-stone-los-chichos-peq.jpg
END:VEVENT
END:VCALENDAR