﻿BEGIN:VCALENDAR
VERSION:2.0
PRODID:-//Ayuntamiento de Mérida - ECPv6.15.17.1//NONSGML v1.0//EN
CALSCALE:GREGORIAN
METHOD:PUBLISH
X-WR-CALNAME:Ayuntamiento de Mérida
X-ORIGINAL-URL:https://merida.es
X-WR-CALDESC:Eventos para Ayuntamiento de Mérida
REFRESH-INTERVAL;VALUE=DURATION:PT1H
X-Robots-Tag:noindex
X-PUBLISHED-TTL:PT1H
BEGIN:VTIMEZONE
TZID:Europe/Madrid
BEGIN:DAYLIGHT
TZOFFSETFROM:+0100
TZOFFSETTO:+0200
TZNAME:CEST
DTSTART:20230326T010000
END:DAYLIGHT
BEGIN:STANDARD
TZOFFSETFROM:+0200
TZOFFSETTO:+0100
TZNAME:CET
DTSTART:20231029T010000
END:STANDARD
BEGIN:DAYLIGHT
TZOFFSETFROM:+0100
TZOFFSETTO:+0200
TZNAME:CEST
DTSTART:20240331T010000
END:DAYLIGHT
BEGIN:STANDARD
TZOFFSETFROM:+0200
TZOFFSETTO:+0100
TZNAME:CET
DTSTART:20241027T010000
END:STANDARD
BEGIN:DAYLIGHT
TZOFFSETFROM:+0100
TZOFFSETTO:+0200
TZNAME:CEST
DTSTART:20250330T010000
END:DAYLIGHT
BEGIN:STANDARD
TZOFFSETFROM:+0200
TZOFFSETTO:+0100
TZNAME:CET
DTSTART:20251026T010000
END:STANDARD
END:VTIMEZONE
BEGIN:VEVENT
DTSTART;VALUE=DATE:20240601
DTEND;VALUE=DATE:20240914
DTSTAMP:20260422T015521
CREATED:20231228T234119Z
LAST-MODIFIED:20240628T084024Z
UID:127193-1717200000-1726271999@merida.es
SUMMARY:Stone & Music Festival 2024
DESCRIPTION:En el año 2024\, el Stone Music Festival celebrará su novena edición para el que volverá a contar con artistas nacionales e internacionales de primer nivel. Como novedad\, este año\, el Festival programará conciertos en el mes de junio. \nTodos los espectáculos presentados se llevarán a cabo en el marco del Teatro Romano de Mérida volviendo a unir patrimonio\, cultura y ocio en este monumento señero de Extremadura. \n• ISABEL PANTOJA – 1 de junio\n• RAPHAEL – 2 de junio\n• AMARAL – 7 de junio\n• THE BLACK CROWES – 9 de junio\n• STATUS QUO – 14 de junio\n• TOM JONES – 21 de junio\n• VÍCTOR MANUEL – 30 de agosto\n• MIKEL IZAL – 31 de agosto\n• LOS CHICHOS – 1 de septiembre\n• ARA MALIKIAN – 8 de septiembre\n• ÁLVARO DE LUNA Y MARLON – 13 de septiembre\n• MANUEL TURIZO – 14 de septiembre \nLas entradas para todos los espectáculos se pueden adquirir a través de la web oficial: stoneandmusicfestival.com.
URL:https://merida.es/agenda/stone-music-festival-2024/
LOCATION:Teatro Romano\, Plaza de Margarita Xirgú\, Mérida
CATEGORIES:Música
ATTACH;FMTTYPE=image/jpeg:https://merida.es/wp-content/uploads/2023/12/2024-stone-music-peq.jpg
END:VEVENT
BEGIN:VEVENT
DTSTART;VALUE=DATE:20240903
DTEND;VALUE=DATE:20240928
DTSTAMP:20260422T015521
CREATED:20240905T102616Z
LAST-MODIFIED:20240905T102616Z
UID:133425-1725321600-1727481599@merida.es
SUMMARY:Exposición 'Querer imaginar' de José Paulette
DESCRIPTION:Del 3 al 27 de septiembre se puede visitar\, en el Centro Cultural Santo Domingo\, la exposición ‘Querer imaginar’ de José Paulette compuesta por cuadros de técnica mixta\, borradores y cuadernos de trabajo. Paulette subraya con esta selección de obras el hecho de «dejar un testimonio de una virtud decisiva\, una aptitud creadora\, que ahora conlleva la comunicación entre sensibilidades diferentes\, el creador y el espectador. En ese juego de espejos confluyen dos miradas\, una hacia fuera y la otra hacia dentro\, transfigurándose en dos realidades que se solapan en una».
URL:https://merida.es/agenda/exposicion-querer-imaginar-de-jose-paulette/
LOCATION:Centro Cultural Santo Domingo Fundación CB\, Plaza de Santo Domingo\, s/n\, Mérida
CATEGORIES:Exposición
ATTACH;FMTTYPE=image/jpeg:https://merida.es/wp-content/uploads/2024/09/expo-querer-imaginar-peq.jpg
END:VEVENT
BEGIN:VEVENT
DTSTART;VALUE=DATE:20240905
DTEND;VALUE=DATE:20240909
DTSTAMP:20260422T015521
CREATED:20240830T112639Z
LAST-MODIFIED:20240830T112716Z
UID:133319-1725494400-1725839999@merida.es
SUMMARY:Festival Mundial de FoodTrucks
DESCRIPTION:Del jueves 5 al domingo 8 de septiembre\, el Acueducto de Los Milagros acogerá el Festival Mundial de FoodTrucks\, un evento en el que se podrá degustar la mejor comida local e internacional y que también tendrá música en vivo y actividades infantiles. \nEl evento tendrá foodtrucks que traen gastronomías de otros países\, como Bagels Canadiendes y comida japonesa urbana\, además de comidas de distintas nacionalidades como Argentina\, Tailandia\, Puerto Rico\, España\, Estados Unidos\, Cuba\, Alemania\, Uruguay\, Italia\, México\, Venezuela\, con especialidades como el Pulle Pork\, el taco mexicano\, plátano frito y sandwich cubano\, pollo espaciado de Puerto Rico\, la Pinsa italiana\, los woks tahilandeses\, las hamburguesas smash típicas de Estados Unidos\, o las arepas venezolanas. \nTodo ello\, estará amenizado con conciertos de distintos géneros musicales\, sonido\, iluminación y decoración profesional\, shows infantiles para los niños\, además del mejor ambiente street food y el marco incomparable de la ubicación del evento en el Acueducto de los Milagros.
URL:https://merida.es/agenda/festival-mundial-de-foodtrucks/
LOCATION:Acueducto de Los Milagros\, Av. de Via de la Plata s/n\, Mérida
ATTACH;FMTTYPE=image/jpeg:https://merida.es/wp-content/uploads/2024/08/2024-foodtruks-peq.jpg
END:VEVENT
END:VCALENDAR