﻿BEGIN:VCALENDAR
VERSION:2.0
PRODID:-//Ayuntamiento de Mérida - ECPv6.15.17.1//NONSGML v1.0//EN
CALSCALE:GREGORIAN
METHOD:PUBLISH
X-ORIGINAL-URL:https://merida.es
X-WR-CALDESC:Eventos para Ayuntamiento de Mérida
REFRESH-INTERVAL;VALUE=DURATION:PT1H
X-Robots-Tag:noindex
X-PUBLISHED-TTL:PT1H
BEGIN:VTIMEZONE
TZID:Europe/Madrid
BEGIN:DAYLIGHT
TZOFFSETFROM:+0100
TZOFFSETTO:+0200
TZNAME:CEST
DTSTART:20230326T010000
END:DAYLIGHT
BEGIN:STANDARD
TZOFFSETFROM:+0200
TZOFFSETTO:+0100
TZNAME:CET
DTSTART:20231029T010000
END:STANDARD
BEGIN:DAYLIGHT
TZOFFSETFROM:+0100
TZOFFSETTO:+0200
TZNAME:CEST
DTSTART:20240331T010000
END:DAYLIGHT
BEGIN:STANDARD
TZOFFSETFROM:+0200
TZOFFSETTO:+0100
TZNAME:CET
DTSTART:20241027T010000
END:STANDARD
BEGIN:DAYLIGHT
TZOFFSETFROM:+0100
TZOFFSETTO:+0200
TZNAME:CEST
DTSTART:20250330T010000
END:DAYLIGHT
BEGIN:STANDARD
TZOFFSETFROM:+0200
TZOFFSETTO:+0100
TZNAME:CET
DTSTART:20251026T010000
END:STANDARD
END:VTIMEZONE
BEGIN:VEVENT
DTSTART;VALUE=DATE:20240903
DTEND;VALUE=DATE:20240928
DTSTAMP:20260422T015650
CREATED:20240905T102616Z
LAST-MODIFIED:20240905T102616Z
UID:133425-1725321600-1727481599@merida.es
SUMMARY:Exposición 'Querer imaginar' de José Paulette
DESCRIPTION:Del 3 al 27 de septiembre se puede visitar\, en el Centro Cultural Santo Domingo\, la exposición ‘Querer imaginar’ de José Paulette compuesta por cuadros de técnica mixta\, borradores y cuadernos de trabajo. Paulette subraya con esta selección de obras el hecho de «dejar un testimonio de una virtud decisiva\, una aptitud creadora\, que ahora conlleva la comunicación entre sensibilidades diferentes\, el creador y el espectador. En ese juego de espejos confluyen dos miradas\, una hacia fuera y la otra hacia dentro\, transfigurándose en dos realidades que se solapan en una».
URL:https://merida.es/agenda/exposicion-querer-imaginar-de-jose-paulette/
LOCATION:Centro Cultural Santo Domingo Fundación CB\, Plaza de Santo Domingo\, s/n\, Mérida
CATEGORIES:Exposición
ATTACH;FMTTYPE=image/jpeg:https://merida.es/wp-content/uploads/2024/09/expo-querer-imaginar-peq.jpg
END:VEVENT
BEGIN:VEVENT
DTSTART;VALUE=DATE:20240913
DTEND;VALUE=DATE:20240916
DTSTAMP:20260422T015650
CREATED:20240912T090200Z
LAST-MODIFIED:20240912T090200Z
UID:133570-1726185600-1726444799@merida.es
SUMMARY:XXIV Campeonato de Extremadura de Pádel
DESCRIPTION:La XXIV edición del Campeonato de Extremadura Absoluto de Pádel se disputará del 13 al 15 de septiembre en las instalaciones del Club Es+padel\, con el Club Auxiliar Es+padel Center. Los mejores jugadores extremeños lucharán por ser los campeones de Extremadura 2024. \nMás información: https://fexpadel.com/
URL:https://merida.es/agenda/xxiv-campeonato-de-extremadura-de-padel/
LOCATION:Club Es+Pádel\, C. Granada\, 6B\, Mérida\, Badajoz\, 06800\, Spain
CATEGORIES:Deporte
ATTACH;FMTTYPE=image/png:https://merida.es/wp-content/uploads/2024/09/2024-padel-extremadura-peq.png
END:VEVENT
BEGIN:VEVENT
DTSTART;TZID=Europe/Madrid:20240915T180000
DTEND;TZID=Europe/Madrid:20240915T180000
DTSTAMP:20260422T015650
CREATED:20240913T105729Z
LAST-MODIFIED:20240913T105831Z
UID:133622-1726423200-1726423200@merida.es
SUMMARY:Teatro familiar: "¡Sí\, Chef!"
DESCRIPTION:DOMINGO Día 15 de septiembre de 2024. 18.00 horas \nEspectáculo: ¡Sí\, Chef!\nCompañía: Funambulus \nSinopsis: Periquete\, el afamado Chef del famoso restaurant la Pijoté\, el local de moda en la ciudad es un profesional puntilloso y preciso\, pero también ambicioso y ególatra que ansía por encima de todo su tercera estrella con lanzadera a la fama y la fortuna. \nAnte la inminente visita del inspector de la famosa guía Michelines el Chef se verá obligado a contratar los servicios de un ayudante: Gligli\, una singular aspirante a Chef que pondrá patas arriba la meticulosa metodología del cocinero y sin pretenderlo se convertirá en crucial protagonista en la carrera por la tan ansiada tercera estrella. \nDirección: Luis García\nIntérpretes: Luis García\, Silvia Gil \nDuración: 50 min.\nPúblico recomendado: Para todos los públicos. \nTaquilla: Entrada única 3€ (*Descuentos del 50% aplicable a: carnet estudiante\, carnet joven europeo\, personas jubiladas-pensionistas\, familia numerosa y personas en desempleo)\nHorario de taquilla: Días 14 de septiembre de 11.00 a 13:00h. y día 15 de septiembre de 11.00 a 13:00h. y de 16.00 a 18.00h.\nReservas en el email: salatrajanomerida@gmail.com
URL:https://merida.es/agenda/teatro-familiar-si-chef/
LOCATION:Sala Trajano\, Calle Muza\, 50\, Mérida
CATEGORIES:Infantil,Teatro
ATTACH;FMTTYPE=image/jpeg:https://merida.es/wp-content/uploads/2024/09/si-chef-peq.jpg
END:VEVENT
END:VCALENDAR