﻿BEGIN:VCALENDAR
VERSION:2.0
PRODID:-//Ayuntamiento de Mérida - ECPv6.15.17.1//NONSGML v1.0//EN
CALSCALE:GREGORIAN
METHOD:PUBLISH
X-ORIGINAL-URL:https://merida.es
X-WR-CALDESC:Eventos para Ayuntamiento de Mérida
REFRESH-INTERVAL;VALUE=DURATION:PT1H
X-Robots-Tag:noindex
X-PUBLISHED-TTL:PT1H
BEGIN:VTIMEZONE
TZID:Europe/Madrid
BEGIN:DAYLIGHT
TZOFFSETFROM:+0100
TZOFFSETTO:+0200
TZNAME:CEST
DTSTART:20230326T010000
END:DAYLIGHT
BEGIN:STANDARD
TZOFFSETFROM:+0200
TZOFFSETTO:+0100
TZNAME:CET
DTSTART:20231029T010000
END:STANDARD
BEGIN:DAYLIGHT
TZOFFSETFROM:+0100
TZOFFSETTO:+0200
TZNAME:CEST
DTSTART:20240331T010000
END:DAYLIGHT
BEGIN:STANDARD
TZOFFSETFROM:+0200
TZOFFSETTO:+0100
TZNAME:CET
DTSTART:20241027T010000
END:STANDARD
BEGIN:DAYLIGHT
TZOFFSETFROM:+0100
TZOFFSETTO:+0200
TZNAME:CEST
DTSTART:20250330T010000
END:DAYLIGHT
BEGIN:STANDARD
TZOFFSETFROM:+0200
TZOFFSETTO:+0100
TZNAME:CET
DTSTART:20251026T010000
END:STANDARD
END:VTIMEZONE
BEGIN:VEVENT
DTSTART;VALUE=DATE:20240903
DTEND;VALUE=DATE:20240928
DTSTAMP:20260422T015703
CREATED:20240905T102616Z
LAST-MODIFIED:20240905T102616Z
UID:133425-1725321600-1727481599@merida.es
SUMMARY:Exposición 'Querer imaginar' de José Paulette
DESCRIPTION:Del 3 al 27 de septiembre se puede visitar\, en el Centro Cultural Santo Domingo\, la exposición ‘Querer imaginar’ de José Paulette compuesta por cuadros de técnica mixta\, borradores y cuadernos de trabajo. Paulette subraya con esta selección de obras el hecho de «dejar un testimonio de una virtud decisiva\, una aptitud creadora\, que ahora conlleva la comunicación entre sensibilidades diferentes\, el creador y el espectador. En ese juego de espejos confluyen dos miradas\, una hacia fuera y la otra hacia dentro\, transfigurándose en dos realidades que se solapan en una».
URL:https://merida.es/agenda/exposicion-querer-imaginar-de-jose-paulette/
LOCATION:Centro Cultural Santo Domingo Fundación CB\, Plaza de Santo Domingo\, s/n\, Mérida
CATEGORIES:Exposición
ATTACH;FMTTYPE=image/jpeg:https://merida.es/wp-content/uploads/2024/09/expo-querer-imaginar-peq.jpg
END:VEVENT
BEGIN:VEVENT
DTSTART;VALUE=DATE:20240916
DTEND;VALUE=DATE:20240930
DTSTAMP:20260422T015703
CREATED:20240905T063533Z
LAST-MODIFIED:20240927T150050Z
UID:133406-1726444800-1727654399@merida.es
SUMMARY:Solemne Trecenario Santa Eulalia
DESCRIPTION:La Basílica de Santa Eulalia acogerá\, desde el 16 al 29 de septiembre\, el Solemne Trecenario de la Mártir Santa Eulalia\, trece días en los que se realizan los ejercicios sobre cada uno de los martirios de la Patrona. Entre las novedades de este año\, sólo habrá dos ejercicios\, uno a las 9:30 de la mañana y otro a las 20:00 horas que contará\, como viene siendo habitual\, con un sacerdote invitado. \nPara este año tan importante en el que se celebra el Año Jubilar Eulaliense\, el Trecenario va a tener un matiz totalmente distinto\, ya que los trece días van a ser predicados por personas importantes de la Iglesia\, el rector de la Basílica y el sacerdote adscrito a la Basílica\, cuatro Vicarios Generales (Coria-Cáceres\, Plasencia\, Mérida- Badajoz y Emérito)\, cuatro obispos (Coria-Cáceres\, Plasencia\, el auxiliar de Madrid\, el Emérito de Jaén) y tres Arzobispos\, (el Arzobispo de Toledo\, el Arzobispo Emérito de Mérida-Badajoz y el de Mérida-Badajoz). \nOtros actos de Santa Eulalia durante esos días serán el Via Martyrum que tendrá lugar el sábado 21 de septiembre por parte de las asociaciones recreacionistas Ara Concordiae y Emerita Antiqua\, así como los portadores de Santa Eulalia\, en el que se recreará el camino de Eulalia desde el Puente Romano hasta la Basílica de Santa Eulalia\, siendo los dos momentos más importantes la salida del Puente Romano y el Templo de Diana. \nEl Besamanos a la Martir tendrá lugar el 29 de septiembre\, de 17:00 a 21:30 horas\, de forma ininterrumpida\, en donde por primera vez\, la Mártir lucirá el traje de seda y plata del siglo XVIII que\, gracias al Ayuntamiento\, ha sido restaurado recientemente. Por último\, el 30 de septiembre tendrá lugar la Misa de Difuntos a las 20:30 horas.
URL:https://merida.es/agenda/solemne-trecenario-santa-eulalia/
LOCATION:Basílica de Santa Eulalia
CATEGORIES:Religión
ATTACH;FMTTYPE=image/jpeg:https://merida.es/wp-content/uploads/2024/09/2024-trecenario-santa-eulalia-peq.jpg
END:VEVENT
BEGIN:VEVENT
DTSTART;VALUE=DATE:20240918
DTEND;VALUE=DATE:20240922
DTSTAMP:20260422T015703
CREATED:20240917T060226Z
LAST-MODIFIED:20240917T060226Z
UID:133702-1726617600-1726963199@merida.es
SUMMARY:II Outlet Urbano 2024
DESCRIPTION:El Outlet Urbano se realiza desde el miércoles 18 al sábado 21 de septiembre de 2024 con la mayoría de empresas que integran la Asociación de Comerciantes Emérita Augusta. Se ofrecen stocks con rebajas de hasta el 80 por ciento.
URL:https://merida.es/agenda/ii-outlet-urbano-2024/
LOCATION:Varios establecimientos de la ciudad
CATEGORIES:Comercio
ATTACH;FMTTYPE=image/jpeg:https://merida.es/wp-content/uploads/2024/09/2024-outlet-urbano-ii-peq.jpg
END:VEVENT
BEGIN:VEVENT
DTSTART;VALUE=DATE:20240918
DTEND;VALUE=DATE:20241003
DTSTAMP:20260422T015703
CREATED:20240919T094546Z
LAST-MODIFIED:20240919T094546Z
UID:133796-1726617600-1727913599@merida.es
SUMMARY:Exposición "Pinceladas de la memoria" de Dolores García
DESCRIPTION:Del 18 de septiembre al 2 de octubre\, el Café Alaudae acoge la exposición «Pinceladas de la memoria» de la pintora autodidacta Dolores García Santos que en sus últimos años convivió con la enfermedad de Alzheimer. Organiza AFAM Mérida
URL:https://merida.es/agenda/exposicion-pinceladas-de-la-memoria-de-dolores-garcia/
LOCATION:Café Alaudae\, Calle José Martínez Ruiz-Azorín\, 41
CATEGORIES:Exposición
ATTACH;FMTTYPE=image/jpeg:https://merida.es/wp-content/uploads/2024/09/2024-pinceladas-memoria-peq.jpg
END:VEVENT
BEGIN:VEVENT
DTSTART;TZID=Europe/Madrid:20240919T203000
DTEND;TZID=Europe/Madrid:20240919T203000
DTSTAMP:20260422T015703
CREATED:20240905T101109Z
LAST-MODIFIED:20240905T101109Z
UID:133419-1726777800-1726777800@merida.es
SUMMARY:Cine Filmoteca: "Els encantats (Los encantados)"
DESCRIPTION:Título original: Els encantats\nPaís: España\nAño: 2023\nDuración: 108’ \nCiclo: Cine español \nDirección: Elena Trapé\nGuion:  Miguel Ibáñez Monroy\, Elena Trapé \nReparto: Laia Costa\, Daniel Pérez Prada\, Ainara Elejalde\, Pep Cruz\, Aina Clotet \nGénero: Drama \nSinopsis: Tras su reciente separación\, Irene se enfrenta por primera vez a la ausencia de su hija de cuatro años\, que está pasando unos días con su padre. Incapaz de adaptarse a esta nueva realidad\, decide viajar a un pequeño pueblo del pirineo catalán donde tiene una casa\, buscando recuperar la seguridad y la calma que siente que hace tiempo ha perdido. Pero el lugar\, que en el pasado fue tan familiar\, se presenta poco a poco tan abrumador como su nueva vida y la acabará forzando a dejar de huir para enfrentarse a sus miedos. \nEntrada: 1€.\nProgramación de la Filmoteca: http://filmotecaextremadura.juntaex.es
URL:https://merida.es/agenda/cine-filmoteca-els-encantats-los-encantados/
LOCATION:Centro Cultural Santo Domingo Fundación CB\, Plaza de Santo Domingo\, s/n\, Mérida
CATEGORIES:Cine
ATTACH;FMTTYPE=image/jpeg:https://merida.es/wp-content/uploads/2024/09/els_encantats-peq.jpg
END:VEVENT
BEGIN:VEVENT
DTSTART;TZID=Europe/Madrid:20240919T203000
DTEND;TZID=Europe/Madrid:20240919T203000
DTSTAMP:20260422T015703
CREATED:20240916T065017Z
LAST-MODIFIED:20240916T065017Z
UID:133643-1726777800-1726777800@merida.es
SUMMARY:XXXVIII Día del Museo Nacional de Arte Romano
DESCRIPTION:El Museo Nacional de Arte Romano organiza como cada 19 de septiembre el Día del Museo\, coincidiendo con la fecha en la que este fue inaugurado en la actual sede. Así\, para el XXXVIII Día del MNAR (1986-2024) están previstas las siguientes actividades. \n20:30 h. Entrega del XXXI Premio Internacional Genio Protector de la Colonia Augusta Emerita. \n21:30 – 22:30 h. Concierto MusaE. Darío Meta (pianista) que interpretará obras de Haydn\, Ravel\, Mozart y Beethoven \nNave principal. Entrada libre hasta completar aforo. Organizan Museo Nacional de Arte Romano\, Asociación Amigos Museo Arte Romano de Mérida\, Fundación de Estudios Romanos y Proyecto MusaE.
URL:https://merida.es/agenda/xxxviii-dia-del-museo-nacional-de-arte-romano/
LOCATION:Museo Nacional de Arte Romano\, Calle José Ramón Mélida\, Mérida\, Badajoz\, 06800\, España
CATEGORIES:Institucional,Música
ATTACH;FMTTYPE=image/jpeg:https://merida.es/wp-content/uploads/2024/09/2024-dia-museo-peq.jpg
END:VEVENT
END:VCALENDAR