﻿BEGIN:VCALENDAR
VERSION:2.0
PRODID:-//Ayuntamiento de Mérida - ECPv6.15.17.1//NONSGML v1.0//EN
CALSCALE:GREGORIAN
METHOD:PUBLISH
X-WR-CALNAME:Ayuntamiento de Mérida
X-ORIGINAL-URL:https://merida.es
X-WR-CALDESC:Eventos para Ayuntamiento de Mérida
REFRESH-INTERVAL;VALUE=DURATION:PT1H
X-Robots-Tag:noindex
X-PUBLISHED-TTL:PT1H
BEGIN:VTIMEZONE
TZID:Europe/Madrid
BEGIN:DAYLIGHT
TZOFFSETFROM:+0100
TZOFFSETTO:+0200
TZNAME:CEST
DTSTART:20230326T010000
END:DAYLIGHT
BEGIN:STANDARD
TZOFFSETFROM:+0200
TZOFFSETTO:+0100
TZNAME:CET
DTSTART:20231029T010000
END:STANDARD
BEGIN:DAYLIGHT
TZOFFSETFROM:+0100
TZOFFSETTO:+0200
TZNAME:CEST
DTSTART:20240331T010000
END:DAYLIGHT
BEGIN:STANDARD
TZOFFSETFROM:+0200
TZOFFSETTO:+0100
TZNAME:CET
DTSTART:20241027T010000
END:STANDARD
BEGIN:DAYLIGHT
TZOFFSETFROM:+0100
TZOFFSETTO:+0200
TZNAME:CEST
DTSTART:20250330T010000
END:DAYLIGHT
BEGIN:STANDARD
TZOFFSETFROM:+0200
TZOFFSETTO:+0100
TZNAME:CET
DTSTART:20251026T010000
END:STANDARD
END:VTIMEZONE
BEGIN:VEVENT
DTSTART;VALUE=DATE:20240903
DTEND;VALUE=DATE:20240928
DTSTAMP:20260422T015522
CREATED:20240905T102616Z
LAST-MODIFIED:20240905T102616Z
UID:133425-1725321600-1727481599@merida.es
SUMMARY:Exposición 'Querer imaginar' de José Paulette
DESCRIPTION:Del 3 al 27 de septiembre se puede visitar\, en el Centro Cultural Santo Domingo\, la exposición ‘Querer imaginar’ de José Paulette compuesta por cuadros de técnica mixta\, borradores y cuadernos de trabajo. Paulette subraya con esta selección de obras el hecho de «dejar un testimonio de una virtud decisiva\, una aptitud creadora\, que ahora conlleva la comunicación entre sensibilidades diferentes\, el creador y el espectador. En ese juego de espejos confluyen dos miradas\, una hacia fuera y la otra hacia dentro\, transfigurándose en dos realidades que se solapan en una».
URL:https://merida.es/agenda/exposicion-querer-imaginar-de-jose-paulette/
LOCATION:Centro Cultural Santo Domingo Fundación CB\, Plaza de Santo Domingo\, s/n\, Mérida
CATEGORIES:Exposición
ATTACH;FMTTYPE=image/jpeg:https://merida.es/wp-content/uploads/2024/09/expo-querer-imaginar-peq.jpg
END:VEVENT
BEGIN:VEVENT
DTSTART;VALUE=DATE:20240916
DTEND;VALUE=DATE:20240930
DTSTAMP:20260422T015522
CREATED:20240905T063533Z
LAST-MODIFIED:20240927T150050Z
UID:133406-1726444800-1727654399@merida.es
SUMMARY:Solemne Trecenario Santa Eulalia
DESCRIPTION:La Basílica de Santa Eulalia acogerá\, desde el 16 al 29 de septiembre\, el Solemne Trecenario de la Mártir Santa Eulalia\, trece días en los que se realizan los ejercicios sobre cada uno de los martirios de la Patrona. Entre las novedades de este año\, sólo habrá dos ejercicios\, uno a las 9:30 de la mañana y otro a las 20:00 horas que contará\, como viene siendo habitual\, con un sacerdote invitado. \nPara este año tan importante en el que se celebra el Año Jubilar Eulaliense\, el Trecenario va a tener un matiz totalmente distinto\, ya que los trece días van a ser predicados por personas importantes de la Iglesia\, el rector de la Basílica y el sacerdote adscrito a la Basílica\, cuatro Vicarios Generales (Coria-Cáceres\, Plasencia\, Mérida- Badajoz y Emérito)\, cuatro obispos (Coria-Cáceres\, Plasencia\, el auxiliar de Madrid\, el Emérito de Jaén) y tres Arzobispos\, (el Arzobispo de Toledo\, el Arzobispo Emérito de Mérida-Badajoz y el de Mérida-Badajoz). \nOtros actos de Santa Eulalia durante esos días serán el Via Martyrum que tendrá lugar el sábado 21 de septiembre por parte de las asociaciones recreacionistas Ara Concordiae y Emerita Antiqua\, así como los portadores de Santa Eulalia\, en el que se recreará el camino de Eulalia desde el Puente Romano hasta la Basílica de Santa Eulalia\, siendo los dos momentos más importantes la salida del Puente Romano y el Templo de Diana. \nEl Besamanos a la Martir tendrá lugar el 29 de septiembre\, de 17:00 a 21:30 horas\, de forma ininterrumpida\, en donde por primera vez\, la Mártir lucirá el traje de seda y plata del siglo XVIII que\, gracias al Ayuntamiento\, ha sido restaurado recientemente. Por último\, el 30 de septiembre tendrá lugar la Misa de Difuntos a las 20:30 horas.
URL:https://merida.es/agenda/solemne-trecenario-santa-eulalia/
LOCATION:Basílica de Santa Eulalia
CATEGORIES:Religión
ATTACH;FMTTYPE=image/jpeg:https://merida.es/wp-content/uploads/2024/09/2024-trecenario-santa-eulalia-peq.jpg
END:VEVENT
BEGIN:VEVENT
DTSTART;VALUE=DATE:20240918
DTEND;VALUE=DATE:20240922
DTSTAMP:20260422T015522
CREATED:20240917T060226Z
LAST-MODIFIED:20240917T060226Z
UID:133702-1726617600-1726963199@merida.es
SUMMARY:II Outlet Urbano 2024
DESCRIPTION:El Outlet Urbano se realiza desde el miércoles 18 al sábado 21 de septiembre de 2024 con la mayoría de empresas que integran la Asociación de Comerciantes Emérita Augusta. Se ofrecen stocks con rebajas de hasta el 80 por ciento.
URL:https://merida.es/agenda/ii-outlet-urbano-2024/
LOCATION:Varios establecimientos de la ciudad
CATEGORIES:Comercio
ATTACH;FMTTYPE=image/jpeg:https://merida.es/wp-content/uploads/2024/09/2024-outlet-urbano-ii-peq.jpg
END:VEVENT
BEGIN:VEVENT
DTSTART;VALUE=DATE:20240918
DTEND;VALUE=DATE:20241003
DTSTAMP:20260422T015522
CREATED:20240919T094546Z
LAST-MODIFIED:20240919T094546Z
UID:133796-1726617600-1727913599@merida.es
SUMMARY:Exposición "Pinceladas de la memoria" de Dolores García
DESCRIPTION:Del 18 de septiembre al 2 de octubre\, el Café Alaudae acoge la exposición «Pinceladas de la memoria» de la pintora autodidacta Dolores García Santos que en sus últimos años convivió con la enfermedad de Alzheimer. Organiza AFAM Mérida
URL:https://merida.es/agenda/exposicion-pinceladas-de-la-memoria-de-dolores-garcia/
LOCATION:Café Alaudae\, Calle José Martínez Ruiz-Azorín\, 41
CATEGORIES:Exposición
ATTACH;FMTTYPE=image/jpeg:https://merida.es/wp-content/uploads/2024/09/2024-pinceladas-memoria-peq.jpg
END:VEVENT
BEGIN:VEVENT
DTSTART;VALUE=DATE:20240920
DTEND;VALUE=DATE:20240922
DTSTAMP:20260422T015522
CREATED:20240909T221503Z
LAST-MODIFIED:20240910T070748Z
UID:133478-1726790400-1726963199@merida.es
SUMMARY:7 Sillas Fest
DESCRIPTION:El Parque de las Siete Sillas acogerá\, los próximos 20 y 21 de septiembre\, la I edición del 7 Sillas Fest\, una novedad en la agenda de eventos de la ciudad y que aprovechará un espacio natural de la ciudad\, al aire libre\, en el que ofrecerá ofrecerá rock y pop\, pero también garage\, rockabilly\, punk\, funk o rockin’ country blues. \nSe trata de un menú musical muy variado y enemigo de la monotonía\, en el que no habrá bandas repitiendo sonidos y actitudes\, haciendo un homenaje a los géneros musicales que han triunfado en Occidente en los últimos 75 años. Una fiesta callejera y familiar\, pero solvente y cualificada\, en la que se pretende que diversión y calidad vayan de la mano. Una buena oportunidad para ver a jóvenes y a mayores disfrutar juntos de las actuaciones porque la oferta musical no quiere apartados\, etiquetas ni facciones. \nLos Fusiles\, The Groovaloovas\, Kings of The Beach\, Howlin’ Ramblers\, Charlie Hightone\, Rack Roll & The Remayteds\, El Gran Quelonio\, Branquias Johnson\, Tus Novias Indie\, ElectroZacho\, The Achos\, Elena Gog serán las bandas que participarán en este festival. \nMás información: https://www.sietesillasfestival.com/
URL:https://merida.es/agenda/7-sillas-fest/
LOCATION:Parque de las VII Sillas\, Mérida
CATEGORIES:Música
ATTACH;FMTTYPE=image/jpeg:https://merida.es/wp-content/uploads/2024/09/2024-7sillas-fest-peq.jpg
END:VEVENT
BEGIN:VEVENT
DTSTART;TZID=Europe/Madrid:20240921T100000
DTEND;TZID=Europe/Madrid:20240921T100000
DTSTAMP:20260422T015522
CREATED:20240917T070243Z
LAST-MODIFIED:20240918T105428Z
UID:133704-1726912800-1726912800@merida.es
SUMMARY:I Torneo por la Igualdad Ciudad de Mérida
DESCRIPTION:El sábado 21 de septiembre se celebra el I Torneo por la Igualdad Ciudad de Mérida con la participación de 5 equipos femeninos: C.P. San Miguel de Plasencia\, C.P. San Bartolomé de La Coronada (Badajoz)\, Escuela de Fútbol Zafra\, Jerez Club de Fútbol y el Nueva Ciudad Football Academy\, equipo organizador. A partir de las 10:00 horas\, en el Campo Municipal de Nueva Ciudad.
URL:https://merida.es/agenda/i-torneo-por-la-igualdad-ciudad-de-merida/
LOCATION:Campo de fútbol de Nueva Ciudad\, Mérida\, España
CATEGORIES:Deporte
ATTACH;FMTTYPE=image/jpeg:https://merida.es/wp-content/uploads/2024/09/2024-torneo-igualdad-peq.jpg
END:VEVENT
BEGIN:VEVENT
DTSTART;TZID=Europe/Madrid:20240921T100000
DTEND;TZID=Europe/Madrid:20240921T100000
DTSTAMP:20260422T015522
CREATED:20240918T064534Z
LAST-MODIFIED:20240918T064534Z
UID:133757-1726912800-1726912800@merida.es
SUMMARY:X Feria de Ciencias de Extremadura
DESCRIPTION:La Feria de Ciencias es un proyecto donde nuestros jóvenes científicos pueden expresar sus ideas e innovación. Se trata de un concurso en dos fases\, una fase local y la Gran Final. La fase local de nuestras ferias se celebra en cada localidad donde está presente nuestros proyecto. Donde nuestros jóvenes presentan sus experimentos y/o innovaciones a un jurado. Estas fases sirven de clasificación para la Gran Final. \nLa Gran Final de la Feria de Ciencias se celebra cada año en una localidad diferente\, donde todos los clasificados de las fases locales presentan sus proyectos y compiten por ser los ganadores absolutos de la Feria de Ciencia. Este año será en Mérida\, el 21 de septiembre de 2024\, en el Palacio de Congresos. \nLos premios reservados a nuestros ganadores siempre están dirigidos a conocer instalaciones y/o laboratorios de investigación singulares\, donde puede ver cómo se hace ciencia de mano de científicos profesionales. \nWeb oficial: https://campusemjc.unex.es
URL:https://merida.es/agenda/x-feria-de-ciencias-de-extremadura/
LOCATION:Palacio de Congresos\, Avda. del Rio s/n\, Mérida
CATEGORIES:Educación
ATTACH;FMTTYPE=image/jpeg:https://merida.es/wp-content/uploads/2024/09/2024-feria-ciencias-peq.jpg
END:VEVENT
BEGIN:VEVENT
DTSTART;TZID=Europe/Madrid:20240921T110000
DTEND;TZID=Europe/Madrid:20240921T210000
DTSTAMP:20260422T015522
CREATED:20240905T060929Z
LAST-MODIFIED:20240905T060929Z
UID:133403-1726916400-1726952400@merida.es
SUMMARY:11º Encuentro para la Solidaridad y Participación Social
DESCRIPTION:El sábado 21 de septiembre\, de 11:00h a 21:00 horas\, el Parque López de Ayala acoge 11º Encuentro para la Solidaridad y Participación Social con la presencia de 47 entidades de la Plataforma del Voluntariado de Mérida con el objetivo de consolidar el tejido asociativo en la localidad y crear espacio para el intercambio de información\, experiencias y trabajo conjunto. Habrá numerosas actividades\, talleres y servicio de bebida y comida durante toda la jornada.
URL:https://merida.es/agenda/2024-encuentro-para-la-solidaridad-y-participacion-social/
LOCATION:Parque López de Ayala\, Mérida
CATEGORIES:Convivencia
ATTACH;FMTTYPE=image/jpeg:https://merida.es/wp-content/uploads/2024/09/2024-voluntariado-social-peq.jpg
END:VEVENT
BEGIN:VEVENT
DTSTART;TZID=Europe/Madrid:20240921T173000
DTEND;TZID=Europe/Madrid:20240921T203000
DTSTAMP:20260422T015522
CREATED:20240919T102121Z
LAST-MODIFIED:20240919T102121Z
UID:133802-1726939800-1726950600@merida.es
SUMMARY:Juegos de Orientación 'Iniciación al deporte'
DESCRIPTION:El sábado 21 de septiembre\, a partir de las 17:00 horas\, en los parques del Guadiana (junto al Molino de Pancaliente) se desarrollarán juegos de orientación ‘Iniciación al Deporte’\, una actividad totalmente gratuita de carácter familiar destinada a promocionar y conocer el deporte de Orientación.
URL:https://merida.es/agenda/juegos-de-orientacion-iniciacion-al-deporte/
LOCATION:Parque de la Isla\, (Junto al Recinto Ferial)\, Mérida
CATEGORIES:Deporte
ATTACH;FMTTYPE=image/jpeg:https://merida.es/wp-content/uploads/2024/09/2024-orientacion-peq.jpg
END:VEVENT
BEGIN:VEVENT
DTSTART;TZID=Europe/Madrid:20240921T193000
DTEND;TZID=Europe/Madrid:20240921T193000
DTSTAMP:20260422T015522
CREATED:20240912T060316Z
LAST-MODIFIED:20240912T060316Z
UID:133564-1726947000-1726947000@merida.es
SUMMARY:Conferencia de Santiago Posteguillo "Hispania\, el corazón de Roma"
DESCRIPTION:El escritor e historiador Santiago Posteguillo\, Premio Planeta en 2018 por su novela ‘Yo\, Julia’\, ofrecerá la conferencia titulada ‘Hispania\, el corazón de Roma’ en el Teatro Romano de Mérida\, el próximo sábado 21 de septiembre a las 19:30 horas. Entrada libre hasta completar aforo.
URL:https://merida.es/agenda/conferencia-de-santiago-posteguillo-hispania-el-corazon-de-roma/
LOCATION:Teatro Romano\, Plaza de Margarita Xirgú\, Mérida
CATEGORIES:Charla-Conferencia,Literatura
ATTACH;FMTTYPE=image/jpeg:https://merida.es/wp-content/uploads/2024/09/2024-santiago-posteguillo-peq.jpg
END:VEVENT
BEGIN:VEVENT
DTSTART;TZID=Europe/Madrid:20240921T203000
DTEND;TZID=Europe/Madrid:20240921T203000
DTSTAMP:20260422T015522
CREATED:20240913T115509Z
LAST-MODIFIED:20240913T121757Z
UID:133626-1726950600-1726950600@merida.es
SUMMARY:Teatro: "PRIME\, el cristal y la hiena"
DESCRIPTION:SÁBADO Día 21 de septiembre de 2024. 20.30 horas\nEspectáculo: PRIME\, el cristal y la hiena\nCompañía: El avispero producciones \nSinopsis: Cinco jóvenes veinteañeros aceptan una oferta de empleo en una fábrica de paquetería online. Una semana de trabajo intensivo\, encerrados hasta completar el trabajo por un salario más que digno. Pero la convivencia saca de ellos sus miedos\, su pasado y su vulnerabilidad. Un debate moral y social entre las expectativas laborales\, personales y morales que nos convierten en víctimas y depredadores sin encontrar una salida\, como animales enjaulados en un mundo de cristal. \nLa obra aborda diversos temas de las vidas personales de sus protagonistas\, no sólo se trata de una crítica al mercado laboral. También se tratan asuntos como la homofobia\, el suicidio por acoso en redes\, el abuso sexual o la salud mental. En definitiva\, un espectáculo donde la luz y la música nos adentran en un thriller cinematográfico con una temática que no te dejará indiferente. \nReparto: Jose A. Lucia\, Alba Cayuela\, Miguel Pérez Polo\, Esther Lapié\, Daniel Lázaro\, María Raserón\nTexto y dirección: Simón Ferrero & Isabel Martín \nDuración: 90 min.\nPúblico recomendado: a partir de 16 años \nTaquilla: Entrada única 5€ (*Descuentos del 50% aplicable a: carnet estudiante\, carnet joven europeo\, personas jubiladas-pensionistas\, familia numerosa y personas en desempleo)\nHorario de taquilla: Día 20 de septiembre de mayo de 11.00 a 13:00h. y de 18.30 a 20.00h y día 21 de septiembre de 11.00 a 13:00h. y de 18.30 a 20.30h.\nReservas en el email: salatrajanomerida@gmail.com
URL:https://merida.es/agenda/teatro-prime-el-cristal-y-la-hiena/
LOCATION:Sala Trajano\, Calle Muza\, 50\, Mérida
CATEGORIES:Teatro
ATTACH;FMTTYPE=image/jpeg:https://merida.es/wp-content/uploads/2022/10/2022-prime-peq.jpg
END:VEVENT
BEGIN:VEVENT
DTSTART;TZID=Europe/Madrid:20240921T220000
DTEND;TZID=Europe/Madrid:20240921T220000
DTSTAMP:20260422T015522
CREATED:20240912T061431Z
LAST-MODIFIED:20240912T061431Z
UID:133567-1726956000-1726956000@merida.es
SUMMARY:Via Martyrum Santa Eulalia
DESCRIPTION:El sábado 21 de septiembre se celebrará el ‘Via Martyrum’ de Santa Eulalia\, una recreación que pretende rememorar el paso de una niña que fue capaz de luchar por algo que cree importante\, por ser una luchadora\, al momento en el que llega ante el pretor y recibe los martirios y muere. Un tránsito que se produce en el propio Templo de Diana cuando pasa de ser una emeritense a ser una figura de una mártir que es venerada\, no sólo en España\, sino en buena parte de Europa. \nEl recorrido\, que partirá desde el Puente Romano a las 22:00 horas\, subirá por calle Cava\, Plaza del Rastro\, Romero Leal\, Sagasta\, San José\, Puerta de la Villa\, Rambla concluyendo\, a las 12 de la noche\, en la Basílica de Santa Eulalia. \nEn este acto\, las asociaciones recreacionistas Ara Concordiae y Emerita Antiqua serán las encargadas de recrear ese proceso en el que\, una niña interpretará la figura de Eulalia siendo escoltada por los portadores que\, cada año\, procesionan la imagen de la patrona de Mérida.
URL:https://merida.es/agenda/via-martyrum-santa-eulalia-2024/
LOCATION:Recorrido Urbano\, Mérida
CATEGORIES:Recreación,Religión
ATTACH;FMTTYPE=image/jpeg:https://merida.es/wp-content/uploads/2024/09/2024-via-martyrum-santa-eulalia-peq.jpeg
END:VEVENT
END:VCALENDAR