﻿BEGIN:VCALENDAR
VERSION:2.0
PRODID:-//Ayuntamiento de Mérida - ECPv6.15.17.1//NONSGML v1.0//EN
CALSCALE:GREGORIAN
METHOD:PUBLISH
X-ORIGINAL-URL:https://merida.es
X-WR-CALDESC:Eventos para Ayuntamiento de Mérida
REFRESH-INTERVAL;VALUE=DURATION:PT1H
X-Robots-Tag:noindex
X-PUBLISHED-TTL:PT1H
BEGIN:VTIMEZONE
TZID:Europe/Madrid
BEGIN:DAYLIGHT
TZOFFSETFROM:+0100
TZOFFSETTO:+0200
TZNAME:CEST
DTSTART:20230326T010000
END:DAYLIGHT
BEGIN:STANDARD
TZOFFSETFROM:+0200
TZOFFSETTO:+0100
TZNAME:CET
DTSTART:20231029T010000
END:STANDARD
BEGIN:DAYLIGHT
TZOFFSETFROM:+0100
TZOFFSETTO:+0200
TZNAME:CEST
DTSTART:20240331T010000
END:DAYLIGHT
BEGIN:STANDARD
TZOFFSETFROM:+0200
TZOFFSETTO:+0100
TZNAME:CET
DTSTART:20241027T010000
END:STANDARD
BEGIN:DAYLIGHT
TZOFFSETFROM:+0100
TZOFFSETTO:+0200
TZNAME:CEST
DTSTART:20250330T010000
END:DAYLIGHT
BEGIN:STANDARD
TZOFFSETFROM:+0200
TZOFFSETTO:+0100
TZNAME:CET
DTSTART:20251026T010000
END:STANDARD
END:VTIMEZONE
BEGIN:VEVENT
DTSTART;VALUE=DATE:20240923
DTEND;VALUE=DATE:20241007
DTSTAMP:20260420T201654
CREATED:20240919T105441Z
LAST-MODIFIED:20241005T094148Z
UID:133813-1727049600-1728259199@merida.es
SUMMARY:Patrona Guardia Civil 2024
DESCRIPTION:Con motivo de la celebración de la Patrona de la Guardia Civil en Mérida y provincia de Badajoz\, del 23 de septiembre al 6 de octubre\, se ha diseñado el siguiente programa de actos. \nLunes 23 de septiembre: \n\nDesde el día 23 de septiembre hasta el 05 de octubre\, se podrá visitar una exposición de fotografía histórica de la Guardia Civil en el Patio Noble de la Asamblea de Extremadura en horario de 10:00 a 14:00 horas y de 16:00 a 20:00 horas.\n\n \nSábado 28 de septiembre: \n\nEn la Escuela de Tráfico de la Guardia Civil\, a partir de las 07:30 horas\, habrá un curso de conducción segura en colaboración con la asociación solidaria “Moto y vida”.\n\n \nDomingo 29 de septiembre: \n\nA las 09:00 horas se desarrollará una Jornada Motera con una ruta que saldrá de la Escuela de Tráfico de la Guardia Civil y en la que participaran diferentes asociaciones moteras. Posteriormente\, una vez finalizada la ruta habrá una visita por el museo de la Escuela de Tráfico.\n\n \nLunes 30 de septiembre: \n\nEn la Plaza de España\, a las 12 horas\, se realizará un Homenaje e Izado solemne de la Bandera Nacional\, al que podrán asistir las personas que lo deseen hasta completar el aforo.\n \nExposición “La Guardia Civil al servicio de la ciudadanía”: a las 17:00 horas se inaugurará en el Palacio de Congresos de Mérida\, en la Avenida del Río s/n\, la exposición“ La Guardia Civil al servicio de la ciudadanía”\, que permanecerá abierta al público hasta el próximo día 13 de octubre en horario de 10 a 14 y de 17 a 20 horas\, todos los días.\n \nA las 21:00 horas\, iluminación de edificios emblemáticos con logo y colores de la Guardia Civil. Encendido en el Templo de Diana\n\n\n					\n				\n					\n				 \nMartes 1 de octubre: \n\nEl día 1 darán comienzo los “Talleres escolares”\, actividades infantiles dirigidas a alumnos de educación primaria y secundaria\, que se desarrollarán los días 1\,2 y 3\, en la escuela de Trafico de la Guardia Civil\, con un horario de 09:30 a 13:30 horas donde se dará a conocer a los escolares el trabajo que realizan diferentes especialidades y se les ofrecerá consejos sobre seguridad vial\, protección de la naturaleza\, etc. Este año contará con un parque infantil de la Dirección General de Tráfico.\n \nTeatro María Luisa. 17:00 horas. Proyección de la película “Todos los nombres de Dios” con coloquio posterior con personal de la película y el actor Roberto Enríquez. Entrada libre hasta completar aforo.\n\n \nMiércoles 2 de octubre: \n\nPlaza de toros de Zafra (Badajoz). 17:30 horas. Exhibición de medios. Entrada libra hasta completar aforo.\n\n\n					\n				\n					\n				 \nJueves 3 de octubre: \n\nA las 11:00 horas tendrá lugar una Jornada de Cultura de Seguridad “Nuevos retos de la Inteligencia Artificial para la Seguridad”\, en el salón de actos de la Universidad de Extremadura (Calle Sta. Teresa Jornet\, 38).\n \nA las 18:00 horas\, el Área e Igualdad de la Guardia Civil organizará un encuentro de mujeres referentes extremeñas en el que participarán profesionales de diferentes ámbitos de la sociedad en la Asamblea de Extremadura\n\n \nViernes 4 de octubre: \n\nA las 09.30 horas\, la Guardia Civil firmará en la escuela de Trafico de la Guardia Civil un protocolo con Roadpol (Red europea de unidades policiales de tráfico y organización sucesora de la TISPOL) con el objetivo de reducir significativamente el número de víctimas en accidentes de tráfico. Asimismo\, y en el mismo sitio a las 10:30 horas habrá una demostración por parte de la Agrupación de Tráfico para alumnos de Bachillerato.\n \nA las 13:00 horas tendrá lugar se realizará un reconocimiento al Sector Turístico de Mérida.\n \nPlaza de Toros de Mérida. 17.30 horas. Demostración de procedimientos de actuación de diversas Unidades de la Guardia Civil\, con especialidades como caballería\, cinológico\, desactivación de explosivos y rescate en montaña\, entre otros. Entrada libre hasta completar aforo.\n\n\n					\n				\n					\n				 \nSábado 5 de octubre: \n\nCarrera solidaria por la ciudad de Mérida\, a beneficio de Plena Inclusión Mérida. Circuito urbano de 6km\n \nConcierto en el Teatro Romano: A las 20:00 horas del mismo día habrá un concierto de música en el Teatro Romano. Participarán la Unidad de Música de la Guardia Civil junto con la Guardia Nacional Republicana de Portugal\, el Conservatorio Oficial de Música de Mérida y la Banda de Música de Mérida. La entrada será libre hasta completar el aforo.\n \nRetreta Militar: a las 21:30 horas tendrá lugar un Toque de Retreta por miembros de la Banda de Tambores que comenzará por el Museo Romano\, Templo de Diana\, Arco de Trajano y Plaza de España.\n\n \nDomingo 6 de octubre: \n\nParada Militar en el Paseo de Roma a las 12:00 horas y a continuación a las 13:00 horas\, un desfile en la avenida José Fernández López\, en el que participarán efectivos de las distintas Unidades de la Guardia Civil\, vehículos y el Grupo de Caballería.
URL:https://merida.es/agenda/patrona-guardia-civil-2024/
LOCATION:Varios puntos de la ciudad\, Mérida
CATEGORIES:Charla-Conferencia,Deporte,Educación,Exposición,Institucional,Música,Otros
ATTACH;FMTTYPE=image/jpeg:https://merida.es/wp-content/uploads/2024/09/2024-patrona-guardia-civil-peq.jpg
END:VEVENT
BEGIN:VEVENT
DTSTART;VALUE=DATE:20240930
DTEND;VALUE=DATE:20241029
DTSTAMP:20260420T201654
CREATED:20240927T062525Z
LAST-MODIFIED:20241025T073536Z
UID:134044-1727654400-1730159999@merida.es
SUMMARY:Exposición 'Jaula' de David Arribas
DESCRIPTION:Del 30 de septiembre al 28 de octubre\, el Centro Cultural Santo Domingo acoge la exposición ‘Jaula’\, de David Arribas\, que muestra una vida con anorexia. El autor ofrecerá una charla el 5 de octubre\, a las 11:30 horas. Una actividad que forma parte del programa de la SECINDI (Cine Accesible\, adaptado e inclusivo para personas con discapacidad)
URL:https://merida.es/agenda/exposicion-jaula-de-david-arribas/
ATTACH;FMTTYPE=image/jpeg:https://merida.es/wp-content/uploads/2024/09/2024-expo-jaula-secindi-peq.jpg
END:VEVENT
BEGIN:VEVENT
DTSTART;VALUE=DATE:20240930
DTEND;VALUE=DATE:20241030
DTSTAMP:20260420T201654
CREATED:20240927T061744Z
LAST-MODIFIED:20240927T061744Z
UID:134041-1727654400-1730246399@merida.es
SUMMARY:Exposición 'Cómo lo ves'
DESCRIPTION:Del 30 de septiembre al 29 de octubre\, el Centro Cultural Santo Domingo acoge la exposición ‘Cómo lo ves’ del Instituto Fernández Vega que refleja las patologías oculares más comunes en España. Una actividad que forma parte del programa de la SECINDI (Cine Accesible\, adaptado e inclusivo para personas con discapacidad)
URL:https://merida.es/agenda/exposicion-como-lo-ves/
LOCATION:Centro Cultural Santo Domingo Fundación CB\, Plaza de Santo Domingo\, s/n\, Mérida
CATEGORIES:Exposición
ATTACH;FMTTYPE=image/jpeg:https://merida.es/wp-content/uploads/2024/09/2024-expo-como-lo-ves-peq.jpg
END:VEVENT
BEGIN:VEVENT
DTSTART;VALUE=DATE:20241001
DTEND;VALUE=DATE:20241021
DTSTAMP:20260420T201654
CREATED:20240927T055624Z
LAST-MODIFIED:20240927T055624Z
UID:134038-1727740800-1729468799@merida.es
SUMMARY:Exposición 'Selva Mediterránea'
DESCRIPTION:La exposición ‘Selva Mediterránea’ muestra figuras originales hechas en barro y pintadas a mano sobre fauna y flora de Extremadura\, además de 15 ilustraciones del mismo tema. Se ha realizado durante año y medio y se inaugura con una charla educativa impartida por el autor de la obra\, el viernes 4 de octubre\, a las 18:00 horas. La exposición busca mostrar la maravillosa biodiversidad amenazada de Extremadura y la necesidad que tenemos de promoverla\, aumentarla e incluirla en nuestra sociedad. Se podrá visitar en la Biblioteca Pública Jesús Delgado Valhondo del 1 al 20 de octubre. Organiza Asociación Arborea
URL:https://merida.es/agenda/exposicion-selva-mediterranea/
LOCATION:Biblioteca Jesús Delgado Valhondo\, Av. de la Libertad\, s/n\, Mérida
CATEGORIES:Exposición
ATTACH;FMTTYPE=image/jpeg:https://merida.es/wp-content/uploads/2024/09/2024-expo-selva-mediterranea-peq.jpeg
END:VEVENT
BEGIN:VEVENT
DTSTART;TZID=Europe/Madrid:20241004T193000
DTEND;TZID=Europe/Madrid:20241004T193000
DTSTAMP:20260420T201654
CREATED:20240930T095119Z
LAST-MODIFIED:20240930T095328Z
UID:134106-1728070200-1728070200@merida.es
SUMMARY:Cine SECINDI: "El maestro que prometió el mar"
DESCRIPTION:Título original: El maestro que prometió el mar\nPaís: España\nAño: 2023\nDuración: 105’ \nDirección: Patricia Font\nGuion: Albert Val. Novela: Francesc Escribano \nReparto: Tito Valverde\, María Jesús Sirvent\, Amada Santos\, Rosario Pardo\, Juan Carlos Sánchez\, Marta García \nGénero: Drama \nSinopsis: Ariadna (Laia Costa) descubre que su abuelo busca desde hace tiempo los restos de su padre\, desaparecido en la Guerra Civil. Decidida a ayudarlo\, viaja a Burgos\, donde están exhumando una fosa común en la que podría estar enterrado. Durante su estancia allí\, conocerá la historia de Antoni Benaiges (Enric Auquer)\, un joven maestro de Tarragona que antes de la guerra fue profesor de su abuelo. Mediante un innovador método pedagógico Antoni inspiró a sus alumnos y les hizo una promesa: llevarlos a ver el mar. \nEntrada: Acceso libre\nProgramación de la SECINDI: https://secindi.com \nFundación CB reinventa la Semana de Cine Inclusivo y Diversidad (SECINDI) y la transforma en un nuevo formato en el que la ciudadanía emeritense disfrutará de cine accesible durante todo el año. Bajo el lema “cine es cine”\, Fundación CB rompe con todas las etiquetas y presenta una propuesta dirigida a cinéfilos de todas las edades\, gustos y colectivos.
URL:https://merida.es/agenda/cine-secindi-el-maestro-que-prometio-el-mar/
LOCATION:Centro Cultural Santo Domingo Fundación CB\, Plaza de Santo Domingo\, s/n\, Mérida
CATEGORIES:Cine
ATTACH;FMTTYPE=image/jpeg:https://merida.es/wp-content/uploads/2024/09/el_mestre_que_va_prometre_el_mar-peq.jpg
END:VEVENT
BEGIN:VEVENT
DTSTART;TZID=Europe/Madrid:20241004T203000
DTEND;TZID=Europe/Madrid:20241004T203000
DTSTAMP:20260420T201655
CREATED:20240930T073250Z
LAST-MODIFIED:20240930T073538Z
UID:134097-1728073800-1728073800@merida.es
SUMMARY:Espectáculo flamenco y teatro: "La Gitanilla"
DESCRIPTION:VIERNES Día 4 de octubre de 2024. 20.30 horas\nEspectáculo: La Gitanilla\nCompañía: Baile Flamenco Joven Extremeño Leyla Buitrago \nSinopsis: Cervantes en esta novela ejemplar de historia y amor hizo muestra de las costumbres y libertad del pueblo gitano donde llenos de picaresca se buscaban la vida con cierta gracia y donaire. \nGracias a este espectáculo podemos tener mayores referencias de cuando pisaron los gitanos nuestra tierra\, uniendo cantos\, bailes y cultura con los que aquí ya habitaban\, dando lugar a una tierra multicultural\, llena de música\, costumbres burguesas e historias ejemplares. \nDentro de esta adaptación de La Gitanilla\, Leyla Buitrago\, su directora\, hace un viaje atrás en el tiempo\, mostrando el flamenco más puro a través de palos como soleares\, seguiriyas\, romances\, fandangos\, cantiñas y tangos\, no sin obviar muestras y detalles regionales de nuestra tierra y todo ello apoyado por una trama teatral que ayuda al público al buen entendimiento de esta obra y a estar inmersos durante todo el espectáculo en este viaje en el tiempo en el que se desarrolla una apasionante y cómica historia de amor. \nDirección: Leyla Buitrago\nActores: Cristina Martín\, Sergio Pérez\, y Andrea Moreno.\nCuadro de baile: Leyla Buitrago y la Compañía de flamenco joven extremeño.\nCantaores: Manuel Pajares\, Carolina Fernández “La Chispa” y Vicky González\nGuitarristas: Sara Castro y José Ángel Castilla\nPercusión: Alberto “El arenita”\nViola: Rosa Escobar \nPúblico recomendado: Todos los públicos \nTaquilla: Entrada única 5€ (*Descuentos del 50% aplicable a: carnet estudiante\, carnet joven europeo\, personas jubiladas-pensionistas\, familia numerosa y personas en desempleo)\nHorario de taquilla: Días 3 y 4 de octubre de 11.00 a 13:00h. y de 18.30 a 20:30h.\nReservas en el email: salatrajanomerida@gmail.com
URL:https://merida.es/agenda/espectaculo-flamenco-y-teatro-la-gitanilla/
LOCATION:Sala Trajano\, Calle Muza\, 50\, Mérida
CATEGORIES:Danza,Teatro
ATTACH;FMTTYPE=image/jpeg:https://merida.es/wp-content/uploads/2024/09/la-gitanilla-peq.jpg
END:VEVENT
END:VCALENDAR