﻿BEGIN:VCALENDAR
VERSION:2.0
PRODID:-//Ayuntamiento de Mérida - ECPv6.15.17.1//NONSGML v1.0//EN
CALSCALE:GREGORIAN
METHOD:PUBLISH
X-ORIGINAL-URL:https://merida.es
X-WR-CALDESC:Eventos para Ayuntamiento de Mérida
REFRESH-INTERVAL;VALUE=DURATION:PT1H
X-Robots-Tag:noindex
X-PUBLISHED-TTL:PT1H
BEGIN:VTIMEZONE
TZID:Europe/Madrid
BEGIN:DAYLIGHT
TZOFFSETFROM:+0100
TZOFFSETTO:+0200
TZNAME:CEST
DTSTART:20230326T010000
END:DAYLIGHT
BEGIN:STANDARD
TZOFFSETFROM:+0200
TZOFFSETTO:+0100
TZNAME:CET
DTSTART:20231029T010000
END:STANDARD
BEGIN:DAYLIGHT
TZOFFSETFROM:+0100
TZOFFSETTO:+0200
TZNAME:CEST
DTSTART:20240331T010000
END:DAYLIGHT
BEGIN:STANDARD
TZOFFSETFROM:+0200
TZOFFSETTO:+0100
TZNAME:CET
DTSTART:20241027T010000
END:STANDARD
BEGIN:DAYLIGHT
TZOFFSETFROM:+0100
TZOFFSETTO:+0200
TZNAME:CEST
DTSTART:20250330T010000
END:DAYLIGHT
BEGIN:STANDARD
TZOFFSETFROM:+0200
TZOFFSETTO:+0100
TZNAME:CET
DTSTART:20251026T010000
END:STANDARD
END:VTIMEZONE
BEGIN:VEVENT
DTSTART;VALUE=DATE:20241025
DTEND;VALUE=DATE:20241124
DTSTAMP:20260420T201646
CREATED:20240620T074208Z
LAST-MODIFIED:20241015T225708Z
UID:131856-1729814400-1732406399@merida.es
SUMMARY:III Festival Flamenco Mérida 2024
DESCRIPTION:Mérida acogerá la III Festival Flamenco Mérida Guitarra Española\, del 25 de octubre al 23 de noviembre de 2024\, para celebrar no solo el arte flamenco\, sino también para reforzar la capital extremeña como destino turístico y cultural de primer nivel. \nLa programación comenzará con la apertura el 25 de octubre donde se celebrará un concierto exclusivo de la cantaora Esperanza Fernández que contará con la participación de reconocidos artistas como Farruquito\, Jesús Méndez\, Miguel A. Cortés\, Rosario La Tremendita y Kiki Morente. Será el único de los conciertos que se lleve a cabo en el Palacio de Congresos de Mérida\, a partir de las 21:00 horas. \nEl 8 de noviembre\, el Teatro María Luisa será el escenario del espectáculo «Capitán de mis sueños»\, presentado por la Familia Camarón\, a las 21:00 horas. \nAl día siguiente\, el 9 de noviembre\, María Terremoto ofrecerá su actuación también en el Teatro María Luisa a las 21:00 horas\, prometiendo una velada llena de emociones y puro flamenco. \nEl 16 de noviembre\, Joni Jiménez presentará su espectáculo «Abrazados\, sueño y tiempo»\, acompañado por destacados artistas como David de la Jacoba\, Montse Cortés\, Antonio Losada y Kelian Jiménez. Este evento se celebrará en el Teatro María Luisa a las 21:00 horas\, ofreciendo una experiencia única. \nEl broche final será el 23 de noviembre con el cierre a cargo de Dorantes\, quien presentará su espectáculo «Un flamenco al piano» en el Teatro María Luisa a las 21:00 horas. \nEsta serie de espectáculos promete llevar al público a un viaje musical y emocional a través del arte flamenco\, consolidando una vez más el prestigio del festival. \nFinalmente\, este año\, el festival ha querido rendir homenaje a José Monge Cruz\, Camarón de la Isla\, quien recibe el premio Flamenco Universal 2024 a título póstumo. \nWeb oficial y Venta de Entradas: http://www.flamencouniversalmerida.es/
URL:https://merida.es/agenda/iii-festival-flamenco-merida-2024/
LOCATION:Varios puntos de la ciudad\, Mérida
CATEGORIES:Música
ATTACH;FMTTYPE=image/jpeg:https://merida.es/wp-content/uploads/2024/06/2024-festival-flamenco-merida-peq.jpg
END:VEVENT
BEGIN:VEVENT
DTSTART;VALUE=DATE:20241030
DTEND;VALUE=DATE:20241201
DTSTAMP:20260420T201646
CREATED:20241106T103514Z
LAST-MODIFIED:20241106T103514Z
UID:135271-1730246400-1733011199@merida.es
SUMMARY:Exposición “Blanco sobre negro” de José María Ballester (NEGATIVO)
DESCRIPTION:‘Blanco sobre Negro’ es una exposición fotográfica sobre edificaciones rurales\, cortijos despoblados. Son un testimonio de quienes habitaron en esos hogares\, trabajaron la tierra\, cuidaron de los animales\, se enfrentaron a las adversidades y compartiendo alegrías y penas. Después tuvieron que buscar su bienestar\, desmantelando sus viviendas y dejando atrás sus costumbres\, para buscar un futuro mejor en la ciudad. \nCon esta muestra\, Ballester pretende transmitir emociones\, contar una historia sobre el abandono del campo\, como un vestigio del ayer\, ahora desierto. El fotógrafo quiere crear una conexión con el espectador y las imágenes. Decía Ansel Adams: “Aunque vean mis fotografías vacías de gente\, siempre hay dos personas en cada fotografía\, el fotógrafo y el espectador”. \nLa exposición se podrá visitar en el Centro Cultural Santo Domingo de lunes a viernes\, de 17:30 a 21:00 horas\, y Sábados de 10:30 a 14:00 horas.
URL:https://merida.es/agenda/exposicion-blanco-sobre-negro-de-jose-maria-ballester-negativo/
LOCATION:Centro Cultural Santo Domingo Fundación CB\, Plaza de Santo Domingo\, s/n\, Mérida
CATEGORIES:Exposición
ATTACH;FMTTYPE=image/jpeg:https://merida.es/wp-content/uploads/2024/11/2024-expo-ballester-peq.jpg
END:VEVENT
BEGIN:VEVENT
DTSTART;VALUE=DATE:20241105
DTEND;VALUE=DATE:20241127
DTSTAMP:20260420T201646
CREATED:20241029T082418Z
LAST-MODIFIED:20241029T082418Z
UID:135009-1730764800-1732665599@merida.es
SUMMARY:Martes Micológicos Mérida
DESCRIPTION:La Sociedad Micológica Extremeña organiza durante el mes de noviembre los ‘Martes Micológicos de Mérida’ con diferentes ponencias todos los martes\, a partir de las 18:00 horas\, en el Centro Cultural Alcazaba. Además\, el sábado 23 organizará una salida al campo para identificar setas en una convivencia final en un lugar a determinar.
URL:https://merida.es/agenda/martes-micologicos-merida/
LOCATION:Centro Cultural Alcazaba\, Calle John Lennon\, 5\, Mérida
CATEGORIES:Charla-Conferencia,Convivencia
ATTACH;FMTTYPE=image/jpeg:https://merida.es/wp-content/uploads/2024/10/2024-martes-micologicos-merida-peq.jpg
END:VEVENT
BEGIN:VEVENT
DTSTART;VALUE=DATE:20241106
DTEND;VALUE=DATE:20241207
DTSTAMP:20260420T201646
CREATED:20241118T083841Z
LAST-MODIFIED:20241118T083841Z
UID:135591-1730851200-1733529599@merida.es
SUMMARY:Exposición “Un delicado incendio bajo mi piel. Escritoras extremeñas contemporáneas”
DESCRIPTION:José Ignacio Rodríguez Hermosell presentará el libro «Un delicado incendio bajo mi piel» en el Centro Cultural Santo Domingo\, el 18 de noviembre\, a las 19:00 horas. Se trata de un diccionario que recopila a algunas de las más destacadas escritoras extremeñas contemporáneas. Esta publicación viene acompañada de una exposición de fotografías que podrá visitarse en el mismo centro hasta el 6 de diciembre.
URL:https://merida.es/agenda/exposicion-un-delicado-incendio-bajo-mi-piel-escritoras-extremenas-contemporaneas/
LOCATION:Centro Cultural Santo Domingo Fundación CB\, Plaza de Santo Domingo\, s/n\, Mérida
CATEGORIES:Exposición
ATTACH;FMTTYPE=image/jpeg:https://merida.es/wp-content/uploads/2024/11/expo-escritoras-extremenas-peq.jpg
END:VEVENT
BEGIN:VEVENT
DTSTART;VALUE=DATE:20241107
DTEND;VALUE=DATE:20241202
DTSTAMP:20260420T201646
CREATED:20241104T171639Z
LAST-MODIFIED:20241104T171816Z
UID:135199-1730937600-1733097599@merida.es
SUMMARY:Ruta de la Tapa Gourmet 2024
DESCRIPTION:Del 7 de noviembre al 1 de diciembre (de jueves a domingo) se desarrollará una nueva edición de la Ruta de la Tapa Gourmet de Mérida en la que participarán 16 establecimientos de diferentes puntos de la ciudad. \nLos establecimientos son: Agallas Gastro&Food • Restaurante Ayre • BARBAROSSA • Capriccio Italiano · Senso Unico • Catalina Plaza • Restaurante La Extremeña • La Mafia se sienta a la mesa Mérida • Mirador del Guadiana • Naturacho GastroTapas • Restaurante Prima Porta • Restaurante Ara • Restaruante Santa Clara • Serendipity • The KRAFT Bar • Via de la Tapa • Volterra . \nDichos establecimientos ofrecerán una “Tapa de la ruta” por 4\,5 € y una “Tapa Gourmet” por 6 €. Participar en la Ruta de la tapa tendrá un aliciente para todas las personas que la quieran realizar ya que tendrán la posibilidad de entrar en el sorteo de diferentes premios. Para ello\, como ediciones anteriores\, deberán rellenar el pasaporte con 3 sellos de distintos establecimientos\, que podrán conseguir en los establecimientos participantes\, y depositarlos en la urna que se encontrará en la Oficina de Turismo de la Puerta de la Villa hasta las 14:00 horas del martes 3 de diciembre. \nLos premios constan\, entre otros\, de Estancias para dos personas\, Experiencias Gastronómicas\, Visitas Guiadas\, Piezas de Terracota Mérida\, Lotes de Vinos de Extremadura\, Lote de ibéricos\, Lotes de Cava o Cervezas y cenas en establecimientos de la ciudad. \nPasaporte
URL:https://merida.es/agenda/ruta-tapa-gourmet-2024/
LOCATION:Varios establecimientos de la ciudad
CATEGORIES:Gastronomía
ATTACH;FMTTYPE=image/jpeg:https://merida.es/wp-content/uploads/2024/11/2024-ruta-tapa-gourmet-peq.jpg
END:VEVENT
BEGIN:VEVENT
DTSTART;VALUE=DATE:20241115
DTEND;VALUE=DATE:20241201
DTSTAMP:20260420T201646
CREATED:20241116T221033Z
LAST-MODIFIED:20241116T221033Z
UID:135567-1731628800-1733011199@merida.es
SUMMARY:Exposición 'Ínsulas Extrañas'
DESCRIPTION:Compuesta por dieciséis paneles ilustrativos\, esta exposición nos invita a conocer míticas ciudades y territorios que solo existieron en las páginas de los libros. Planetas\, poblados\, comarcas y ríos perfectamente descritos y extrañamente familiares que hoy forman parte de la historia sentimental de millones de lectores/as. \nDesde la Ínsula Barataria de El Quijote\, hasta la mítica Albanta de Luis Eduardo Aute\, la exposición acerca a los/as espectadores/as a algunos de los principales lugares imaginarios de la literatura universal. \nDel 15 al 30 de noviembre se podrá visitar en la Biblioteca Publica del Estado ‘Jesús Delgado Valhondo’. Exposición cedida por AGCEX a Esmerarte Asociación Cultural como parte de la VII edición ‘Claqueta Emerita’
URL:https://merida.es/agenda/exposicion-insulas-extranas/
LOCATION:Biblioteca Jesús Delgado Valhondo\, Av. de la Libertad\, s/n\, Mérida
CATEGORIES:Exposición
ATTACH;FMTTYPE=image/jpeg:https://merida.es/wp-content/uploads/2024/11/2024-insulas-extranas-peq.jpg
END:VEVENT
BEGIN:VEVENT
DTSTART;VALUE=DATE:20241115
DTEND;VALUE=DATE:20241213
DTSTAMP:20260420T201646
CREATED:20241115T074235Z
LAST-MODIFIED:20241115T075148Z
UID:135545-1731628800-1734047999@merida.es
SUMMARY:Exposición 'Colores del Mundo'
DESCRIPTION:Del 15 de noviembre al 12 de diciembre se podrá visitar en la Plaza Margarita Xirgú la exposición ‘Colores del Mundo’ compuesta por 42 instantáneas de fotógrafos de National Geographic.  \nUna muestra organizada por la Fundación La Caixa\, en colaboración con el Ayuntamiento y el Consorcio Ciudad Monumental de Mérida\, que invita a reflexionar sobre el color\, un elemento que nos rodea en todo momento y que es capaz de impactar en cómo nos sentimos y llenarnos de fuerza\, relajarnos o emocionarnos. Para evitar que nos pasen desapercibidos todos sus tonos y matices\, esta exposición los convierte en protagonistas absolutos. \nEn las sobrecogedoras fotografías de los brumosos azules de la luz de la mañana\, de los vívidos púrpuras y rojos de la puesta de sol\, de los intensos verdes de los campos o de los dorados de las hojas del otoño\, los visitantes encontrarán una inspiradora reflexión sobre el significado de los colores\, sus cualidades y su simbolismo a lo largo de la historia. \nSe establecen visitas guiadas para el público los sábados a las 18:00 h y los domingos a las 12:00 h\, y  para grupos escolares y otros colectivos de lunes a viernes de 10:00 a 13:00 h y de 16:00 a 18:00 h.\, previa cita\, llamando al 900 80 11 37.  \nMás información: https://caixaforum.org\n 
URL:https://merida.es/agenda/exposicion-colores-del-mundo/
LOCATION:Plaza Margarita Xirgu\, Mérida
CATEGORIES:Exposición
ATTACH;FMTTYPE=image/jpeg:https://merida.es/wp-content/uploads/2024/11/2024-expo-colores-mundo-peq.jpg
END:VEVENT
BEGIN:VEVENT
DTSTART;VALUE=DATE:20241119
DTEND;VALUE=DATE:20241130
DTSTAMP:20260420T201646
CREATED:20241111T111657Z
LAST-MODIFIED:20241113T130834Z
UID:135408-1731974400-1732924799@merida.es
SUMMARY:Exposición 'Paisajes Casuales' de Ángel M. Felicísimo
DESCRIPTION:Del 19 al 29 de noviembre se podrá visitar\, en el Centro Cultural Alcazaba\, la exposición ‘Paisajes Casuales’\, una recopilación de fotografías que surge por el resultado de años de viajes del autor Ángel M. Felicísimo por lugares diversos que le impresionaron. Las imágenes van acompañadas por textos\, a veces propios\, a veces prestados que se complementan.
URL:https://merida.es/agenda/exposicion-paisajes-casuales-de-angel-m-felicisimo/
LOCATION:Centro Cultural Alcazaba\, Calle John Lennon\, 5\, Mérida
CATEGORIES:Exposición
ATTACH;FMTTYPE=image/jpeg:https://merida.es/wp-content/uploads/2024/11/2024-expo-paisajes-casuales-peq.jpg
END:VEVENT
BEGIN:VEVENT
DTSTART;VALUE=DATE:20241121
DTEND;VALUE=DATE:20241201
DTSTAMP:20260420T201646
CREATED:20241106T074747Z
LAST-MODIFIED:20241106T074801Z
UID:135257-1732147200-1733011199@merida.es
SUMMARY:XIX Festival de Cine Inédito
DESCRIPTION:Del 21 al 30 de noviembre tendrá lugar la XIX edición del Festival de Cine Inédito de Mérida que en su sección oficial contará\, como siempre\, con películas de calidad que se emitirán en versión original con subtítulos. Además\, no faltaran las secciones ‘Cine y Escuela’ o la ‘Gala de Clausura’ con la entrega de los Premios Miradas. \nPróximamente toda la programación en la web oficial: www.festivalcinemerida.com
URL:https://merida.es/agenda/xix-festival-de-cine-inedito/
LOCATION:Cines Victoria Mérida\, Centro Comercial El Foro\, Mérida\, 06800
CATEGORIES:Cine
ATTACH;FMTTYPE=image/jpeg:https://merida.es/wp-content/uploads/2024/11/2024-festival-cine-inedito-peq.jpg
END:VEVENT
BEGIN:VEVENT
DTSTART;VALUE=DATE:20241121
DTEND;VALUE=DATE:20241218
DTSTAMP:20260420T201646
CREATED:20241121T113748Z
LAST-MODIFIED:20241121T113847Z
UID:135755-1732147200-1734479999@merida.es
SUMMARY:Exposición "El Ayuntamiento de Mérida Cofrade y Patrono de Santa Eulalia"
DESCRIPTION:El edificio de la Real Carnicería\, actual sede de la Junta de Cofradías\, acoge la exposición “El Ayuntamiento de Mérida\, Cofrade y Patrono de Santa Eulalia” organizada por el Ayuntamiento de Mérida a través del Archivo Histórico Municipal.  \nEn la muestra se exponen unos cuarenta y tres documentos entresacados entre más de ciento ochenta\, de los siglos XVI al XIX que proceden preferentemente de las actas de las sesiones del Cabildo Municipal\, de los libros de cuentas de propios y documentación suelta de distintos expedientes. Una exposición que recoge toda la participación que\, durante los distintos siglos ha tenido la institución municipal en referencia a las actuaciones que se han hecho en honor de Santa Eulalia y que nos muestra a una figura histórica que transciende más allá de la figura religiosa de la propia Mártir\, cuya prueba más evidente la tenemos aquí. En definitiva\, se va a poder conocer cuál ha sido la relación que a lo largo de los siglos ha habido entre el Ayuntamiento de Mérida con la devoción y el culto a la Mártir Santa Eulalia. \nLa exposición ha contado con la colaboración continua de la Asociación de Santa Eulalia que ha aportado elementos muy interesantes que la ilustran como el rostrillo antiguo de la Mártir\, tres coronas de diferentes siglos\, el boceto de la escultura de Santa Eulalia niña realizado por Eduardo Zancada o uno de los vestidos más antiguos y valiosos de Santa Eulalia. \nCierra la exposición un apartado con los mosaicos de gran belleza realizadas por el ciclo formativo de mosaicos de la escuela de arte de Mérida a petición de la propia Asociación de la Mártir. \nLa exposición podrá visitarse hasta el 17 de diciembre\, de lunes a viernes\, en horario de 11 a 13 horas y de 17 a 19 horas.
URL:https://merida.es/agenda/exposicion-ayuntamiento-merida-cofrade-patrono-santa-eulalia/
LOCATION:Sede Junta de Cofradías de Mérida\, Calle Puente\, 11\, Mérida\, España
CATEGORIES:Exposición,Santa Eulalia
ATTACH;FMTTYPE=image/jpeg:https://merida.es/wp-content/uploads/2024/11/2024-expo-santa-eulalia-peq.jpg
END:VEVENT
BEGIN:VEVENT
DTSTART;TZID=Europe/Madrid:20241121T183000
DTEND;TZID=Europe/Madrid:20241121T183000
DTSTAMP:20260420T201646
CREATED:20241117T103901Z
LAST-MODIFIED:20241117T103901Z
UID:135577-1732213800-1732213800@merida.es
SUMMARY:Ciclo Conferencias MNAR Grandes descubrimientos en arqueología III: "Stonehenge: biografía de la imagen del megalitismo en Europa. Del siglo XVII al siglo XXI"
DESCRIPTION:Durante los jueves de los meses de octubre a diciembre\, el Museo Nacional de Arte Romano ofrece la tercera parte del ciclo de conferencias que bajo el título ‘Grandes descubrimientos en arqueología III’ se vuelve la mirada al pasado para recordar esos emocionantes momentos de grandes descubrimientos y su trascendencia en la historia. \nTodas las conferencias se realizarán en el Centro Cultural Santo Domingo de Fundación CB\, con entrada libre hasta completar aforo\, a las 18:30 horas. Se podrá seguir en el canal de Youtube del Museo en diferido. \nPROGRAMA \n10 de octubre\nGrandes descubrimientos en la Necrópolis de Saqqara (Egipto)\nDra. Carmen Pérez Die\nMuseo Arqueológico Nacional \n17 de octubre\nLa villa dei Misteri en Pompeya: más allá de las melografías dionisíacas\nProf. Dr. Álvaro Corrales Alvárez\nUniversidad Pablo de Olavide de Sevilla \n24 de octubre\nCuando las provincias ayudan a entender a Roma: el ciclo escultórico del Foro de Torreparedones (Baena\, Córdoba)\nProf. Dr. Carlos Márquez Moreno\nUniversidad de Córdoba \n7 de noviembre\nEl descubrimiento del Dolmen de Lácara\nDr. Martín Almagro-Gorbea\nReal Academia de la Historia \n14 de noviembre\nBabilonia: arqueología y mito de la última capital mesopotámica\nProf. Dr. Juan Luis Montero Fenollós\nUniversidad de La Coruña \n21 de noviembre\nStonehenge: biografía de la imagen del megalitismo en Europa. Del siglo XVII al siglo XXI\nPrfra. Dra. Primitiva Bueno Ramírez\nUniversidad de Alcalá de Henares \n28 de noviembre\nCartagena: el modelo del Parque Arqueológico del Molinete\nProf. Dr. José Miguel Noguera Celdrán\nUniversidad de Murcia \n5 de diciembre\nDescubriendo Masada: arqueología y símbolo en el desierto de Judea\nDr. Alexander Bar-Magen Numhauser\nMuseo Nacional de Arte Romano \n12 de diciembre\nJerusalén y su Templo\nProf. Dr. Rául González Salinero\nUNED \n19 de diciembre\nCarlos III y el Descubrimiento de Pompeya y Herculano\nDra. Clara Bencivenga-Trillmich
URL:https://merida.es/agenda/ciclo-conferencias-mnar-grandes-descubrimientos-en-arqueologia-iii-stonehenge-biografia-de-la-imagen-del-megalitismo-en-europa-del-siglo-xvii-al-siglo-xxi/
LOCATION:Centro Cultural Santo Domingo Fundación CB\, Plaza de Santo Domingo\, s/n\, Mérida
CATEGORIES:Charla-Conferencia
ATTACH;FMTTYPE=image/jpeg:https://merida.es/wp-content/uploads/2024/10/ciclo-arquologia-museo-peq.jpg
END:VEVENT
BEGIN:VEVENT
DTSTART;TZID=Europe/Madrid:20241121T183000
DTEND;TZID=Europe/Madrid:20241121T183000
DTSTAMP:20260420T201646
CREATED:20241119T234824Z
LAST-MODIFIED:20241119T234824Z
UID:135695-1732213800-1732213800@merida.es
SUMMARY:Cuentos en Familia "La princesa Carlota y su dragón mascota"
DESCRIPTION:El programa ‘Cuentos en Familia’ vuelve a la Biblioteca Municipal Juan Pablo Forner todos los jueves desde el 21 de noviembre al 19 de diciembre (excepto el jueves 5 de diciembre)\, a las 18:30 horas\, en el Rincón de los Cuentos. \nEl cuentacuentos está destinado a familias con niños/as a partir de 4 años y tiene como objetivo acercar la biblioteca a los más pequeños\, fomentar el hábito lector desde la infancia y transmitir a través de los cuentos valores de respeto y convivencia. \nJueves 21 de noviembre\n‘La princesa Carlota y su dragón mascota’\nYanira González González. Maestra CEIP La Antigua \nJueves 28 de noviembre\n‘El cosedor de cuentos’\nPilar Gálvez Latorre. Maestra de las Escolapias \nJueves 12 de diciembre\n‘¡He visto a Papa Noel!’\nInmaculada Díaz Paredes. Madre en favor de la lectura \nJueves 19 de diciembre\n‘En Navidad… Déjame que te cuente…’\nTomás López Plaza. Maestro CEIP Suárez Somonte \nViernes 27 de diciembre – 12:00 horas\n‘Cuéntame un cuento por Navidad’
URL:https://merida.es/agenda/cuentos-en-familia-la-princesa-carlota-y-su-dragon-mascota/
LOCATION:Centro Cultural Alcazaba\, Calle John Lennon\, 5\, Mérida
CATEGORIES:Infantil,Literatura
ATTACH;FMTTYPE=image/jpeg:https://merida.es/wp-content/uploads/2024/11/2024-cuentacuentos-peq.jpg
END:VEVENT
BEGIN:VEVENT
DTSTART;TZID=Europe/Madrid:20241121T184500
DTEND;TZID=Europe/Madrid:20241121T184500
DTSTAMP:20260420T201646
CREATED:20241120T075522Z
LAST-MODIFIED:20241120T075659Z
UID:135704-1732214700-1732214700@merida.es
SUMMARY:Charla-taller: "Desafíos y Transformaciones de la Masculinidad"
DESCRIPTION:Dentro de las actividades de la Semana 25N contra la violencia de la Escuela Oficial de Idiomas\, el Seminario EOIgualdad con el CPR de Mérida organiza la charla «Desafíos y Transformaciones de la Masculinidad» impartida por Isaac Mancha. \nTendrá lugar en la Sala de Usos Múltiples de la Escuela Oficial de Idiomas el jueves día 21 de noviembre\, a las 18.45 horas. \nLa charla-taller está abierta a toda la ciudad y mediante ella pretendemos reflexionar sobre los conceptos de género\, trabajar en la deconstrucción de estereotipos\, y fomentar el respeto y la igualdad. \nLos objetivos de la actividad son:\n1. Reflexionar sobre los estereotipos de masculinidad y cómo afectan a las relaciones interpersonales y al desarrollo personal.\n2. Fomentar la autocomprensión y el respeto por la diversidad emocional en los hombres.\n3. Promover actitudes de empatía\, inclusión y responsabilidad compartida para una convivencia equitativa.
URL:https://merida.es/agenda/charla-taller-desafios-y-transformaciones-de-la-masculinidad/
LOCATION:Escuela Oficial de Idiomas\, Plaza del Conservatorio\, 2\, Mérida\, Badajoz\, 06800
CATEGORIES:Charla-Conferencia,Curso-Taller
ATTACH;FMTTYPE=image/jpeg:https://merida.es/wp-content/uploads/2024/11/2024-desafios-masculinidad-peq.jpg
END:VEVENT
END:VCALENDAR