﻿BEGIN:VCALENDAR
VERSION:2.0
PRODID:-//Ayuntamiento de Mérida - ECPv6.15.17.1//NONSGML v1.0//EN
CALSCALE:GREGORIAN
METHOD:PUBLISH
X-WR-CALNAME:Ayuntamiento de Mérida
X-ORIGINAL-URL:https://merida.es
X-WR-CALDESC:Eventos para Ayuntamiento de Mérida
REFRESH-INTERVAL;VALUE=DURATION:PT1H
X-Robots-Tag:noindex
X-PUBLISHED-TTL:PT1H
BEGIN:VTIMEZONE
TZID:Europe/Madrid
BEGIN:DAYLIGHT
TZOFFSETFROM:+0100
TZOFFSETTO:+0200
TZNAME:CEST
DTSTART:20200329T010000
END:DAYLIGHT
BEGIN:STANDARD
TZOFFSETFROM:+0200
TZOFFSETTO:+0100
TZNAME:CET
DTSTART:20201025T010000
END:STANDARD
BEGIN:DAYLIGHT
TZOFFSETFROM:+0100
TZOFFSETTO:+0200
TZNAME:CEST
DTSTART:20210328T010000
END:DAYLIGHT
BEGIN:STANDARD
TZOFFSETFROM:+0200
TZOFFSETTO:+0100
TZNAME:CET
DTSTART:20211031T010000
END:STANDARD
BEGIN:DAYLIGHT
TZOFFSETFROM:+0100
TZOFFSETTO:+0200
TZNAME:CEST
DTSTART:20220327T010000
END:DAYLIGHT
BEGIN:STANDARD
TZOFFSETFROM:+0200
TZOFFSETTO:+0100
TZNAME:CET
DTSTART:20221030T010000
END:STANDARD
END:VTIMEZONE
BEGIN:VEVENT
DTSTART;TZID=Europe/Madrid:20210925T100000
DTEND;TZID=Europe/Madrid:20210925T100000
DTSTAMP:20260420T003319
CREATED:20210909T113908Z
LAST-MODIFIED:20210909T114034Z
UID:102779-1632564000-1632564000@merida.es
SUMMARY:VIII Encuentro Solidaridad y Participación Social
DESCRIPTION:El sábado 25 de septiembre en la plaza del Templo de Diana\, tendrá lugar  el 8º Encuentro para la Solidaridad y la Participación Social Emeritense\, un acto abierto a toda la ciudadanía donde las entidades sociales integradas en la Plataforma mantendrán puntos informativos para mostrar todas sus actividades. \nAdemás\, este año el Encuentro será escenario de la celebración del Día Internacional de las Personas con Discapacidad Auditiva\, por lo que parte de las acciones programadas estarán dedicadas a ellas y FEDAPAS dará lectura a su manifiesto oficial. \nEl acto de inauguración será a las 10:30 horas\, por parte de las autoridades asistentes y a continuación se procederá a la lectura del manifiesto por el Día Internacional de las personas con Discapacidad Auditiva y a la interpretación de un cuenta cuento en lengua de signos\, por parte de ADABA.
URL:https://merida.es/agenda/viii-encuentro-solidaridad-participacion-social/
LOCATION:Templo de Diana\, Calle Romero Leal\, s/n\, Mérida
CATEGORIES:Benéfico,Música
ATTACH;FMTTYPE=image/jpeg:https://merida.es/wp-content/uploads/2021/09/2021-voluntariado-merida-peq.jpg
END:VEVENT
END:VCALENDAR