﻿BEGIN:VCALENDAR
VERSION:2.0
PRODID:-//Ayuntamiento de Mérida - ECPv6.15.17.1//NONSGML v1.0//EN
CALSCALE:GREGORIAN
METHOD:PUBLISH
X-WR-CALNAME:Ayuntamiento de Mérida
X-ORIGINAL-URL:https://merida.es
X-WR-CALDESC:Eventos para Ayuntamiento de Mérida
REFRESH-INTERVAL;VALUE=DURATION:PT1H
X-Robots-Tag:noindex
X-PUBLISHED-TTL:PT1H
BEGIN:VTIMEZONE
TZID:Europe/Madrid
BEGIN:DAYLIGHT
TZOFFSETFROM:+0100
TZOFFSETTO:+0200
TZNAME:CEST
DTSTART:20200329T010000
END:DAYLIGHT
BEGIN:STANDARD
TZOFFSETFROM:+0200
TZOFFSETTO:+0100
TZNAME:CET
DTSTART:20201025T010000
END:STANDARD
BEGIN:DAYLIGHT
TZOFFSETFROM:+0100
TZOFFSETTO:+0200
TZNAME:CEST
DTSTART:20210328T010000
END:DAYLIGHT
BEGIN:STANDARD
TZOFFSETFROM:+0200
TZOFFSETTO:+0100
TZNAME:CET
DTSTART:20211031T010000
END:STANDARD
BEGIN:DAYLIGHT
TZOFFSETFROM:+0100
TZOFFSETTO:+0200
TZNAME:CEST
DTSTART:20220327T010000
END:DAYLIGHT
BEGIN:STANDARD
TZOFFSETFROM:+0200
TZOFFSETTO:+0100
TZNAME:CET
DTSTART:20221030T010000
END:STANDARD
END:VTIMEZONE
BEGIN:VEVENT
DTSTART;TZID=Europe/Madrid:20211211T123000
DTEND;TZID=Europe/Madrid:20211211T123000
DTSTAMP:20260419T155701
CREATED:20211204T164007Z
LAST-MODIFIED:20211204T164007Z
UID:106372-1639225800-1639225800@merida.es
SUMMARY:Partido Benéfico de Balonmano: "Quiero\, puedo y lo haré"
DESCRIPTION:El sábado 11 de diciembre\, a las 12:30 horas\, el Complejo Polideportivo de La Paz acoge un partido benéfico de balonmano ‘Quiero\, puedo y lo haré’ en el que se enfrentarán un combinado formado por los equipos de Sporting La Garrovilla\, Calamonte y Josefinas Mérida contra la Selección Juvenil Extremeña. Entrada: 2€
URL:https://merida.es/agenda/partido-benefico-de-balonmano-quiero-puedo-y-lo-hare/
LOCATION:Complejo Polideportivo La Paz\, Calle Trébol\, s/n\, Mérida\, España
CATEGORIES:Benéfico,Deporte
ATTACH;FMTTYPE=image/jpeg:https://merida.es/wp-content/uploads/2021/12/2021-partido-benefico-balonmano-peq.jpg
END:VEVENT
BEGIN:VEVENT
DTSTART;TZID=Europe/Madrid:20211219T130000
DTEND;TZID=Europe/Madrid:20211219T130000
DTSTAMP:20260419T155701
CREATED:20211213T113727Z
LAST-MODIFIED:20211213T113727Z
UID:106626-1639918800-1639918800@merida.es
SUMMARY:III Convivencia Solidaria de Nueva Ciudad
DESCRIPTION:La Asociación de Vecinos de Nueva Ciudad organiza la III Convivencia Navideña\, el domingo 19 de diciembre\, a partir de las 13:00 horas\, en la Plaza Gabriel y Galán\, con numerosas actuaciones musicales y de danza y la visita de los Reyes Magos. Habrá migas solidarias\, barra con precios populares y castillo hinchable.
URL:https://merida.es/agenda/iii-convivencia-solidaria-de-nueva-ciudad/
LOCATION:Plaza de Gabriel y Galán\, Mérida
CATEGORIES:Benéfico,Convivencia,Navidad
ATTACH;FMTTYPE=image/jpeg:https://merida.es/wp-content/uploads/2021/12/2021-convivencia-navidena-nueva-ciudad-peq.jpg
END:VEVENT
END:VCALENDAR