﻿BEGIN:VCALENDAR
VERSION:2.0
PRODID:-//Ayuntamiento de Mérida - ECPv6.15.17.1//NONSGML v1.0//EN
CALSCALE:GREGORIAN
METHOD:PUBLISH
X-ORIGINAL-URL:https://merida.es
X-WR-CALDESC:Eventos para Ayuntamiento de Mérida
REFRESH-INTERVAL;VALUE=DURATION:PT1H
X-Robots-Tag:noindex
X-PUBLISHED-TTL:PT1H
BEGIN:VTIMEZONE
TZID:Europe/Madrid
BEGIN:DAYLIGHT
TZOFFSETFROM:+0100
TZOFFSETTO:+0200
TZNAME:CEST
DTSTART:20230326T010000
END:DAYLIGHT
BEGIN:STANDARD
TZOFFSETFROM:+0200
TZOFFSETTO:+0100
TZNAME:CET
DTSTART:20231029T010000
END:STANDARD
BEGIN:DAYLIGHT
TZOFFSETFROM:+0100
TZOFFSETTO:+0200
TZNAME:CEST
DTSTART:20240331T010000
END:DAYLIGHT
BEGIN:STANDARD
TZOFFSETFROM:+0200
TZOFFSETTO:+0100
TZNAME:CET
DTSTART:20241027T010000
END:STANDARD
BEGIN:DAYLIGHT
TZOFFSETFROM:+0100
TZOFFSETTO:+0200
TZNAME:CEST
DTSTART:20250330T010000
END:DAYLIGHT
BEGIN:STANDARD
TZOFFSETFROM:+0200
TZOFFSETTO:+0100
TZNAME:CET
DTSTART:20251026T010000
END:STANDARD
END:VTIMEZONE
BEGIN:VEVENT
DTSTART;TZID=Europe/Madrid:20240727T213000
DTEND;TZID=Europe/Madrid:20240727T213000
DTSTAMP:20260420T203104
CREATED:20240604T102704Z
LAST-MODIFIED:20240715T065940Z
UID:131339-1722115800-1722115800@merida.es
SUMMARY:I Ruta Nocturna por la ELA
DESCRIPTION:El Club Deportivo Caminos Romanos organiza la I Ruta Nocturna por la ELA el próximo sábado 27 de julio\, a partir de las 21:30 horas\, a beneficio de ELA Extremadura. Se trata de una ruta urbana que transcurre cerca de los monumentos de la ciudad. \nEl recorrido de unos 5 km tendrá la salida en el Parque Infantil Barriada Enrique Tierno Galván\, a las 21:30 horas\, y luego seguirá por los Jardines Acueducto de San Lazaro; Avda. Felipe Corchero; cruce calle San Lazaro (personas en silla de ruedas continuaran por Avda. Felipe Corchero hasta Cruce con Camino Viejo de Mirandilla\, donde se incorporarán); Parque del Rio Albarregas; cruce Camino Viejo de Mirandilla; continuar por Puente s/rio Albarregas; paso por Acueducto Romano de Los Milagros; Parque saludable Jardín del Albarregas; cruce Parque Cesar Lozano; cruce Avda. Rodriguez Ibarra bajo el puente; entrada en la Isla; subida al Puente Romano por el descendedero; Puente Romano; entrada en Alcazaba (22:45 horas); salida por calle calle Graciano; Plaza del Rastro; calle Romero Leal; Templo de Diana; calle Santa Catalina; calle Santa Eulalia; calle Juan Pablo Forner; calle Trajano; Arco de Trajano; calle Santa Julia y Plaza de España sobre las 23:15 horas. A las 23:30 horas\, se leerá un manifiesto. \nLa fecha de apertura de las inscripciones será el día 1 de Junio (sábado) a partir de las 12:00 horas. Y caso de no ser agotadas las plazas\, la fecha de cierre de las inscripciones será el día 22 de julio de 2.024 a las 23:59 horas. Las inscripciones podrán realizarse directamente a través de https://www.chipserena.es \nEl precio de la inscripción será de 9 euros e incluye camiseta técnica y botella de agua.
URL:https://merida.es/agenda/i-ruta-nocturna-por-la-ela/
LOCATION:Recorrido Urbano\, Mérida
CATEGORIES:Benéfico,Deporte
ATTACH;FMTTYPE=image/jpeg:https://merida.es/wp-content/uploads/2024/06/2024-ruta-nocturna-ela-peq.jpg
END:VEVENT
END:VCALENDAR