﻿BEGIN:VCALENDAR
VERSION:2.0
PRODID:-//Ayuntamiento de Mérida - ECPv6.15.17.1//NONSGML v1.0//EN
CALSCALE:GREGORIAN
METHOD:PUBLISH
X-ORIGINAL-URL:https://merida.es
X-WR-CALDESC:Eventos para Ayuntamiento de Mérida
REFRESH-INTERVAL;VALUE=DURATION:PT1H
X-Robots-Tag:noindex
X-PUBLISHED-TTL:PT1H
BEGIN:VTIMEZONE
TZID:Europe/Madrid
BEGIN:DAYLIGHT
TZOFFSETFROM:+0100
TZOFFSETTO:+0200
TZNAME:CEST
DTSTART:20200329T010000
END:DAYLIGHT
BEGIN:STANDARD
TZOFFSETFROM:+0200
TZOFFSETTO:+0100
TZNAME:CET
DTSTART:20201025T010000
END:STANDARD
BEGIN:DAYLIGHT
TZOFFSETFROM:+0100
TZOFFSETTO:+0200
TZNAME:CEST
DTSTART:20210328T010000
END:DAYLIGHT
BEGIN:STANDARD
TZOFFSETFROM:+0200
TZOFFSETTO:+0100
TZNAME:CET
DTSTART:20211031T010000
END:STANDARD
BEGIN:DAYLIGHT
TZOFFSETFROM:+0100
TZOFFSETTO:+0200
TZNAME:CEST
DTSTART:20220327T010000
END:DAYLIGHT
BEGIN:STANDARD
TZOFFSETFROM:+0200
TZOFFSETTO:+0100
TZNAME:CET
DTSTART:20221030T010000
END:STANDARD
END:VTIMEZONE
BEGIN:VEVENT
DTSTART;VALUE=DATE:20211105
DTEND;VALUE=DATE:20211113
DTSTAMP:20260419T231622
CREATED:20211102T203109Z
LAST-MODIFIED:20211102T203109Z
UID:104962-1636070400-1636761599@merida.es
SUMMARY:Cena y Rastrillo Solidario 2021 Fundación Prodean
DESCRIPTION:La delegación en Mérida de Fundación Prodean ha organizado para este año el tradicional rastrillo\, así como la cena y la merienda solidaria a beneficio esta vez del proyecto No hay futuro sin educación en Camerún. \nEl rastrillo se celebrará los días 10\,11 y 12 de noviembre de 2021 de 11.00 a 14.00 horas y de 17.00 a 20.30 horas. En cuanto a la cena\, se celebrará el viernes 5 de noviembre de 2021 a las 21.00 horas y la merienda será el jueves 11 de noviembre de 2021 a las 18.00 horas. Todos los encuentros benéficos se celebrarán en el Parador de Mérida (Plaza de la Constitución\, 1). \nTodos los interesados en colaborar\, pueden adquirir sus entradas o pedir más información en el teléfono 661 523 672.
URL:https://merida.es/agenda/cena-y-rastrillo-solidario-2021-fundacion-prodean/
LOCATION:Parador de Mérida\, Plaza de la Constitución\, Mérida\, 06800\, España
CATEGORIES:Benéfico
ATTACH;FMTTYPE=image/jpeg:https://merida.es/wp-content/uploads/2021/11/2021-mercadillo-prodean-peq.jpg
END:VEVENT
BEGIN:VEVENT
DTSTART;TZID=Europe/Madrid:20211106T213000
DTEND;TZID=Europe/Madrid:20211106T213000
DTSTAMP:20260419T231622
CREATED:20211101T220906Z
LAST-MODIFIED:20211101T220906Z
UID:104881-1636234200-1636234200@merida.es
SUMMARY:VIII Gala Solidaria Frente al Cáncer a beneficio de AOEX Mérida
DESCRIPTION:La VIII Gala Solidaria frente al Cáncer se celebrará el próximo 6 de noviembre\, a las 21:30 horas\, organizada por el Restaurante El Yate cuyos beneficios serán destinados a AOEX Mérida. El desarrollo de la Gala será en el transcurso de una cena\, con un precio del cubierto de 25 euros. Actuará el grupo ‘Derroche’ y habrá diferentes sorteos.
URL:https://merida.es/agenda/viii-gala-solidaria-frente-al-cancer-a-beneficio-de-aoex-merida/
LOCATION:Mesón Restaurante El Yate\, Calle Canteros\, 5\, Mérida
CATEGORIES:Benéfico,Gala
ATTACH;FMTTYPE=image/jpeg:https://merida.es/wp-content/uploads/2021/11/2021-aoex-gala-peq.jpg
END:VEVENT
END:VCALENDAR