﻿BEGIN:VCALENDAR
VERSION:2.0
PRODID:-//Ayuntamiento de Mérida - ECPv6.15.17.1//NONSGML v1.0//EN
CALSCALE:GREGORIAN
METHOD:PUBLISH
X-ORIGINAL-URL:https://merida.es
X-WR-CALDESC:Eventos para Ayuntamiento de Mérida
REFRESH-INTERVAL;VALUE=DURATION:PT1H
X-Robots-Tag:noindex
X-PUBLISHED-TTL:PT1H
BEGIN:VTIMEZONE
TZID:Europe/Madrid
BEGIN:DAYLIGHT
TZOFFSETFROM:+0100
TZOFFSETTO:+0200
TZNAME:CEST
DTSTART:20210328T010000
END:DAYLIGHT
BEGIN:STANDARD
TZOFFSETFROM:+0200
TZOFFSETTO:+0100
TZNAME:CET
DTSTART:20211031T010000
END:STANDARD
BEGIN:DAYLIGHT
TZOFFSETFROM:+0100
TZOFFSETTO:+0200
TZNAME:CEST
DTSTART:20220327T010000
END:DAYLIGHT
BEGIN:STANDARD
TZOFFSETFROM:+0200
TZOFFSETTO:+0100
TZNAME:CET
DTSTART:20221030T010000
END:STANDARD
BEGIN:DAYLIGHT
TZOFFSETFROM:+0100
TZOFFSETTO:+0200
TZNAME:CEST
DTSTART:20230326T010000
END:DAYLIGHT
BEGIN:STANDARD
TZOFFSETFROM:+0200
TZOFFSETTO:+0100
TZNAME:CET
DTSTART:20231029T010000
END:STANDARD
END:VTIMEZONE
BEGIN:VEVENT
DTSTART;TZID=Europe/Madrid:20220312T130000
DTEND;TZID=Europe/Madrid:20220312T130000
DTSTAMP:20260419T214459
CREATED:20220310T105009Z
LAST-MODIFIED:20220311T131115Z
UID:109835-1647090000-1647090000@merida.es
SUMMARY:Convivencia Solidaria La Revirá de la Cofradía Infantil
DESCRIPTION:El sábado 12 de marzo\, la Cofradía Infantil organiza la Convivencia Solidaria La Revirá con las actuaciones de O.J.E Merida\, Chirigota Las Desiguales\, Chirigota Las Fanáticas\, la Comparsa Coleccionista de Alegrias y Comparsa Las Iguales. A partir de las 13:00 horas\, en la Plaza de Santa María.
URL:https://merida.es/agenda/convivencia-solidaria-la-revira-de-la-cofradia-infantil/
LOCATION:Plaza de Santa María\, Mérida
CATEGORIES:Benéfico,Convivencia
ATTACH;FMTTYPE=image/jpeg:https://merida.es/wp-content/uploads/2022/03/2022-convivencia-infantil-peq2.jpeg
END:VEVENT
END:VCALENDAR