﻿BEGIN:VCALENDAR
VERSION:2.0
PRODID:-//Ayuntamiento de Mérida - ECPv6.15.17.1//NONSGML v1.0//EN
CALSCALE:GREGORIAN
METHOD:PUBLISH
X-WR-CALNAME:Ayuntamiento de Mérida
X-ORIGINAL-URL:https://merida.es
X-WR-CALDESC:Eventos para Ayuntamiento de Mérida
REFRESH-INTERVAL;VALUE=DURATION:PT1H
X-Robots-Tag:noindex
X-PUBLISHED-TTL:PT1H
BEGIN:VTIMEZONE
TZID:Europe/Madrid
BEGIN:DAYLIGHT
TZOFFSETFROM:+0100
TZOFFSETTO:+0200
TZNAME:CEST
DTSTART:20230326T010000
END:DAYLIGHT
BEGIN:STANDARD
TZOFFSETFROM:+0200
TZOFFSETTO:+0100
TZNAME:CET
DTSTART:20231029T010000
END:STANDARD
BEGIN:DAYLIGHT
TZOFFSETFROM:+0100
TZOFFSETTO:+0200
TZNAME:CEST
DTSTART:20240331T010000
END:DAYLIGHT
BEGIN:STANDARD
TZOFFSETFROM:+0200
TZOFFSETTO:+0100
TZNAME:CET
DTSTART:20241027T010000
END:STANDARD
BEGIN:DAYLIGHT
TZOFFSETFROM:+0100
TZOFFSETTO:+0200
TZNAME:CEST
DTSTART:20250330T010000
END:DAYLIGHT
BEGIN:STANDARD
TZOFFSETFROM:+0200
TZOFFSETTO:+0100
TZNAME:CET
DTSTART:20251026T010000
END:STANDARD
END:VTIMEZONE
BEGIN:VEVENT
DTSTART;TZID=Europe/Madrid:20241215T113000
DTEND;TZID=Europe/Madrid:20241215T113000
DTSTAMP:20260419T202352
CREATED:20241201T224802Z
LAST-MODIFIED:20241201T224802Z
UID:136125-1734262200-1734262200@merida.es
SUMMARY:X Belén Viviente de San José
DESCRIPTION:La Hermandad de la Sagrada Cena organiza su tradicional Belén Viviente\, el domingo 15 de diciembre\, a partir de las 11.30 horas\, junto a la Parroquia San José. Se recogerán alimentos y donativos para Cáritas así como juguetes para Cruz Roja. Con actuaciones de coros y grupos y ambiente navideño. \nAl mismo tiempo que el Belén\, también se realizará el V Concurso de migas extremeñas
URL:https://merida.es/agenda/x-belen-viviente-de-san-jose/
LOCATION:Parroquia de San José
CATEGORIES:Benéfico,Navidad
ATTACH;FMTTYPE=image/jpeg:https://merida.es/wp-content/uploads/2024/12/2024-belen-viviente-peq.jpg
END:VEVENT
BEGIN:VEVENT
DTSTART;TZID=Europe/Madrid:20241215T130000
DTEND;TZID=Europe/Madrid:20241215T130000
DTSTAMP:20260419T202352
CREATED:20241213T092028Z
LAST-MODIFIED:20241213T092131Z
UID:136477-1734267600-1734267600@merida.es
SUMMARY:VI Convivencia Solidaria de Nueva Ciudad
DESCRIPTION:La Asociación de Vecinos de Nueva Ciudad organiza la VI Convivencia Navideña\, el domingo 15 de diciembre\, a partir de las 13:00 horas\, en la Plaza de Gabriel y Galán\, con numerosas actuaciones musicales y la visita de los Reyes Magos. Habrá migas solidarias y barra con precios populares
URL:https://merida.es/agenda/vi-convivencia-solidaria-de-nueva-ciudad/
LOCATION:Plaza de Gabriel y Galán\, Mérida
CATEGORIES:Benéfico,Convivencia,Navidad
ATTACH;FMTTYPE=image/jpeg:https://merida.es/wp-content/uploads/2024/12/2024-convivencia-solidaria-nueva-ciudad-peq.jpeg
END:VEVENT
END:VCALENDAR