﻿BEGIN:VCALENDAR
VERSION:2.0
PRODID:-//Ayuntamiento de Mérida - ECPv6.15.17.1//NONSGML v1.0//EN
CALSCALE:GREGORIAN
METHOD:PUBLISH
X-ORIGINAL-URL:https://merida.es
X-WR-CALDESC:Eventos para Ayuntamiento de Mérida
REFRESH-INTERVAL;VALUE=DURATION:PT1H
X-Robots-Tag:noindex
X-PUBLISHED-TTL:PT1H
BEGIN:VTIMEZONE
TZID:Europe/Madrid
BEGIN:DAYLIGHT
TZOFFSETFROM:+0100
TZOFFSETTO:+0200
TZNAME:CEST
DTSTART:20220327T010000
END:DAYLIGHT
BEGIN:STANDARD
TZOFFSETFROM:+0200
TZOFFSETTO:+0100
TZNAME:CET
DTSTART:20221030T010000
END:STANDARD
BEGIN:DAYLIGHT
TZOFFSETFROM:+0100
TZOFFSETTO:+0200
TZNAME:CEST
DTSTART:20230326T010000
END:DAYLIGHT
BEGIN:STANDARD
TZOFFSETFROM:+0200
TZOFFSETTO:+0100
TZNAME:CET
DTSTART:20231029T010000
END:STANDARD
BEGIN:DAYLIGHT
TZOFFSETFROM:+0100
TZOFFSETTO:+0200
TZNAME:CEST
DTSTART:20240331T010000
END:DAYLIGHT
BEGIN:STANDARD
TZOFFSETFROM:+0200
TZOFFSETTO:+0100
TZNAME:CET
DTSTART:20241027T010000
END:STANDARD
END:VTIMEZONE
BEGIN:VEVENT
DTSTART;TZID=Europe/Madrid:20230129T120000
DTEND;TZID=Europe/Madrid:20230129T120000
DTSTAMP:20260419T144309
CREATED:20230125T223324Z
LAST-MODIFIED:20230125T223324Z
UID:118285-1674993600-1674993600@merida.es
SUMMARY:Gran Fiesta Carnavalera de La Antigua
DESCRIPTION:La asociación de vecinos Nuestra Señora de La Antigua organiza\, un año más\, la Fiesta Carnavalera de La Antigua\, el domingo 29 de enero\, a partir de las 12:00 horas\, en el Parque de la Ermita de La Antigua. Habrá actuaciones de grupos carnavaleros y DJs y degustaciones gratuitas.
URL:https://merida.es/agenda/gran-fiesta-carnavalera-de-la-antigua-2023/
LOCATION:Parque de la Ermita de La Antigua
CATEGORIES:Carnaval
ATTACH;FMTTYPE=image/jpeg:https://merida.es/wp-content/uploads/2023/01/2023-convivencia-carnavalera-peq.jpeg
END:VEVENT
END:VCALENDAR