﻿BEGIN:VCALENDAR
VERSION:2.0
PRODID:-//Ayuntamiento de Mérida - ECPv6.15.17.1//NONSGML v1.0//EN
CALSCALE:GREGORIAN
METHOD:PUBLISH
X-ORIGINAL-URL:https://merida.es
X-WR-CALDESC:Eventos para Ayuntamiento de Mérida
REFRESH-INTERVAL;VALUE=DURATION:PT1H
X-Robots-Tag:noindex
X-PUBLISHED-TTL:PT1H
BEGIN:VTIMEZONE
TZID:Europe/Madrid
BEGIN:DAYLIGHT
TZOFFSETFROM:+0100
TZOFFSETTO:+0200
TZNAME:CEST
DTSTART:20190331T010000
END:DAYLIGHT
BEGIN:STANDARD
TZOFFSETFROM:+0200
TZOFFSETTO:+0100
TZNAME:CET
DTSTART:20191027T010000
END:STANDARD
BEGIN:DAYLIGHT
TZOFFSETFROM:+0100
TZOFFSETTO:+0200
TZNAME:CEST
DTSTART:20200329T010000
END:DAYLIGHT
BEGIN:STANDARD
TZOFFSETFROM:+0200
TZOFFSETTO:+0100
TZNAME:CET
DTSTART:20201025T010000
END:STANDARD
BEGIN:DAYLIGHT
TZOFFSETFROM:+0100
TZOFFSETTO:+0200
TZNAME:CEST
DTSTART:20210328T010000
END:DAYLIGHT
BEGIN:STANDARD
TZOFFSETFROM:+0200
TZOFFSETTO:+0100
TZNAME:CET
DTSTART:20211031T010000
END:STANDARD
END:VTIMEZONE
BEGIN:VEVENT
DTSTART;TZID=Europe/Madrid:20201105T200000
DTEND;TZID=Europe/Madrid:20201105T200000
DTSTAMP:20260422T095811
CREATED:20201103T134704Z
LAST-MODIFIED:20201103T134704Z
UID:77328-1604606400-1604606400@merida.es
SUMMARY:Ciclo de Conferencias Ciudades Romanas de Hispania: "Olisipo"
DESCRIPTION:Durante el último trimestre de 2020 y a lo largo de 2021 se desarrollará el ciclo internacional de conferencias ‘Ciudades Romanas de Hispania’ con participación presencial en el Salón de Actos del MNAR (aforo limitado según normativa vigente) y que podrá visualizarse en el canal de YouTube del Museo.\nEl 5 de noviembre\, a las 20:00 horas\, se impartirá la conferencia «Olisipo» a cargo de Carlos Fabiao\, de la Universidad de Lisboa.\nMás información: http://www.culturaydeporte.gob.es/mnromano
URL:https://merida.es/agenda/ciclo-de-conferencias-ciudades-romanas-de-hispania-olisipo/
LOCATION:Museo Nacional de Arte Romano\, Calle José Ramón Mélida\, Mérida\, Badajoz\, 06800\, España
CATEGORIES:Charla-Conferencia
ATTACH;FMTTYPE=image/jpeg:https://merida.es/wp-content/uploads/2020/09/conferencias-ciudades-romanas-banner.jpg
END:VEVENT
BEGIN:VEVENT
DTSTART;TZID=Europe/Madrid:20201112T200000
DTEND;TZID=Europe/Madrid:20201112T200000
DTSTAMP:20260422T095811
CREATED:20201109T093311Z
LAST-MODIFIED:20201109T093311Z
UID:77444-1605211200-1605211200@merida.es
SUMMARY:Ciclo de Conferencias Ciudades Romanas de Hispania: "Conimbriga"
DESCRIPTION:Durante el último trimestre de 2020 y a lo largo de 2021 se desarrollará el ciclo internacional de conferencias ‘Ciudades Romanas de Hispania’ con participación presencial en el Salón de Actos del MNAR (aforo limitado según normativa vigente) y que podrá visualizarse en el canal de YouTube del Museo.\nEl 12 de noviembre\, a las 20:00 horas\, se impartirá la conferencia «Conimbriga» a cargo de Virgilio Hipólito Correia\, del Museu Monográfico e Ruinas de Conimbriga.\nMás información: http://www.culturaydeporte.gob.es/mnromano
URL:https://merida.es/agenda/ciclo-de-conferencias-ciudades-romanas-de-hispania-conimbriga/
LOCATION:Museo Nacional de Arte Romano\, Calle José Ramón Mélida\, Mérida\, Badajoz\, 06800\, España
CATEGORIES:Charla-Conferencia
ATTACH;FMTTYPE=image/jpeg:https://merida.es/wp-content/uploads/2020/09/conferencias-ciudades-romanas-banner.jpg
END:VEVENT
BEGIN:VEVENT
DTSTART;TZID=Europe/Madrid:20201119T200000
DTEND;TZID=Europe/Madrid:20201119T200000
DTSTAMP:20260422T095811
CREATED:20201117T174715Z
LAST-MODIFIED:20201117T174715Z
UID:77684-1605816000-1605816000@merida.es
SUMMARY:Ciclo de Conferencias Ciudades Romanas de Hispania: "Aeminium"
DESCRIPTION:Durante el último trimestre de 2020 y a lo largo de 2021 se desarrollará el ciclo internacional de conferencias ‘Ciudades Romanas de Hispania’ con participación presencial en el Salón de Actos del MNAR (aforo limitado según normativa vigente) y que podrá visualizarse en el canal de YouTube del Museo.\nEl 19 de noviembre\, a las 20:00 horas\, se impartirá la conferencia «Aeminium» a cargo de Pedro C. Carvalho\, de la Universidad de Coimbra.\nMás información: http://www.culturaydeporte.gob.es/mnromano
URL:https://merida.es/agenda/ciclo-de-conferencias-ciudades-romanas-de-hispania-aeminium/
LOCATION:Museo Nacional de Arte Romano\, Calle José Ramón Mélida\, Mérida\, Badajoz\, 06800\, España
CATEGORIES:Charla-Conferencia
ATTACH;FMTTYPE=image/jpeg:https://merida.es/wp-content/uploads/2020/09/conferencias-ciudades-romanas-banner.jpg
END:VEVENT
BEGIN:VEVENT
DTSTART;TZID=Europe/Madrid:20201121T110000
DTEND;TZID=Europe/Madrid:20201121T133000
DTSTAMP:20260422T095811
CREATED:20201117T171630Z
LAST-MODIFIED:20201117T171630Z
UID:77678-1605956400-1605965400@merida.es
SUMMARY:Encuentro flamenco con 'El Junco'
DESCRIPTION:  \nEl sábado 21 de noviembre\, de 11:00 a 13:30 horas\, el Centro Cultural Alcazaba acogerá un encuentro flamenco de entendimiento y acercamiento al flamenco\, para todas las edades y públicos\, de la mano de ‘El Junco’.\nSerá un taller divertido y didáctico en donde se enseñará a través de juegos de palabras\, asociaciones\, metáforas\, cante\, desparpajo y refranes la enseñanza del arte flamenco y la vida en general.\nAdemás\, se llevará a cabo la actividad ‘Conoce al artista’\, en la que se narrará su vida artística mediante preguntas que le podrá ir haciendo el público y así de esa manera nos podrá acercar su trayectoria\, sacrificio y recompensas que le ha aportado este arte y poder aprender.\nPara poder disfrutar de la actividad\, el registro de acceso se hará mediante el correo meridaflamenca@gmail.com especificando nombre\, apellidos y número de teléfono. Organizan la Asociación Cultural Mérida Flamenca y Ayuntamiento de Mérida para conmemorar el X aniversario del nombramiento del Flamenco como Patrimonio Cultural Inmaterial de la Humanidad.\nJuan José Jaén Arroyo\, ‘El Junco’\, es un bailaor gaditano que comenzó hacer sus primeros bailes en la Peña de Enrique El Mellizo\, pronto pasó a formar parte del grupo Pureza de Cádiz con los mejores artistas como: Chano Lobato\, Juanito Villar\, Mariana Cornejo y un largo etc. Formó parte de la compañía de la bailaora Cristina Hoyos\, como primer bailarín y ayudante de coreografía. También formó parte del Ballet Flamenco de Andalucía como primer bailarín y coreógrafo. En 2008 obtuvo el Premio Max como mejor intérprete masculino de danza. Es uno de los nombres más señalados en el mundo de los tablaos flamenco siendo primera figura en nombres como Corral de la Morería\, Los Gallos\, Casa Patas\, etc. Actualmente prepara un espectáculo de sus 35 años como profesional junto a numerosos artistas de renombre que no nos quiere adelantar.
URL:https://merida.es/agenda/encuentro-flamenco-con-el-junco/
LOCATION:Centro Cultural Alcazaba\, Calle John Lennon\, 5\, Mérida
CATEGORIES:Charla-Conferencia,Danza
ATTACH;FMTTYPE=image/jpeg:https://merida.es/wp-content/uploads/2020/11/2020-junco-peq.jpg
END:VEVENT
BEGIN:VEVENT
DTSTART;VALUE=DATE:20201126
DTEND;VALUE=DATE:20201127
DTSTAMP:20260422T095811
CREATED:20201129T221629Z
LAST-MODIFIED:20201129T221629Z
UID:78022-1606348800-1606435199@merida.es
SUMMARY:Ciclo de Conferencias Ciudades Romanas de Hispania: "Pax Iulia"
DESCRIPTION:Durante el último trimestre de 2020 y a lo largo de 2021 se desarrollará el ciclo internacional de conferencias ‘Ciudades Romanas de Hispania’ con participación presencial en el Salón de Actos del MNAR (aforo limitado según normativa vigente) y que podrá visualizarse en el canal de YouTube del Museo.\nEl 26 de noviembre\, a las 20:00 horas\, se impartirá la conferencia «Pax Iulia» a cargo de Maria da Conceição Lopes\, de la Universidad de Coimbra.\nMás información: http://www.culturaydeporte.gob.es/mnromano
URL:https://merida.es/agenda/ciclo-de-conferencias-ciudades-romanas-de-hispania-pax-iulia/
LOCATION:Museo Nacional de Arte Romano\, Calle José Ramón Mélida\, Mérida\, Badajoz\, 06800\, España
CATEGORIES:Charla-Conferencia
ATTACH;FMTTYPE=image/jpeg:https://merida.es/wp-content/uploads/2020/09/conferencias-ciudades-romanas-banner.jpg
END:VEVENT
END:VCALENDAR