﻿BEGIN:VCALENDAR
VERSION:2.0
PRODID:-//Ayuntamiento de Mérida - ECPv6.15.17.1//NONSGML v1.0//EN
CALSCALE:GREGORIAN
METHOD:PUBLISH
X-WR-CALNAME:Ayuntamiento de Mérida
X-ORIGINAL-URL:https://merida.es
X-WR-CALDESC:Eventos para Ayuntamiento de Mérida
REFRESH-INTERVAL;VALUE=DURATION:PT1H
X-Robots-Tag:noindex
X-PUBLISHED-TTL:PT1H
BEGIN:VTIMEZONE
TZID:Europe/Madrid
BEGIN:DAYLIGHT
TZOFFSETFROM:+0100
TZOFFSETTO:+0200
TZNAME:CEST
DTSTART:20200329T010000
END:DAYLIGHT
BEGIN:STANDARD
TZOFFSETFROM:+0200
TZOFFSETTO:+0100
TZNAME:CET
DTSTART:20201025T010000
END:STANDARD
BEGIN:DAYLIGHT
TZOFFSETFROM:+0100
TZOFFSETTO:+0200
TZNAME:CEST
DTSTART:20210328T010000
END:DAYLIGHT
BEGIN:STANDARD
TZOFFSETFROM:+0200
TZOFFSETTO:+0100
TZNAME:CET
DTSTART:20211031T010000
END:STANDARD
BEGIN:DAYLIGHT
TZOFFSETFROM:+0100
TZOFFSETTO:+0200
TZNAME:CEST
DTSTART:20220327T010000
END:DAYLIGHT
BEGIN:STANDARD
TZOFFSETFROM:+0200
TZOFFSETTO:+0100
TZNAME:CET
DTSTART:20221030T010000
END:STANDARD
END:VTIMEZONE
BEGIN:VEVENT
DTSTART;VALUE=DATE:20210303
DTEND;VALUE=DATE:20210310
DTSTAMP:20260422T002707
CREATED:20210302T205719Z
LAST-MODIFIED:20210302T205719Z
UID:80274-1614729600-1615334399@merida.es
SUMMARY:Semana temática: "Ser mujer en Roma"
DESCRIPTION:Un año más\, el Museo Nacional de Arte Romano se suma a la celebración del Día de la Mujer con la Semana Temática «Ser Mujer en Roma».\n•  3\, 4\, 5\, 6 y 7 de marzo. 20:00 horas. Canal de YouTube\nRuta temática “Ser Mujer en Roma”. Cada día\, mujeres de la Asociación Recreacionista Ara Concordiae nos llevará a la historia romana a través de piezas singulares del MNAR\, recreando esas historias e intrahistorias de las mujeres romanas.\n•  Lunes\, 8 de marzo. 20:00 horas. Canal de YouTube\nConferencia “La estela de Lampas: una prostituta del siglo II d. C.” por Trinidad Nogales (Directora del MNAR)\n•  Martes\, 9 de marzo. 20:00 horas. Canal de YouTube\nConferencia “Sombra aquí\, sombra allá. ¡Maquíllate\, maquíllate! Sobre la cosmética en la mujer romana” por Nova Barrero. Conservadora del MNAR\nUnidad didáctica “Ser Niña en Roma”. Material educativo dirigido a centros escolares que completará la visión del universo femenino desde la infancia.
URL:https://merida.es/agenda/semana-tematica-ser-mujer-en-roma/
LOCATION:Museo Nacional de Arte Romano\, Calle José Ramón Mélida\, Mérida\, Badajoz\, 06800\, España
CATEGORIES:Charla-Conferencia,Recreación
ATTACH;FMTTYPE=image/jpeg:https://merida.es/wp-content/uploads/2021/03/2021-ser-mujer-en-roma-peq.jpg
END:VEVENT
BEGIN:VEVENT
DTSTART;TZID=Europe/Madrid:20210317T093000
DTEND;TZID=Europe/Madrid:20210317T093000
DTSTAMP:20260422T002707
CREATED:20210316T205855Z
LAST-MODIFIED:20210316T205855Z
UID:80669-1615973400-1615973400@merida.es
SUMMARY:Tribunal Internacional de los Derechos de las Mujeres
DESCRIPTION:El miércoles 17 de marzo tendrá lugar\, en el Centro Cultural Alcazaba\, el ‘Tribunal Internacional de los Derechos de las Mujeres’\, ‍️un tribunal simbólico que ponga de manifiesto la responsabilidad de las distintas instituciones y las reparaciones requeridas en la salvaguarda de los Derechos Humanos de las mujeres y niñas.\nEl Tribunal estará formado por representantes de Asociaciones de Mujeres y Juveniles de Extremadura\, contará con el testimonio de mujeres de Paraguay \, Nicaragua y España.\nEl evento es online y presencial\, pero con inscripción previa. Organiza la Asociación de Mujeres Malvaluna\, con la financiación de AEXCID y la colaboración del Ayuntamiento de Mérida\nMás información: www.malvaluna.org
URL:https://merida.es/agenda/tribunal-internacional-de-los-derechos-de-las-mujeres-2/
LOCATION:Centro Cultural Alcazaba\, Calle John Lennon\, 5\, Mérida
CATEGORIES:Charla-Conferencia
ATTACH;FMTTYPE=image/jpeg:https://merida.es/wp-content/uploads/2021/03/tribunal-mujeres-peq.jpg
END:VEVENT
BEGIN:VEVENT
DTSTART;TZID=Europe/Madrid:20210318T200000
DTEND;TZID=Europe/Madrid:20210318T200000
DTSTAMP:20260422T002707
CREATED:20210316T200427Z
LAST-MODIFIED:20210316T200427Z
UID:80666-1616097600-1616097600@merida.es
SUMMARY:Ciclo de Conferencias Ciudades Romanas de Hispania: "Tarraco"
DESCRIPTION:Durante el último trimestre de 2020 y a lo largo de 2021 se desarrollará el ciclo internacional de conferencias ‘Ciudades Romanas de Hispania’ que podrá visualizarse en el canal de YouTube del Museo.\nEl programa se ha organizado en 34 conferencias\, siguiendo la topografía provincial hispana\, Lusitania\, Baetica y Tarraconensis\, con dos conferencias magistrales de apertura y cierre que proporcionarán una visión de conjunto.\nEl 18 de marzo\, a las 20:00 horas\, se impartirá la conferencia «Tarraco» a cargo de Joaquín Ruiz de Arbulo\, de la Universitat Rovira i Virgili\, Institut Catalá d’Arqueologia Clàssica.\nMás información: http://www.culturaydeporte.gob.es/mnromano
URL:https://merida.es/agenda/ciclo-de-conferencias-ciudades-romanas-de-hispania-tarraco/
LOCATION:Museo Nacional de Arte Romano\, Calle José Ramón Mélida\, Mérida\, Badajoz\, 06800\, España
CATEGORIES:Charla-Conferencia
ATTACH;FMTTYPE=image/jpeg:https://merida.es/wp-content/uploads/2021/03/2021-ciclo-conferencias-iii-peq.jpg
END:VEVENT
BEGIN:VEVENT
DTSTART;VALUE=DATE:20210323
DTEND;VALUE=DATE:20210410
DTSTAMP:20260422T002707
CREATED:20210322T105853Z
LAST-MODIFIED:20210322T105853Z
UID:80754-1616457600-1618012799@merida.es
SUMMARY:Exposición + Conferencia "Concurso Rehabilitación Convento de las Concepcionistas"
DESCRIPTION:En agosto de 2020 se publica en el perfil del contratante la convocatoria del Concurso de proyectos\, a nivel de anteproyecto\, para la Rehabilitación del Convento de las Hermanas Concepcionistas y adecuación de los espacios aledaños al mismo.\nA esta apuesta de la Administración por la recuperación y rehabilitación del patrimonio emeritense respondieron 19 equipos de profesionales de la arquitectura con diversas propuestas\, bajo lema para respetar el anonimato de los participantes. Entre ellas\, finalmente el jurado decidió otorgar el primer permio al proyecto ‘Impluvium‘\, de José María Sánchez García\, valorando su respeto a los elementos arquitectónicos de interés y su defensa por el uso dotacional en la ciudad.\nAsimismo\, fueron concedidos los siguientes premios: ‘Pasen y vean‘ (2º premio\, Antonio Álvarez Cienfuegos Rubio)\, ‘Claustro tomado‘ (3er premio\, Álvarez+Calia+Prieto+Tapia_Arquitectos)\, ‘Mayores+Jóvenes Claustro tomado‘ (4º premio\, Alfonso Cano Pinto – Estudio Cano Laso).\nEn aras de fomentar el debate y el conocimiento al respecto de la intervención en el patrimonio arquitectónico\, organizado por el Ayuntamiento de Mérida y con la colaboración del COADE\, se celebrará una exposición de los proyectos del Concurso en el Centro Cultural La Alcazaba. En el mismo acto tendrá lugar una presentación por parte de la Delegada de Urbanismo del Ayuntamiento de Mérida\, Carmen Yáñez Quirós\, y el Decano del COADE\, Juan Antonio Ortiz Orueta\, seguida de la conferencia del arquitecto José María Sánchez\, ganador del concurso.\nLa exposición de proyectos se mantendrá abierta al público de lunes a viernes en horario de 09:00 h a 14:00 h y de 17:00 h a 20:00 h\, y se podrá visitar hasta el viernes 09 de abril de 2021.\nINAUGURACIÓN + CONFERENCIA JOSÉ MARÍA SÁNCHEZ\nFECHA | Martes 23 de marzo de 2021\, 10:30 h\nLUGAR | Centro Cultural Alcazaba (C/ John Lennon\, 5. Mérida)\nEXPOSICIÓN DE PROYECTOS\nINAUGURACIÓN | Martes 23 de marzo de 2021\nCLAUSURA | Viernes 09 de abril de 2021\nHORARIO | L-V: de 09:00 h a 14:00 h y de 17:00 h a 20:00 h
URL:https://merida.es/agenda/exposicion-conferencia-concurso-rehabilitacion-convento-de-las-concepcionistas/
LOCATION:Centro Cultural Alcazaba\, Calle John Lennon\, 5\, Mérida
CATEGORIES:Charla-Conferencia,Exposición
ATTACH;FMTTYPE=image/jpeg:https://merida.es/wp-content/uploads/2021/03/exposicion-concepcionistas-peq.jpg
END:VEVENT
BEGIN:VEVENT
DTSTART;TZID=Europe/Madrid:20210325T200000
DTEND;TZID=Europe/Madrid:20210325T200000
DTSTAMP:20260422T002707
CREATED:20210322T084655Z
LAST-MODIFIED:20210322T084655Z
UID:80744-1616702400-1616702400@merida.es
SUMMARY:Ciclo de Conferencias Ciudades Romanas de Hispania: "Barcino"
DESCRIPTION:Durante el último trimestre de 2020 y a lo largo de 2021 se desarrollará el ciclo internacional de conferencias ‘Ciudades Romanas de Hispania’ que podrá visualizarse en el canal de YouTube del Museo.\nEl programa se ha organizado en 34 conferencias\, siguiendo la topografía provincial hispana\, Lusitania\, Baetica y Tarraconensis\, con dos conferencias magistrales de apertura y cierre que proporcionarán una visión de conjunto.\nEl 25 de marzo\, a las 20:00 horas\, se impartirá la conferencia «Barcino» a cargo de Isabel Rodá de Llanza y Julia Beltrán de Heredia de la Universitat Autònoma de Barcelona/Institut Catalã d’Arqueologia Clãssica y Facultat Antoni Gaudí d’Història de l’Església\, Arqueologia i Arts Cristianes\nMás información: http://www.culturaydeporte.gob.es/mnromano
URL:https://merida.es/agenda/ciclo-de-conferencias-ciudades-romanas-de-hispania-barcino/
LOCATION:Museo Nacional de Arte Romano\, Calle José Ramón Mélida\, Mérida\, Badajoz\, 06800\, España
CATEGORIES:Charla-Conferencia
ATTACH;FMTTYPE=image/jpeg:https://merida.es/wp-content/uploads/2021/03/2021-ciclo-conferencias-iii-peq.jpg
END:VEVENT
END:VCALENDAR