﻿BEGIN:VCALENDAR
VERSION:2.0
PRODID:-//Ayuntamiento de Mérida - ECPv6.15.17.1//NONSGML v1.0//EN
CALSCALE:GREGORIAN
METHOD:PUBLISH
X-ORIGINAL-URL:https://merida.es
X-WR-CALDESC:Eventos para Ayuntamiento de Mérida
REFRESH-INTERVAL;VALUE=DURATION:PT1H
X-Robots-Tag:noindex
X-PUBLISHED-TTL:PT1H
BEGIN:VTIMEZONE
TZID:Europe/Madrid
BEGIN:DAYLIGHT
TZOFFSETFROM:+0100
TZOFFSETTO:+0200
TZNAME:CEST
DTSTART:20200329T010000
END:DAYLIGHT
BEGIN:STANDARD
TZOFFSETFROM:+0200
TZOFFSETTO:+0100
TZNAME:CET
DTSTART:20201025T010000
END:STANDARD
BEGIN:DAYLIGHT
TZOFFSETFROM:+0100
TZOFFSETTO:+0200
TZNAME:CEST
DTSTART:20210328T010000
END:DAYLIGHT
BEGIN:STANDARD
TZOFFSETFROM:+0200
TZOFFSETTO:+0100
TZNAME:CET
DTSTART:20211031T010000
END:STANDARD
BEGIN:DAYLIGHT
TZOFFSETFROM:+0100
TZOFFSETTO:+0200
TZNAME:CEST
DTSTART:20220327T010000
END:DAYLIGHT
BEGIN:STANDARD
TZOFFSETFROM:+0200
TZOFFSETTO:+0100
TZNAME:CET
DTSTART:20221030T010000
END:STANDARD
END:VTIMEZONE
BEGIN:VEVENT
DTSTART;VALUE=DATE:20210323
DTEND;VALUE=DATE:20210410
DTSTAMP:20260421T113403
CREATED:20210322T105853Z
LAST-MODIFIED:20210322T105853Z
UID:80754-1616457600-1618012799@merida.es
SUMMARY:Exposición + Conferencia "Concurso Rehabilitación Convento de las Concepcionistas"
DESCRIPTION:En agosto de 2020 se publica en el perfil del contratante la convocatoria del Concurso de proyectos\, a nivel de anteproyecto\, para la Rehabilitación del Convento de las Hermanas Concepcionistas y adecuación de los espacios aledaños al mismo.\nA esta apuesta de la Administración por la recuperación y rehabilitación del patrimonio emeritense respondieron 19 equipos de profesionales de la arquitectura con diversas propuestas\, bajo lema para respetar el anonimato de los participantes. Entre ellas\, finalmente el jurado decidió otorgar el primer permio al proyecto ‘Impluvium‘\, de José María Sánchez García\, valorando su respeto a los elementos arquitectónicos de interés y su defensa por el uso dotacional en la ciudad.\nAsimismo\, fueron concedidos los siguientes premios: ‘Pasen y vean‘ (2º premio\, Antonio Álvarez Cienfuegos Rubio)\, ‘Claustro tomado‘ (3er premio\, Álvarez+Calia+Prieto+Tapia_Arquitectos)\, ‘Mayores+Jóvenes Claustro tomado‘ (4º premio\, Alfonso Cano Pinto – Estudio Cano Laso).\nEn aras de fomentar el debate y el conocimiento al respecto de la intervención en el patrimonio arquitectónico\, organizado por el Ayuntamiento de Mérida y con la colaboración del COADE\, se celebrará una exposición de los proyectos del Concurso en el Centro Cultural La Alcazaba. En el mismo acto tendrá lugar una presentación por parte de la Delegada de Urbanismo del Ayuntamiento de Mérida\, Carmen Yáñez Quirós\, y el Decano del COADE\, Juan Antonio Ortiz Orueta\, seguida de la conferencia del arquitecto José María Sánchez\, ganador del concurso.\nLa exposición de proyectos se mantendrá abierta al público de lunes a viernes en horario de 09:00 h a 14:00 h y de 17:00 h a 20:00 h\, y se podrá visitar hasta el viernes 09 de abril de 2021.\nINAUGURACIÓN + CONFERENCIA JOSÉ MARÍA SÁNCHEZ\nFECHA | Martes 23 de marzo de 2021\, 10:30 h\nLUGAR | Centro Cultural Alcazaba (C/ John Lennon\, 5. Mérida)\nEXPOSICIÓN DE PROYECTOS\nINAUGURACIÓN | Martes 23 de marzo de 2021\nCLAUSURA | Viernes 09 de abril de 2021\nHORARIO | L-V: de 09:00 h a 14:00 h y de 17:00 h a 20:00 h
URL:https://merida.es/agenda/exposicion-conferencia-concurso-rehabilitacion-convento-de-las-concepcionistas/
LOCATION:Centro Cultural Alcazaba\, Calle John Lennon\, 5\, Mérida
CATEGORIES:Charla-Conferencia,Exposición
ATTACH;FMTTYPE=image/jpeg:https://merida.es/wp-content/uploads/2021/03/exposicion-concepcionistas-peq.jpg
END:VEVENT
BEGIN:VEVENT
DTSTART;TZID=Europe/Madrid:20210408T200000
DTEND;TZID=Europe/Madrid:20210408T200000
DTSTAMP:20260421T113403
CREATED:20210406T123740Z
LAST-MODIFIED:20210406T123740Z
UID:81064-1617912000-1617912000@merida.es
SUMMARY:Ciclo de Conferencias Ciudades Romanas de Hispania: "Valentia"
DESCRIPTION:Durante el último trimestre de 2020 y a lo largo de 2021 se desarrollará el ciclo internacional de conferencias ‘Ciudades Romanas de Hispania’ que podrá visualizarse en el canal de YouTube del Museo.\nEl programa se ha organizado en 34 conferencias\, siguiendo la topografía provincial hispana\, Lusitania\, Baetica y Tarraconensis\, con dos conferencias magistrales de apertura y cierre que proporcionarán una visión de conjunto.\nEl 25 de marzo\, a las 20:00 horas\, se impartirá la conferencia «Valentia» a cargo de Albert Ribera Lacomba de la Institut Catalã d’Arqueologia Clãssica\nMás información: http://www.culturaydeporte.gob.es/mnromano
URL:https://merida.es/agenda/ciclo-de-conferencias-ciudades-romanas-de-hispania-valentia/
LOCATION:Museo Nacional de Arte Romano\, Calle José Ramón Mélida\, Mérida\, Badajoz\, 06800\, España
CATEGORIES:Charla-Conferencia
ATTACH;FMTTYPE=image/jpeg:https://merida.es/wp-content/uploads/2021/03/2021-ciclo-conferencias-iii-peq.jpg
END:VEVENT
BEGIN:VEVENT
DTSTART;TZID=Europe/Madrid:20210410T103000
DTEND;TZID=Europe/Madrid:20210410T103000
DTSTAMP:20260421T113403
CREATED:20210406T160059Z
LAST-MODIFIED:20210406T160059Z
UID:81071-1618050600-1618050600@merida.es
SUMMARY:Encuentro Plan Municipal LGTBI
DESCRIPTION:Espacio de participación y empatía para escuchar el sentir\, las necesidades y las emociones del colectivo LGTBI de Mérida. Se pretende analizar la ciudad desde la perspectiva de la diversidad e igualdad para idear las líneas estratégicas del primer plan municipal LGTBI de la ciudad de Mérida. Colaboran Fundación Triángulo Extremadura\, Extremadura Entiende e INEXOS.\nInscripciones: https://bit.ly/2PJCKtE
URL:https://merida.es/agenda/encuentro-plan-municipal-lgtbi/
LOCATION:Centro Cultural Alcazaba\, Calle John Lennon\, 5\, Mérida
CATEGORIES:Charla-Conferencia
ATTACH;FMTTYPE=image/jpeg:https://merida.es/wp-content/uploads/2021/04/2021-encuentro-lgtbi-peq.jpg
END:VEVENT
BEGIN:VEVENT
DTSTART;TZID=Europe/Madrid:20210415T200000
DTEND;TZID=Europe/Madrid:20210415T200000
DTSTAMP:20260421T113403
CREATED:20210413T223008Z
LAST-MODIFIED:20210413T223008Z
UID:81304-1618516800-1618516800@merida.es
SUMMARY:Ciclo de Conferencias Ciudades Romanas de Hispania: "Carthago Nova"
DESCRIPTION:Durante el último trimestre de 2020 y a lo largo de 2021 se desarrollará el ciclo internacional de conferencias ‘Ciudades Romanas de Hispania’ que podrá visualizarse en el canal de YouTube del Museo.\nEl programa se ha organizado en 34 conferencias\, siguiendo la topografía provincial hispana\, Lusitania\, Baetica y Tarraconensis\, con dos conferencias magistrales de apertura y cierre que proporcionarán una visión de conjunto.\nEl 15 de abril\, a las 20:00 horas\, se impartirá la conferencia «Carthago Nova» a cargo de José Miguel Noguera Celdrán de la Universidad de Murcia\nMás información: http://www.culturaydeporte.gob.es/mnromano
URL:https://merida.es/agenda/ciclo-de-conferencias-ciudades-romanas-de-hispania-carthago-nova/
LOCATION:Museo Nacional de Arte Romano\, Calle José Ramón Mélida\, Mérida\, Badajoz\, 06800\, España
CATEGORIES:Charla-Conferencia
ATTACH;FMTTYPE=image/jpeg:https://merida.es/wp-content/uploads/2021/03/2021-ciclo-conferencias-iii-peq.jpg
END:VEVENT
BEGIN:VEVENT
DTSTART;TZID=Europe/Madrid:20210422T200000
DTEND;TZID=Europe/Madrid:20210422T200000
DTSTAMP:20260421T113403
CREATED:20210420T094548Z
LAST-MODIFIED:20210420T094548Z
UID:81492-1619121600-1619121600@merida.es
SUMMARY:Ciclo de Conferencias Ciudades Romanas de Hispania: "Caesar Augusta"
DESCRIPTION:Durante el último trimestre de 2020 y a lo largo de 2021 se desarrollará el ciclo internacional de conferencias ‘Ciudades Romanas de Hispania’ que podrá visualizarse en el canal de YouTube del Museo.\nEl programa se ha organizado en 34 conferencias\, siguiendo la topografía provincial hispana\, Lusitania\, Baetica y Tarraconensis\, con dos conferencias magistrales de apertura y cierre que proporcionarán una visión de conjunto.\nEl 22 de abril\, a las 20:00 horas\, se impartirá la conferencia «Caesar Augusta» a cargo de Antonio Mostalac Carrillo de la Universidad de Zaragoza\nMás información: http://www.culturaydeporte.gob.es/mnromano
URL:https://merida.es/agenda/ciclo-de-conferencias-ciudades-romanas-de-hispania-caesar-augusta/
LOCATION:Museo Nacional de Arte Romano\, Calle José Ramón Mélida\, Mérida\, Badajoz\, 06800\, España
CATEGORIES:Charla-Conferencia
ATTACH;FMTTYPE=image/jpeg:https://merida.es/wp-content/uploads/2021/03/2021-ciclo-conferencias-iii-peq.jpg
END:VEVENT
BEGIN:VEVENT
DTSTART;TZID=Europe/Madrid:20210423T110000
DTEND;TZID=Europe/Madrid:20210423T110000
DTSTAMP:20260421T113403
CREATED:20210422T163605Z
LAST-MODIFIED:20210422T163605Z
UID:81606-1619175600-1619175600@merida.es
SUMMARY:Laboratorio Radiofónico de Moda Sostenible
DESCRIPTION:La Fashion Revolution Week llega a Mérida donde se enmarca el Laboratorio Radiofónico de Moda Sostenible que se llevará a cabo en la Plaza de España\, mañana 23 de abril\, a partir de las 11:00 horas\, y dónde asistirá al acto inaugural el alcalde Antonio Rodriguez Osuna\nSe trata de laboratorios que servirán como espacios de diálogo para la transformación y la reflexión sobre modelos de producción y consumo más sostenibles para el planeta y las personas a través de un espacio radiofónico en directo y en la calle\nSe puede asistir al programa presencialmente u online vía zoom o por las redes sociales de los organizadores Rurex A. Desarrollo. Inscripciones: https://forms.gle/fmkkEkUtiPmkmWfq8
URL:https://merida.es/agenda/laboratorio-radiofonico-de-moda-sostenible/
LOCATION:Plaza de España\, Mérida
CATEGORIES:Charla-Conferencia
ATTACH;FMTTYPE=image/png:https://merida.es/wp-content/uploads/2021/04/2021-laboratorio-moda-sostenible-peq.png
END:VEVENT
BEGIN:VEVENT
DTSTART;TZID=Europe/Madrid:20210429T200000
DTEND;TZID=Europe/Madrid:20210429T200000
DTSTAMP:20260421T113403
CREATED:20210428T152224Z
LAST-MODIFIED:20210428T152224Z
UID:81835-1619726400-1619726400@merida.es
SUMMARY:Ciclo de Conferencias Ciudades Romanas de Hispania: "Segobriga"
DESCRIPTION:Durante el último trimestre de 2020 y a lo largo de 2021 se desarrollará el ciclo internacional de conferencias ‘Ciudades Romanas de Hispania’ que podrá visualizarse en el canal de YouTube del Museo.\nEl programa se ha organizado en 34 conferencias\, siguiendo la topografía provincial hispana\, Lusitania\, Baetica y Tarraconensis\, con dos conferencias magistrales de apertura y cierre que proporcionarán una visión de conjunto.\nEl 29 de abril\, a las 20:00 horas\, se impartirá la conferencia «Segrobiga» a cargo de Rosario Cebrián Fernández de la Universidad Complutense\nMás información: http://www.culturaydeporte.gob.es/mnromano
URL:https://merida.es/agenda/ciclo-de-conferencias-ciudades-romanas-de-hispania-segobriga/
LOCATION:Museo Nacional de Arte Romano\, Calle José Ramón Mélida\, Mérida\, Badajoz\, 06800\, España
CATEGORIES:Charla-Conferencia
ATTACH;FMTTYPE=image/jpeg:https://merida.es/wp-content/uploads/2021/03/2021-ciclo-conferencias-iii-peq.jpg
END:VEVENT
END:VCALENDAR