﻿BEGIN:VCALENDAR
VERSION:2.0
PRODID:-//Ayuntamiento de Mérida - ECPv6.15.17.1//NONSGML v1.0//EN
CALSCALE:GREGORIAN
METHOD:PUBLISH
X-ORIGINAL-URL:https://merida.es
X-WR-CALDESC:Eventos para Ayuntamiento de Mérida
REFRESH-INTERVAL;VALUE=DURATION:PT1H
X-Robots-Tag:noindex
X-PUBLISHED-TTL:PT1H
BEGIN:VTIMEZONE
TZID:Europe/Madrid
BEGIN:DAYLIGHT
TZOFFSETFROM:+0100
TZOFFSETTO:+0200
TZNAME:CEST
DTSTART:20200329T010000
END:DAYLIGHT
BEGIN:STANDARD
TZOFFSETFROM:+0200
TZOFFSETTO:+0100
TZNAME:CET
DTSTART:20201025T010000
END:STANDARD
BEGIN:DAYLIGHT
TZOFFSETFROM:+0100
TZOFFSETTO:+0200
TZNAME:CEST
DTSTART:20210328T010000
END:DAYLIGHT
BEGIN:STANDARD
TZOFFSETFROM:+0200
TZOFFSETTO:+0100
TZNAME:CET
DTSTART:20211031T010000
END:STANDARD
BEGIN:DAYLIGHT
TZOFFSETFROM:+0100
TZOFFSETTO:+0200
TZNAME:CEST
DTSTART:20220327T010000
END:DAYLIGHT
BEGIN:STANDARD
TZOFFSETFROM:+0200
TZOFFSETTO:+0100
TZNAME:CET
DTSTART:20221030T010000
END:STANDARD
END:VTIMEZONE
BEGIN:VEVENT
DTSTART;TZID=Europe/Madrid:20210506T200000
DTEND;TZID=Europe/Madrid:20210506T200000
DTSTAMP:20260421T113534
CREATED:20210506T143544Z
LAST-MODIFIED:20210506T143544Z
UID:82115-1620331200-1620331200@merida.es
SUMMARY:Ciclo de Conferencias Ciudades Romanas de Hispania: "Caraca"
DESCRIPTION:Durante el último trimestre de 2020 y a lo largo de 2021 se desarrollará el ciclo internacional de conferencias ‘Ciudades Romanas de Hispania’ que podrá visualizarse en el canal de YouTube del Museo.\nEl programa se ha organizado en 34 conferencias\, siguiendo la topografía provincial hispana\, Lusitania\, Baetica y Tarraconensis\, con dos conferencias magistrales de apertura y cierre que proporcionarán una visión de conjunto.\nEl 6 de mayo\, a las 20:00 horas\, se impartirá la conferencia «Caraca» a cargo del Equipo Arqueológico de Caraca\nMás información: http://www.culturaydeporte.gob.es/mnromano
URL:https://merida.es/agenda/ciclo-de-conferencias-ciudades-romanas-de-hispania-caraca/
LOCATION:Museo Nacional de Arte Romano\, Calle José Ramón Mélida\, Mérida\, Badajoz\, 06800\, España
CATEGORIES:Charla-Conferencia
ATTACH;FMTTYPE=image/jpeg:https://merida.es/wp-content/uploads/2021/03/2021-ciclo-conferencias-iii-peq.jpg
END:VEVENT
BEGIN:VEVENT
DTSTART;TZID=Europe/Madrid:20210513T200000
DTEND;TZID=Europe/Madrid:20210513T200000
DTSTAMP:20260421T113534
CREATED:20210510T194839Z
LAST-MODIFIED:20210510T194839Z
UID:82267-1620936000-1620936000@merida.es
SUMMARY:Ciclo de Conferencias Ciudades Romanas de Hispania: "Lucus Augusti"
DESCRIPTION:Durante el último trimestre de 2020 y a lo largo de 2021 se desarrollará el ciclo internacional de conferencias ‘Ciudades Romanas de Hispania’ que podrá visualizarse en el canal de YouTube del Museo.\nEl programa se ha organizado en 34 conferencias\, siguiendo la topografía provincial hispana\, Lusitania\, Baetica y Tarraconensis\, con dos conferencias magistrales de apertura y cierre que proporcionarán una visión de conjunto.\nEl 13 de mayo\, a las 20:00 horas\, se impartirá la conferencia «Lucus Augusti» a cargo de María Dolores Dopico Caínzos de la Universidad de Santiago de Compostela.\nMás información: http://www.culturaydeporte.gob.es/mnromano
URL:https://merida.es/agenda/ciclo-de-conferencias-ciudades-romanas-de-hispania-lucus-augusti/
LOCATION:Museo Nacional de Arte Romano\, Calle José Ramón Mélida\, Mérida\, Badajoz\, 06800\, España
CATEGORIES:Charla-Conferencia
ATTACH;FMTTYPE=image/jpeg:https://merida.es/wp-content/uploads/2021/03/2021-ciclo-conferencias-iii-peq.jpg
END:VEVENT
BEGIN:VEVENT
DTSTART;TZID=Europe/Madrid:20210520T203000
DTEND;TZID=Europe/Madrid:20210520T203000
DTSTAMP:20260421T113534
CREATED:20210517T075001Z
LAST-MODIFIED:20210517T075001Z
UID:82439-1621542600-1621542600@merida.es
SUMMARY:Cine Filmoteca: "La guerra de los malditos\, una historia de maquis"
DESCRIPTION:Título original: La guerra de los malditos\, una historia de maquis\nPaís: España\nAño: 2020\nDuración: 75’\nGénero: Documental\nDirección: Manuel Gómez Cano\nGuión: Manuel Gómez Cano\nReparto: –\nSinopsis: Estamos en 1947. Han transcurrido dos años desde el fin de la Segunda Guerra Mundial y se espera que la dictadura de Franco sea derrocada por los aliados. Bernabé es un guerrillero cordobés que acepta la misión de coordinar a los grupos antifascistas que todavía sobreviven en el sur de la provincia de Badajoz. Bernabé convence a su hermano Ramiro\, excombatiente republicano en la Guerra Civil\, para que le ayude a formar un grupo de guerrilleros con el objetivo de sabotear instalaciones del gobierno franquista. Tras varias aventuras\, consiguen montar su centro de operaciones en un prostíbulo de Fregenal de la Sierra (Badajoz)\, conocido como el de “La Cortá”.\nSin embargo\, sus atracos a fincas y casas de caciques y la arriesgada vida social de Bernabé\, que asiste a fiestas acompañado de prostitutas\, les conducen a una situación extrema que culmina en un trágico enfrentamiento con la Guardia Civil.\nFinalizada la proyección\, Julián Chaves Palacios\, profesor de Historia Contemporánea de la Universidad de Extremadura\, mantendrá una charla-coloquio con los espectadores.\nProgramación de la Filmoteca: http://filmotecaextremadura.juntaex.es
URL:https://merida.es/agenda/cine-filmoteca-la-guerra-de-los-malditos-una-historia-de-maquis/
LOCATION:Centro Cultural Santo Domingo Fundación CB\, Plaza de Santo Domingo\, s/n\, Mérida
CATEGORIES:Charla-Conferencia,Cine
ATTACH;FMTTYPE=image/jpeg:https://merida.es/wp-content/uploads/2021/05/guerra-malditos-peq.jpg
END:VEVENT
BEGIN:VEVENT
DTSTART;TZID=Europe/Madrid:20210527T200000
DTEND;TZID=Europe/Madrid:20210527T200000
DTSTAMP:20260421T113534
CREATED:20210525T072334Z
LAST-MODIFIED:20210525T072334Z
UID:82707-1622145600-1622145600@merida.es
SUMMARY:Ciclo de Conferencias Ciudades Romanas de Hispania: "Bracara Augusta"
DESCRIPTION:Durante el último trimestre de 2020 y a lo largo de 2021 se desarrollará el ciclo internacional de conferencias ‘Ciudades Romanas de Hispania’ que podrá visualizarse en el canal de YouTube del Museo.\nEl programa se ha organizado en 34 conferencias\, siguiendo la topografía provincial hispana\, Lusitania\, Baetica y Tarraconensis\, con dos conferencias magistrales de apertura y cierre que proporcionarán una visión de conjunto.\nEl 27 de mayo\, a las 20:00 horas\, se impartirá la conferencia «Bracara Augusta» a cargo de Maria Manuela Reis Martins de Universidade do Minho\nMás información: http://www.culturaydeporte.gob.es/mnromano
URL:https://merida.es/agenda/ciclo-de-conferencias-ciudades-romanas-de-hispania-bracara-augusta/
LOCATION:Museo Nacional de Arte Romano\, Calle José Ramón Mélida\, Mérida\, Badajoz\, 06800\, España
CATEGORIES:Charla-Conferencia
ATTACH;FMTTYPE=image/jpeg:https://merida.es/wp-content/uploads/2021/03/2021-ciclo-conferencias-iii-peq.jpg
END:VEVENT
END:VCALENDAR