﻿BEGIN:VCALENDAR
VERSION:2.0
PRODID:-//Ayuntamiento de Mérida - ECPv6.15.17.1//NONSGML v1.0//EN
CALSCALE:GREGORIAN
METHOD:PUBLISH
X-WR-CALNAME:Ayuntamiento de Mérida
X-ORIGINAL-URL:https://merida.es
X-WR-CALDESC:Eventos para Ayuntamiento de Mérida
REFRESH-INTERVAL;VALUE=DURATION:PT1H
X-Robots-Tag:noindex
X-PUBLISHED-TTL:PT1H
BEGIN:VTIMEZONE
TZID:Europe/Madrid
BEGIN:DAYLIGHT
TZOFFSETFROM:+0100
TZOFFSETTO:+0200
TZNAME:CEST
DTSTART:20200329T010000
END:DAYLIGHT
BEGIN:STANDARD
TZOFFSETFROM:+0200
TZOFFSETTO:+0100
TZNAME:CET
DTSTART:20201025T010000
END:STANDARD
BEGIN:DAYLIGHT
TZOFFSETFROM:+0100
TZOFFSETTO:+0200
TZNAME:CEST
DTSTART:20210328T010000
END:DAYLIGHT
BEGIN:STANDARD
TZOFFSETFROM:+0200
TZOFFSETTO:+0100
TZNAME:CET
DTSTART:20211031T010000
END:STANDARD
BEGIN:DAYLIGHT
TZOFFSETFROM:+0100
TZOFFSETTO:+0200
TZNAME:CEST
DTSTART:20220327T010000
END:DAYLIGHT
BEGIN:STANDARD
TZOFFSETFROM:+0200
TZOFFSETTO:+0100
TZNAME:CET
DTSTART:20221030T010000
END:STANDARD
END:VTIMEZONE
BEGIN:VEVENT
DTSTART;TZID=Europe/Madrid:20210603T200000
DTEND;TZID=Europe/Madrid:20210603T200000
DTSTAMP:20260421T070653
CREATED:20210531T094659Z
LAST-MODIFIED:20210531T094659Z
UID:98968-1622750400-1622750400@merida.es
SUMMARY:Ciclo de Conferencias Ciudades Romanas de Hispania: "Complutum"
DESCRIPTION:Durante el último trimestre de 2020 y a lo largo de 2021 se desarrollará el ciclo internacional de conferencias ‘Ciudades Romanas de Hispania’ que podrá visualizarse en el canal de YouTube del Museo.\nEl programa se ha organizado en 34 conferencias\, siguiendo la topografía provincial hispana\, Lusitania\, Baetica y Tarraconensis\, con dos conferencias magistrales de apertura y cierre que proporcionarán una visión de conjunto.\nEl 3 de junio\, a las 20:00 horas\, se impartirá la conferencia «Complutum» a cargo de Sebastián Rascón Marqués (Ayuntamiento de Alcalá de Henares) y Ana Lucía Sánchez Montes (Arqueóloga)\nMás información: http://www.culturaydeporte.gob.es/mnromano
URL:https://merida.es/agenda/ciclo-de-conferencias-ciudades-romanas-de-hispania-complutum/
LOCATION:Museo Nacional de Arte Romano\, Calle José Ramón Mélida\, Mérida\, Badajoz\, 06800\, España
CATEGORIES:Charla-Conferencia
ATTACH;FMTTYPE=image/jpeg:https://merida.es/wp-content/uploads/2021/03/2021-ciclo-conferencias-iii-peq.jpg
END:VEVENT
BEGIN:VEVENT
DTSTART;TZID=Europe/Madrid:20210610T200000
DTEND;TZID=Europe/Madrid:20210610T200000
DTSTAMP:20260421T070653
CREATED:20210610T080133Z
LAST-MODIFIED:20210610T080133Z
UID:99172-1623355200-1623355200@merida.es
SUMMARY:Ciclo de Conferencias Ciudades Romanas de Hispania: "Segovia y Confloenta"
DESCRIPTION:Durante el último trimestre de 2020 y a lo largo de 2021 se desarrollará el ciclo internacional de conferencias ‘Ciudades Romanas de Hispania’ que podrá visualizarse en el canal de YouTube del Museo.\nEl programa se ha organizado en 34 conferencias\, siguiendo la topografía provincial hispana\, Lusitania\, Baetica y Tarraconensis\, con dos conferencias magistrales de apertura y cierre que proporcionarán una visión de conjunto.\nEl 10 de junio\, a las 20:00 horas\, se impartirá la conferencia «Segovia y Confloenta» a cargo de Santiago Martínez Caballero (Museo de Segovia).\nMás información: http://www.culturaydeporte.gob.es/mnromano
URL:https://merida.es/agenda/ciclo-de-conferencias-ciudades-romanas-de-hispania-segovia-y-confloenta/
LOCATION:Museo Nacional de Arte Romano\, Calle José Ramón Mélida\, Mérida\, Badajoz\, 06800\, España
CATEGORIES:Charla-Conferencia
ATTACH;FMTTYPE=image/jpeg:https://merida.es/wp-content/uploads/2021/03/2021-ciclo-conferencias-iii-peq.jpg
END:VEVENT
BEGIN:VEVENT
DTSTART;TZID=Europe/Madrid:20210617T200000
DTEND;TZID=Europe/Madrid:20210617T200000
DTSTAMP:20260421T070653
CREATED:20210617T110936Z
LAST-MODIFIED:20210617T110936Z
UID:99413-1623960000-1623960000@merida.es
SUMMARY:Ciclo de Conferencias: «Ciudades de Hispania\, una visión global»
DESCRIPTION:Durante el último trimestre de 2020 y a lo largo de 2021 se desarrollará el ciclo internacional de conferencias ‘Ciudades Romanas de Hispania’ que podrá visualizarse en el canal de YouTube del Museo.\nEl programa se ha organizado en 34 conferencias\, siguiendo la topografía provincial hispana\, Lusitania\, Baetica y Tarraconensis\, con dos conferencias magistrales de apertura y cierre que proporcionarán una visión de conjunto.\nEl 17 de junio\, a las 20:00 horas\, se impartirá la conferencia «Ciudades de Hispania\, una visión global» a cargo de Sabine Pazram (Universidad de Hamburgo) y que servirá para clausurar el ciclo de conferencias.\nMás información: http://www.culturaydeporte.gob.es/mnromano
URL:https://merida.es/agenda/ciclo-de-conferencias-ciudades-de-hispania-una-vision-global/
LOCATION:Museo Nacional de Arte Romano\, Calle José Ramón Mélida\, Mérida\, Badajoz\, 06800\, España
CATEGORIES:Charla-Conferencia
ATTACH;FMTTYPE=image/jpeg:https://merida.es/wp-content/uploads/2021/03/2021-ciclo-conferencias-iii-peq.jpg
END:VEVENT
BEGIN:VEVENT
DTSTART;VALUE=DATE:20210624
DTEND;VALUE=DATE:20210629
DTSTAMP:20260421T070653
CREATED:20210624T104450Z
LAST-MODIFIED:20210628T085152Z
UID:99806-1624492800-1624924799@merida.es
SUMMARY:Semana del Orgullo LGTBI Mérida 2021
DESCRIPTION:Con motivo de la Semana del Orgullo LGTBI 2021 se van a celebrar en Mérida diversas actividades. \nDesde el martes 22 y hasta el 30 de junio\, el Centro Cultural Alcazaba acoge la exposición fotográfica “Visibles” organizada por Extremadura Entiende.  \nEl jueves 24\, a las 20.30 horas\, la sala trajano acogerá la representación de la obra “Temor Creíble” de La Resitance Teatro. Reserva de entradas en salatrajanomerida@gmail.com \nEl viernes 25 de junio\, también en la Sala Trajano\, se representa la obra “La Memoria de los Cuerpos” de Createatro y Fundación Triángulo\, a las 20:30 horas. Reserva de entradas igualmente en salatrajanomerida@gmail.com \nYa en el fin de semana\, el sábado se proyectará\, en el Centro Cultural Santo Domingo\, a las 19 horas\, la película “Dating Amber” con entrada libre hasta completar aforo.  \nCon estas actividades llegará al Día del orgullo 2021 que se celebrará el lunes 28 de junio. Ese día\, a partir de las 17:30 horas\, en el Centro Cultural Alcazaba\, se celebrará un nuevo encuentro de participación abierto a toda persona del colectivo LGTBI de Mérida que desee formar parte del Primer Plan Municipal LGTBI Mérida tan necesario para Mérida y su ciudadanía. Inscripciones: http://bit.ly/LGTBIMérida \nEse mismo día\, a las 21 horas\, se iniciará un recorrido en el monumento a la Diversidad\, en el Parque de las Siete Sillas\, animado por la batukada “Santuka de Fogo” y que\, tras pasar el Puente Romano\, recorrerá la calle Puente\, Plaza de España\, Plaza del Rastro\, Romero Leal\, para llegar al Templo de Diana a las 22 horas. \nEn ese momento\, Yorik\, conducirá el acto del Orgullo en el que se procederá a la lectura del manifiesto y al cierre musical a cargo del grupo “Magic Queen”\, que tendrá aforo limitado por lo que los interesados deberán solicitar su entrada gratuita al WhatsApp 661 61 62 08 (RESERVA DE ENTRADAS AGOTADAS).
URL:https://merida.es/agenda/semana-del-orgullo-lgtbi-merida-2021/
LOCATION:Varios puntos de la ciudad\, Mérida
CATEGORIES:Charla-Conferencia,Concentración-Marcha,Exposición,Música,Teatro
ATTACH;FMTTYPE=image/jpeg:https://merida.es/wp-content/uploads/2021/06/2021-orgullo-banner.jpg
END:VEVENT
BEGIN:VEVENT
DTSTART;TZID=Europe/Madrid:20210628T173000
DTEND;TZID=Europe/Madrid:20210628T173000
DTSTAMP:20260421T070653
CREATED:20210624T102316Z
LAST-MODIFIED:20210624T102316Z
UID:99798-1624901400-1624901400@merida.es
SUMMARY:Fase 'Concretamos' Plan Municipal LGTBI Mérida
DESCRIPTION:Tras el proceso de Diagnóstico\, se abre una nueva fase dentro del Primer Plan Municipal LGTBI Mérida destinada a concretar las líneas estratégicas del Plan en objetivos y acciones. El lunes 28 de junio\, a partir de las 17:30 horas\, en el Centro Cultural Alcazaba\, se celebrará un nuevo encuentro de participación abierto a toda persona del colectivo LGTBI de Mérida que desee formar parte de este proyecto tan necesario para Mérida y su ciudadanía. \nInscripciones: http://bit.ly/LGTBIMérida
URL:https://merida.es/agenda/fase-concretamos-plan-municipal-lgtbi-merida/
LOCATION:Centro Cultural Alcazaba\, Calle John Lennon\, 5\, Mérida
CATEGORIES:Charla-Conferencia
ATTACH;FMTTYPE=image/jpeg:https://merida.es/wp-content/uploads/2021/06/2021-plan-lgtbi-merida-peq.jpg
END:VEVENT
END:VCALENDAR