﻿BEGIN:VCALENDAR
VERSION:2.0
PRODID:-//Ayuntamiento de Mérida - ECPv6.15.17.1//NONSGML v1.0//EN
CALSCALE:GREGORIAN
METHOD:PUBLISH
X-ORIGINAL-URL:https://merida.es
X-WR-CALDESC:Eventos para Ayuntamiento de Mérida
REFRESH-INTERVAL;VALUE=DURATION:PT1H
X-Robots-Tag:noindex
X-PUBLISHED-TTL:PT1H
BEGIN:VTIMEZONE
TZID:Europe/Madrid
BEGIN:DAYLIGHT
TZOFFSETFROM:+0100
TZOFFSETTO:+0200
TZNAME:CEST
DTSTART:20200329T010000
END:DAYLIGHT
BEGIN:STANDARD
TZOFFSETFROM:+0200
TZOFFSETTO:+0100
TZNAME:CET
DTSTART:20201025T010000
END:STANDARD
BEGIN:DAYLIGHT
TZOFFSETFROM:+0100
TZOFFSETTO:+0200
TZNAME:CEST
DTSTART:20210328T010000
END:DAYLIGHT
BEGIN:STANDARD
TZOFFSETFROM:+0200
TZOFFSETTO:+0100
TZNAME:CET
DTSTART:20211031T010000
END:STANDARD
BEGIN:DAYLIGHT
TZOFFSETFROM:+0100
TZOFFSETTO:+0200
TZNAME:CEST
DTSTART:20220327T010000
END:DAYLIGHT
BEGIN:STANDARD
TZOFFSETFROM:+0200
TZOFFSETTO:+0100
TZNAME:CET
DTSTART:20221030T010000
END:STANDARD
END:VTIMEZONE
BEGIN:VEVENT
DTSTART;TZID=Europe/Madrid:20210920T200000
DTEND;TZID=Europe/Madrid:20210920T200000
DTSTAMP:20260423T005123
CREATED:20210920T060754Z
LAST-MODIFIED:20220919T095407Z
UID:103101-1632168000-1632168000@merida.es
SUMMARY:XXXV Día del Museo Nacional de Arte Romano
DESCRIPTION:El 20 de septiembre\, tendrá lugar un acto institucional para conmemorar el XXXV Día del Museo en el que el arquitecto D. Rafael Moneo impartirá la conferencia «El Museo Nacional de Arte Romano 35 años después». Además\, se hará entrega del 28 Premio Internacional «Genio Protector de la Colonia Augusta Emerita»\, otorgado a D. José Antonio Galván Blanco en el apartado de personalidades y a Ammaia\, en el apartado de instituciones. A las 20:00 horas\, en la Nave Principal del Museo\, con entrada libre hasta completar aforo.
URL:https://merida.es/agenda/xxxv-dia-del-museo-nacional-de-arte-romano/
LOCATION:Museo Nacional de Arte Romano\, Calle José Ramón Mélida\, Mérida\, Badajoz\, 06800\, España
CATEGORIES:Charla-Conferencia,Institucional
ATTACH;FMTTYPE=image/jpeg:https://merida.es/wp-content/uploads/2021/09/2021-aniversario-museo-peq.jpg
END:VEVENT
BEGIN:VEVENT
DTSTART;VALUE=DATE:20210922
DTEND;VALUE=DATE:20210924
DTSTAMP:20260423T005123
CREATED:20210916T070110Z
LAST-MODIFIED:20210916T070110Z
UID:102955-1632268800-1632441599@merida.es
SUMMARY:I Congreso Economía Plateada
DESCRIPTION:La sociedad esté experimentando el cambio demográfico más impactante de la historia. El peso de las personas mayores crece con gran dinamismo al tiempo que cambian sus características\, objetivos\, expectativas y necesidades tanto en lo personal como en lo social y en lo sanitario. Uno de los efectos es el aumento de las personas con discapacidad y dependencia\, ya que la edad es un factor determinante en la aparición de este fenómeno. \nPor todo ello\, la sociedad tiene que adaptarse a este fenómeno a todos los niveles\, y en especial\, al sector de la economía\, que tiene que fomentar e impulsar espacios y entornos que posibiliten y propicien el Envejecimiento Activo y Saludable de las personas mayores para; prevenir y retrasar la discapacidad y/o dependencia. \nPara hablar de todo lo que engloba a la economía del sector de los mayores\, desde FEVAL (Institución Ferial de Extremadura) se está organizando el I Congreso Internacional de Economía Plateada\, que se llevará a cabo los días 22 y 23 de septiembre de 2021 en el Palacio de Congresos de Mérida\, Extremadura. \nWeb oficial >> https://www.economiaplateada.org/
URL:https://merida.es/agenda/i-congreso-economia-plateada/
LOCATION:Palacio de Congresos\, Avda. del Rio s/n\, Mérida
CATEGORIES:Charla-Conferencia
ATTACH;FMTTYPE=image/jpeg:https://merida.es/wp-content/uploads/2021/09/2021-congreso-economia-plateada-peq.jpg
END:VEVENT
BEGIN:VEVENT
DTSTART;TZID=Europe/Madrid:20210924T163000
DTEND;TZID=Europe/Madrid:20210924T163000
DTSTAMP:20260423T005123
CREATED:20210920T062731Z
LAST-MODIFIED:20210920T080206Z
UID:103111-1632501000-1632501000@merida.es
SUMMARY:La Noche Europea de los Investigadores 2021
DESCRIPTION:La Universidad de Extremadura (Servicio de Difusión de la Cultura Científica) y Fundecyt-PCTEx organizan\, un año más\, ‘La Noche Europea de los Investigadores’\, el viernes 24 de septiembre de 2021\, en los diferentes campus universitarios de la región con el objetivo de acercar el conocimiento científico al público en general\, y en particular a los más jóvenes\, y promover la visibilidad de sus investigadores. \nLas actividades consisten en experimentos\, demostraciones\, juegos\, exposiciones y retos. Se adaptan a distintos gustos e interesen diversas ramas del conocimiento como Arte y Humanidades\, Ciencias de la Salud\, Ciencias Sociales y Jurídicas\, STEM (ciencias\, matemáticas\, ingenierías\, tecnología)\, entre otras. \nMás información y programación del campus de Mérida >> https://www.nocheinvestigadoresuex.es/
URL:https://merida.es/agenda/la-noche-europea-de-los-investigadores-2021/
LOCATION:Centro Universitario de Mérida\, Calle Sta. Teresa Jornet\, 38\, Mérida
CATEGORIES:Charla-Conferencia,Curso-Taller
ATTACH;FMTTYPE=image/jpeg:https://merida.es/wp-content/uploads/2021/09/2021-noche-europea-investigadores-peq.jpg
END:VEVENT
END:VCALENDAR