﻿BEGIN:VCALENDAR
VERSION:2.0
PRODID:-//Ayuntamiento de Mérida - ECPv6.15.17.1//NONSGML v1.0//EN
CALSCALE:GREGORIAN
METHOD:PUBLISH
X-WR-CALNAME:Ayuntamiento de Mérida
X-ORIGINAL-URL:https://merida.es
X-WR-CALDESC:Eventos para Ayuntamiento de Mérida
REFRESH-INTERVAL;VALUE=DURATION:PT1H
X-Robots-Tag:noindex
X-PUBLISHED-TTL:PT1H
BEGIN:VTIMEZONE
TZID:Europe/Madrid
BEGIN:DAYLIGHT
TZOFFSETFROM:+0100
TZOFFSETTO:+0200
TZNAME:CEST
DTSTART:20200329T010000
END:DAYLIGHT
BEGIN:STANDARD
TZOFFSETFROM:+0200
TZOFFSETTO:+0100
TZNAME:CET
DTSTART:20201025T010000
END:STANDARD
BEGIN:DAYLIGHT
TZOFFSETFROM:+0100
TZOFFSETTO:+0200
TZNAME:CEST
DTSTART:20210328T010000
END:DAYLIGHT
BEGIN:STANDARD
TZOFFSETFROM:+0200
TZOFFSETTO:+0100
TZNAME:CET
DTSTART:20211031T010000
END:STANDARD
BEGIN:DAYLIGHT
TZOFFSETFROM:+0100
TZOFFSETTO:+0200
TZNAME:CEST
DTSTART:20220327T010000
END:DAYLIGHT
BEGIN:STANDARD
TZOFFSETFROM:+0200
TZOFFSETTO:+0100
TZNAME:CET
DTSTART:20221030T010000
END:STANDARD
END:VTIMEZONE
BEGIN:VEVENT
DTSTART;TZID=Europe/Madrid:20211007T193000
DTEND;TZID=Europe/Madrid:20211007T193000
DTSTAMP:20260420T090027
CREATED:20211004T112159Z
LAST-MODIFIED:20211004T112159Z
UID:103720-1633635000-1633635000@merida.es
SUMMARY:V Día de Maximiliano Macías
DESCRIPTION:Como cada año\, el Instituto de Arqueología de Mérida celebra el DÍA DE MAXIMILIANO MACÍAS\, que este año alcanza su V Edición. La actividad se celebrará finalmente el 7 de Octubre\, en el salón AUGUSTO del PARADOR DE MÉRIDA. Se presentará el programa científico 2021-22 a cargo de Sebastián Celestino Pérez y tendrá lugar la conferencia ‘¿Por qué la arqueología interesa de manera creciente a la sociedad digital?’ impartida por Manuel Pimentel Siles. \nEntrada gratuita.
URL:https://merida.es/agenda/v-dia-de-maximiliano-macias/
LOCATION:Parador de Mérida\, Plaza de la Constitución\, Mérida\, 06800\, España
CATEGORIES:Charla-Conferencia
ATTACH;FMTTYPE=image/jpeg:https://merida.es/wp-content/uploads/2021/10/2021-dia-maximiliano-macias-instituto-arqueologia-peq.jpg
END:VEVENT
BEGIN:VEVENT
DTSTART;VALUE=DATE:20211021
DTEND;VALUE=DATE:20211024
DTSTAMP:20260420T090027
CREATED:20211014T123155Z
LAST-MODIFIED:20211014T123155Z
UID:104140-1634774400-1635033599@merida.es
SUMMARY:VI Jornadas Divulgativas AOEX Mérida 2021
DESCRIPTION:Del 21 al 23 de octubre\, la Biblioteca Pública Jesús Delgado Valhondo acoge las VI Jornadas Divulgativas de AOEX Mérida que se celebra con motivo del Día Internacional contra el Cáncer de Mama \nLas jornadas que llevan por título “No hablemos de enfermedad. Hablemos de salud y bienestar” contarán con científicos e investigadores como Anna Lluch o Pedro Fernández Salguero y artistas como la bailaora Cristina Hoyos. Están dirigidas\, en primer lugar\, a las personas afectadas de cáncer y sus familiares\, pero también al público en general\, a estudiantes de enfermería\, cuidadores\, residentes de medicina\, trabajadores sociales\, psicólogos\, deportistas\, artistas y toda persona sensible que entiende que las personas afectadas de cáncer quieren vivir\, trabajar y seguir con sus vidas. \nLas inscripciones pueden realizarse en https://docs.google.com
URL:https://merida.es/agenda/vi-jornadas-divulgativas-aoex-merida-2021/
LOCATION:Biblioteca Jesús Delgado Valhondo\, Av. de la Libertad\, s/n\, Mérida
CATEGORIES:Charla-Conferencia
ATTACH;FMTTYPE=image/jpeg:https://merida.es/wp-content/uploads/2021/10/2021-jornadas-divulgativas-peq.jpg
END:VEVENT
BEGIN:VEVENT
DTSTART;TZID=Europe/Madrid:20211028T190000
DTEND;TZID=Europe/Madrid:20211028T190000
DTSTAMP:20260420T090027
CREATED:20211026T091207Z
LAST-MODIFIED:20211026T091207Z
UID:104610-1635447600-1635447600@merida.es
SUMMARY:Conferencia "Estrategias para educar: los móviles no son peligrosos\, lo peligroso es no educar"
DESCRIPTION:El Foro de Ampas de Mérida\, que ha retomado su actividad tras el parón producido por la pandemia\, organiza una conferencia el próximo jueves 28 de octubre\, a las 19 horas\, en el Centro Cultural Alcazaba\, que correrá a cargo del psicólogo Carlos Pajuelo y que lleva por título “Estrategias para educar: los móviles no son peligrosos\, lo peligroso es no educar”. \nCarlos Pajuelo Morán ha sido profesor asociado en la Facultad de Educación de la Universidad de Extremadura durante más de 20 años\, es autor de numerosas publicaciones pedagógicas y creador del blog del periódico Hoy.es\, ‘Escuela de padres’ donde se puede encontrar información útil sobre temas educativos\, que ayudan a identificar competencias y habilidades\, y sobretodo utilizarlas de manera eficaz para poder seguir ejerciendo la tarea de ser padres y madres. \nLa conferencia está dirigida a padres\, madres\, profesionales\, familias\, cualquier persona que quiera asistir.
URL:https://merida.es/agenda/conferencia-estrategias-para-educar-los-moviles-no-son-peligrosos-lo-peligroso-es-no-educar/
LOCATION:Centro Cultural Alcazaba\, Calle John Lennon\, 5\, Mérida
CATEGORIES:Charla-Conferencia
ATTACH;FMTTYPE=image/jpeg:https://merida.es/wp-content/uploads/2021/10/carlos-pajuelo-psicologo-peq.jpg
END:VEVENT
BEGIN:VEVENT
DTSTART;TZID=Europe/Madrid:20211028T190000
DTEND;TZID=Europe/Madrid:20211028T190000
DTSTAMP:20260420T090027
CREATED:20211027T142906Z
LAST-MODIFIED:20211027T142906Z
UID:104739-1635447600-1635447600@merida.es
SUMMARY:Charla-coloquio 'Emigrantes de Mérida a Hawai'
DESCRIPTION:En 1913 varias familias emeritenses emigraron a Hawai buscando una mejor situación económica junto a otras de diferentes lugares de Extremadura. El Club Universo extremeño quiere contactar a través del Archivo Histórico municipal\, con las familiares emeritenses de los emigrados. \nAsí\, con el título de Migrantes de Mérida a Hawai 1913\, el Presidente del Club Universo extremeño\, Manuel Trinidad\, dará una charla mañana jueves\, 28 de octubre a las 19 horas\, en la rotonda del Centro Cultural Alcazaba. \nLa actividad está organizada por el Archivo Histórico Municipal\, entidad con la que el Club ha contactado con la idea de realizar una investigación sobre las familias de los que emigraron en 1913 y que actualmente viven en Mérida. \nEn la charla Manuel Trinidad dará a conocer un hecho relevante protagonizado por algunas familias extremeñas\, las cuales debido a su precaria situación económica\, tomaron la decisión de emigrar al Estado de Hawai en el año 1913 para trabajar en el cultivo de la caña de azúcar. Algunos apellidos de las familias que migraron a Hawai son Montaña Silva\, Gutiérrez Caro\, Palacio Gil\, Perdigón García y otras. \nEl propósito es invitar a familiares emeritenses de aquellos que emigraron a un encuentro que tendrá lugar durante el mes de octubre del próximo año 2022 con los descendientes estadounidenses\, en la que estarán implicadas algunas instituciones provinciales y locales.
URL:https://merida.es/agenda/charla-coloquio-emigrantes-de-merida-a-hawai/
LOCATION:Centro Cultural Alcazaba\, Calle John Lennon\, 5\, Mérida
CATEGORIES:Charla-Conferencia
ATTACH;FMTTYPE=image/jpeg:https://merida.es/wp-content/uploads/2021/10/2021-emigrantes-hawai-peq2.jpg
END:VEVENT
BEGIN:VEVENT
DTSTART;TZID=Europe/Madrid:20211028T200000
DTEND;TZID=Europe/Madrid:20211028T200000
DTSTAMP:20260420T090027
CREATED:20211027T145849Z
LAST-MODIFIED:20211027T145849Z
UID:104750-1635451200-1635451200@merida.es
SUMMARY:Ciclo de Conferencias Ciudades Romanas de Hispania II: 'Tiermes'
DESCRIPTION:En este nuevo curso 2021-2022 el Museo Nacional de Arte Romano retoma el ciclo Ciudades Romanas de Hispania con la selección de nuevas ciudades\, distribuidas por las tres provincias hispanas: Tarraconensis\, Baetica y Lusitania. Todos los jueves\, a las 20:00 horas\, tanto presencial en el propio museo como por su canal de Youtube. \nEl 28 de octubre\, a las 20:00 horas\, se impartirá la conferencia «Tiermes» a cargo de Santiago Martínez Caballero (Museo de Segovia). \nMás información: http://www.culturaydeporte.gob.es/mnromano
URL:https://merida.es/agenda/ciclo-de-conferencias-ciudades-romanas-de-hispania-ii-tiermes/
LOCATION:Museo Nacional de Arte Romano\, Calle José Ramón Mélida\, Mérida\, Badajoz\, 06800\, España
CATEGORIES:Charla-Conferencia
ATTACH;FMTTYPE=image/jpeg:https://merida.es/wp-content/uploads/2021/10/2021-conferencias-tarraconensis-museo-peq.jpg
END:VEVENT
BEGIN:VEVENT
DTSTART;TZID=Europe/Madrid:20211030T160000
DTEND;TZID=Europe/Madrid:20211030T160000
DTSTAMP:20260420T090027
CREATED:20211014T123650Z
LAST-MODIFIED:20211014T123706Z
UID:104147-1635609600-1635609600@merida.es
SUMMARY:Formación sobre Gestión de Colonias Felinas
DESCRIPTION:La delegación del Centro Zoosanitario colabora en la organización de un curso de Formación sobre Gestión de Colonias Felinas destinado a voluntarios y cuidadores. Este curso tendrá lugar el próximo 30 de octubre\, de 16 a 21 horas\, en el Centro Cultural Alcazaba. Este curso está organizado por la Asociación de Alimentadores y Gestores de Colonias Felinas de Mérida (AGECO) y FDCats. \nEn él se abordará la gestión ética de las colonias\, el método CER y buenas prácticas y la salud y cuidados en las colonias desde una perspectiva veterinaria. Para finalizar habrá un taller teórico-práctico de capturas eficientes y sin estrés. También se hará entrega de un Manual de buenas prácticas en colonias felinas elaborado por FDCats. Los participantes obtendrán un certificado de asistencia que permitirá la acreditación como voluntario y cuidador de colonia felina. \nLas inscripciones se pueden realizar en el Centro Cultural Alcazaba o en el correo electrónico agecomerida@gmail.com. El plazo para realizara es hasta el 27 de octubre y se contará con aforo limitado. Más información e inscripciones en: https://agecomerida.com
URL:https://merida.es/agenda/formacion-sobre-gestion-de-colonias-felinas/
LOCATION:Centro Cultural Alcazaba\, Calle John Lennon\, 5\, Mérida
CATEGORIES:Charla-Conferencia,Curso-Taller
ATTACH;FMTTYPE=image/jpeg:https://merida.es/wp-content/uploads/2021/10/2021-formacion-gestion-colonias-felinas-peq.jpg
END:VEVENT
END:VCALENDAR