﻿BEGIN:VCALENDAR
VERSION:2.0
PRODID:-//Ayuntamiento de Mérida - ECPv6.15.17.1//NONSGML v1.0//EN
CALSCALE:GREGORIAN
METHOD:PUBLISH
X-WR-CALNAME:Ayuntamiento de Mérida
X-ORIGINAL-URL:https://merida.es
X-WR-CALDESC:Eventos para Ayuntamiento de Mérida
REFRESH-INTERVAL;VALUE=DURATION:PT1H
X-Robots-Tag:noindex
X-PUBLISHED-TTL:PT1H
BEGIN:VTIMEZONE
TZID:Europe/Madrid
BEGIN:DAYLIGHT
TZOFFSETFROM:+0100
TZOFFSETTO:+0200
TZNAME:CEST
DTSTART:20200329T010000
END:DAYLIGHT
BEGIN:STANDARD
TZOFFSETFROM:+0200
TZOFFSETTO:+0100
TZNAME:CET
DTSTART:20201025T010000
END:STANDARD
BEGIN:DAYLIGHT
TZOFFSETFROM:+0100
TZOFFSETTO:+0200
TZNAME:CEST
DTSTART:20210328T010000
END:DAYLIGHT
BEGIN:STANDARD
TZOFFSETFROM:+0200
TZOFFSETTO:+0100
TZNAME:CET
DTSTART:20211031T010000
END:STANDARD
BEGIN:DAYLIGHT
TZOFFSETFROM:+0100
TZOFFSETTO:+0200
TZNAME:CEST
DTSTART:20220327T010000
END:DAYLIGHT
BEGIN:STANDARD
TZOFFSETFROM:+0200
TZOFFSETTO:+0100
TZNAME:CET
DTSTART:20221030T010000
END:STANDARD
END:VTIMEZONE
BEGIN:VEVENT
DTSTART;TZID=Europe/Madrid:20210317T093000
DTEND;TZID=Europe/Madrid:20210317T093000
DTSTAMP:20260421T225655
CREATED:20210316T205855Z
LAST-MODIFIED:20210316T205855Z
UID:80669-1615973400-1615973400@merida.es
SUMMARY:Tribunal Internacional de los Derechos de las Mujeres
DESCRIPTION:El miércoles 17 de marzo tendrá lugar\, en el Centro Cultural Alcazaba\, el ‘Tribunal Internacional de los Derechos de las Mujeres’\, ‍️un tribunal simbólico que ponga de manifiesto la responsabilidad de las distintas instituciones y las reparaciones requeridas en la salvaguarda de los Derechos Humanos de las mujeres y niñas.\nEl Tribunal estará formado por representantes de Asociaciones de Mujeres y Juveniles de Extremadura\, contará con el testimonio de mujeres de Paraguay \, Nicaragua y España.\nEl evento es online y presencial\, pero con inscripción previa. Organiza la Asociación de Mujeres Malvaluna\, con la financiación de AEXCID y la colaboración del Ayuntamiento de Mérida\nMás información: www.malvaluna.org
URL:https://merida.es/agenda/tribunal-internacional-de-los-derechos-de-las-mujeres-2/
LOCATION:Centro Cultural Alcazaba\, Calle John Lennon\, 5\, Mérida
CATEGORIES:Charla-Conferencia
ATTACH;FMTTYPE=image/jpeg:https://merida.es/wp-content/uploads/2021/03/tribunal-mujeres-peq.jpg
END:VEVENT
END:VCALENDAR