﻿BEGIN:VCALENDAR
VERSION:2.0
PRODID:-//Ayuntamiento de Mérida - ECPv6.15.17.1//NONSGML v1.0//EN
CALSCALE:GREGORIAN
METHOD:PUBLISH
X-ORIGINAL-URL:https://merida.es
X-WR-CALDESC:Eventos para Ayuntamiento de Mérida
REFRESH-INTERVAL;VALUE=DURATION:PT1H
X-Robots-Tag:noindex
X-PUBLISHED-TTL:PT1H
BEGIN:VTIMEZONE
TZID:Europe/Madrid
BEGIN:DAYLIGHT
TZOFFSETFROM:+0100
TZOFFSETTO:+0200
TZNAME:CEST
DTSTART:20200329T010000
END:DAYLIGHT
BEGIN:STANDARD
TZOFFSETFROM:+0200
TZOFFSETTO:+0100
TZNAME:CET
DTSTART:20201025T010000
END:STANDARD
BEGIN:DAYLIGHT
TZOFFSETFROM:+0100
TZOFFSETTO:+0200
TZNAME:CEST
DTSTART:20210328T010000
END:DAYLIGHT
BEGIN:STANDARD
TZOFFSETFROM:+0200
TZOFFSETTO:+0100
TZNAME:CET
DTSTART:20211031T010000
END:STANDARD
BEGIN:DAYLIGHT
TZOFFSETFROM:+0100
TZOFFSETTO:+0200
TZNAME:CEST
DTSTART:20220327T010000
END:DAYLIGHT
BEGIN:STANDARD
TZOFFSETFROM:+0200
TZOFFSETTO:+0100
TZNAME:CET
DTSTART:20221030T010000
END:STANDARD
END:VTIMEZONE
BEGIN:VEVENT
DTSTART;VALUE=DATE:20210707
DTEND;VALUE=DATE:20210709
DTSTAMP:20260420T221547
CREATED:20210706T151230Z
LAST-MODIFIED:20210706T151346Z
UID:100772-1625616000-1625788799@merida.es
SUMMARY:III Encuentro Internacional de Periodismo Móvil y Cultura
DESCRIPTION:El Festival Internacional de Teatro Clásico de Mérida organiza la tercera edición del Encuentro Internacional de Periodismo Móvil y Cultura MoJo+C\, que se celebrará los días 7 y 8 de julio de 2021\, con la participación de reconocidos profesionales de la comunicación audiovisual. \nEl III Encuentro aportará claves sobre la profesionalización del Periodismo Móvil\, las nuevas habilidades adquiridas en tiempo de pandemia así como la monetización de esta metodología de trabajo que ha llegado para quedarse. \nMás información: https://www.festivaldemerida.es/otras-actividades/encuentros/
URL:https://merida.es/agenda/iii-encuentro-internacional-de-periodismo-movil-y-cultura/
LOCATION:Centro Cultural Alcazaba\, Calle John Lennon\, 5\, Mérida
CATEGORIES:Charla-Conferencia
ATTACH;FMTTYPE=image/jpeg:https://merida.es/wp-content/uploads/2021/07/2021-encuentro-periodismo-peq.jpg
END:VEVENT
END:VCALENDAR